Workbook

Sheet DA22TYA
J1: QT7.5/CTSV1-BM18
A2: ĐẠI HỌC TRÀ VINH | J2: CỘNG HOÀ XÃ HỘI CHỦ NGHĨA VIỆT NAM
A3: KHOA NÔNG NGHIỆP THỦY SẢN | J3: Độc lập - Tự do - Hạnh phúc
J5: Vĩnh Long, ngày 27 tháng 5 năm 2026
A6: BẢNG ĐÁNH GIÁ KẾT QUẢ RÈN LUYỆN CỦA SINH VIÊN, HỌC SINH
D7: Học kỳ: 1 Năm học: 2025 - 2026
D8: Tên lớp: ĐH Thú Y A 2022 , Bậc đào tạo: Đại học (DA22TYA)
D9: Khoá: 2022 ; Hệ đào tạo: Chính qui
A11: STT | B11: MSSV | C11: HỌ VÀ TÊN | E11: PHÁI | F11: N.SINH | G11: D.TỘC | H11: ĐÁNH GIÁ ĐIỂM RÈN LUYỆN | M11: TỔNG | N11: X.LOẠI | P11: GHI CHÚ
H12: TC1 | I12: TC2 | J12: TC3 | K12: TC4 | L12: TC5
A13: 1 | B13: 111322023 | C13: Diệp Quốc Hảo | E13: Nam | F13: 03/04/2004 | M13: 0 | N13: Kém
M14: =SUBTOTAL(9,H14:L14) -> 0
A15: 3 | B15: 111322041 | C15: Trương Tấn Khoa | E15: Nam | F15: 04/09/2004 | H15: 20 | I15: 25 | J15: 0 | K15: 19 | L15: 1 | M15: 65 | N15: Khá
A16: 4 | B16: 111322018 | C16: Phạm Đình Khánh Đoan | E16: Nữ | F16: 27/07/2004 | H16: 20 | I16: 25 | J16: 2 | K16: 17 | L16: 10 | M16: 74 | N16: Khá
M17: =SUBTOTAL(9,H17:L17) -> 0
A18: 6 | B18: 111322139 | C18: Lâm Bùi Nhất Duy | E18: Nam | F18: 15/07/2004 | H18: 16 | I18: 25 | J18: 0 | K18: 12 | L18: 0 | M18: 53 | N18: Trung bình
M19: =SUBTOTAL(9,H19:L19) -> 0
M20: =SUBTOTAL(9,H20:L20) -> 0
A21: 9 | B21: 111322124 | C21: Nguyễn Hải Long | E21: Nam | F21: 16/06/2004 | H21: 20 | I21: 25 | J21: 2 | K21: 16 | L21: 5 | M21: 68 | N21: Khá
M22: =SUBTOTAL(9,H22:L22) -> 0
M23: =SUBTOTAL(9,H23:L23) -> 0
A24: 12 | B24: 111322001 | C24: Nguyễn Phúc An | E24: Nam | F24: 08/05/2004 | H24: 20 | I24: 25 | J24: 0 | K24: 20 | L24: 2 | M24: 67 | N24: Khá
A25: 13 | B25: 111322007 | C25: Võ Gia Bảo | E25: Nam | F25: 17/04/2004 | H25: 20 | I25: 25 | J25: 0 | K25: 13 | L25: 10 | M25: 68 | N25: Khá
A26: 14 | B26: 111322015 | C26: Lâm Tiến Đạt | E26: Nam | F26: 28/07/2004 | H26: 20 | I26: 25 | J26: 5 | K26: 17 | L26: 2 | M26: 69 | N26: Khá
A27: 15 | B27: 111322046 | C27: Sầm Tuệ Mẫn | E27: Nữ | F27: 01/05/2004 | H27: 20 | I27: 25 | J27: 10 | K27: 16 | L27: 0 | M27: 71 | N27: Khá
M28: =SUBTOTAL(9,H28:L28) -> 0
M29: =SUBTOTAL(9,H29:L29) -> 0
A30: 18 | B30: 111322120 | C30: Lê Đình Hiển | E30: Nam | F30: 06/08/2004 | H30: 20 | I30: 25 | J30: 0 | K30: 21 | L30: 10 | M30: 76 | N30: Khá
M31: =SUBTOTAL(9,H31:L31) -> 0
M32: =SUBTOTAL(9,H32:L32) -> 0
A33: 21 | B33: 111322011 | C33: Phạm Lê Kim Cương | E33: Nữ | F33: 31/03/2004 | H33: 20 | I33: 25 | J33: 2 | K33: 15 | L33: 0 | M33: 62 | N33: Trung bình
A34: 22 | B34: 111322121 | C34: Huỳnh Tấn Hưng | E34: Nam | F34: 09/01/2004 | H34: 18 | I34: 25 | J34: 0 | K34: 22 | L34: 2 | M34: 67 | N34: Khá
A35: 23 | B35: 111322010 | C35: Nguyễn An Cư | E35: Nam | F35: 28/03/2004 | H35: 20 | I35: 25 | J35: 0 | K35: 20 | L35: 2 | M35: 67 | N35: Khá
A36: 24 | B36: 111322039 | C36: Lâm Hoàng Duy Khánh | E36: Nam | F36: 01/09/2004 | H36: 14 | I36: 25 | J36: 0 | K36: 16 | L36: 5 | M36: 60 | N36: Trung bình
A37: 25 | B37: 111322140 | C37: Thạch Phước Hảo | E37: Nam | F37: 17/02/2003 | H37: 18 | I37: 25 | J37: 12 | K37: 18 | L37: 2 | M37: 75 | N37: Khá
A38: 26 | B38: 111322028 | C38: Lê Nguyễn Thanh Hùng | E38: Nam | F38: 18/12/2004 | H38: 20 | I38: 25 | J38: 8 | K38: 9 | L38: 0 | M38: 62 | N38: Trung bình
A39: 27 | B39: 111322016 | C39: Kim Di | E39: Nam | F39: 10/05/2004 | H39: 20 | I39: 25 | J39: 2 | K39: 13 | L39: 5 | M39: 65 | N39: Khá
A40: 28 | B40: 111322142 | C40: Thạch Minh Hoàng | E40: Nam | F40: 03/04/2004 | H40: 20 | I40: 25 | J40: 4 | K40: 14 | L40: 2 | M40: 65 | N40: Khá
A41: 29 | B41: 111322135 | C41: Vũ Trần Mai Vy | E41: Nữ | F41: 30/05/2004 | H41: 20 | I41: 25 | J41: 0 | K41: 20 | L41: 1 | M41: 66 | N41: Khá
A42: 30 | B42: 111322006 | C42: Trần Hữu Bằng | E42: Nam | F42: 09/10/2003 | H42: 16 | I42: 25 | J42: 0 | K42: 11 | L42: 0 | M42: 52 | N42: Trung bình
...

Sheet DA22TYB
J1: QT7.5/CTSV1-BM18
A2: ĐẠI HỌC TRÀ VINH | J2: CỘNG HOÀ XÃ HỘI CHỦ NGHĨA VIỆT NAM
A3: KHOA NÔNG NGHIỆP THỦY SẢN | J3: Độc lập - Tự do - Hạnh phúc
J5: Vĩnh Long, ngày 26 tháng 8 năm 2026
A7: BẢNG ĐÁNH GIÁ KẾT QUẢ RÈN LUYỆN CỦA SINH VIÊN, HỌC SINH
D8: Học kỳ: 2 Năm học: 2025 - 2026
D9: Tên lớp: ĐH Thú Y B 2022 , Bậc đào tạo: Đại học (DA22TYB)
D10: Khoá: 2022 ; Hệ đào tạo: Chính qui
A12: STT | B12: MSSV | C12: HỌ VÀ TÊN | E12: PHÁI | F12: N.SINH | G12: D.TỘC | H12: ĐÁNH GIÁ ĐIỂM RÈN LUYỆN | M12: TỔNG | N12: X.LOẠI | P12: GHI CHÚ
H13: TC1 | I13: TC2 | J13: TC3 | K13: TC4 | L13: TC5
A14: 1 | B14: 111322076 | C14: Trà Duy Tân | E14: Nam | F14: 09/04/2004 | M14: 0 | N14: Kém
A15: 2 | B15: 111322101 | C15: Nguyễn Hữu Trọng | E15: Nam | F15: 11/05/2004 | M15: 0 | N15: Kém
A16: 3 | B16: 111322087 | C16: Trịnh Vương Quốc Thịnh | E16: Nam | F16: 01/11/2004 | M16: 0 | N16: Kém
A17: 4 | B17: 111322060 | C17: Huỳnh Thảo Nhân | E17: Nữ | F17: 11/05/2004 | H17: 20 | I17: 25 | J17: 10 | K17: 20 | L17: 10 | M17: 85 | N17: Tốt
A18: 5 | B18: 111322102 | C18: Nguyễn Thanh Trúc | E18: Nữ | F18: 21/08/2004 | H18: 20 | I18: 25 | J18: 13 | K18: 14 | L18: 5 | M18: 77 | N18: Khá
A19: 6 | B19: 111322067 | C19: Nguyễn Chí Phong | E19: Nam | F19: 29/12/2004 | H19: 20 | I19: 25 | J19: 18 | K19: 24 | L19: 10 | M19: 97 | N19: Xuất sắc
A20: 7 | B20: 111322062 | C20: Trần Lê Minh Nhật | E20: Nam | F20: 11/12/2004 | H20: 20 | I20: 25 | J20: 13 | K20: 14 | L20: 10 | M20: 82 | N20: Tốt
A21: 8 | B21: 111322070 | C21: Phạm Đăng Quí | E21: Nam | F21: 22/10/2004 | H21: 20 | I21: 25 | J21: 15 | K21: 17 | L21: 5 | M21: 82 | N21: Tốt
A22: 9 | B22: 111322086 | C22: Trần Gia Thịnh | E22: Nam | F22: 22/03/2004 | H22: 20 | I22: 25 | J22: 12 | K22: 14 | L22: 10 | M22: 81 | N22: Tốt
A23: 10 | B23: 111322072 | C23: Võ Hữu Quỳnh | E23: Nam | F23: 30/11/2004 | H23: 20 | I23: 25 | J23: 19 | K23: 14 | L23: 7 | M23: 85 | N23: Tốt
A24: 11 | B24: 111322090 | C24: Huỳnh Thị Minh Thư | E24: Nữ | F24: 21/03/2003 | H24: 20 | I24: 25 | J24: 20 | K24: 20 | L24: 7 | M24: 92 | N24: Xuất sắc
A25: 12 | B25: 111322091 | C25: Nguyễn Thị Ngọc Thư | E25: Nữ | F25: 29/08/2004 | H25: 20 | I25: 25 | J25: 20 | K25: 20 | L25: 10 | M25: 95 | N25: Xuất sắc
A26: 13 | B26: 111322085 | C26: Thang Hiếu Thiên | E26: Nam | F26: 07/11/2004 | H26: 20 | I26: 20 | J26: 19 | K26: 16 | L26: 5 | M26: 80 | N26: Tốt
A27: 14 | B27: 111322112 | C27: Trương Tường Vy | E27: Nữ | F27: 11/10/2004 | H27: 20 | I27: 25 | J27: 14 | K27: 14 | L27: 5 | M27: 78 | N27: Khá
A28: 15 | B28: 111322105 | C28: Phạm Vĩnh Tường | E28: Nam | F28: 01/06/2003 | H28: 20 | I28: 25 | J28: 13 | K28: 14 | L28: 5 | M28: 77 | N28: Khá
... A51: 38 | B51: 111322109 | C51: Trần Phú Vinh | E51: Nam | F51: 18/03/2004 | H51: 20 | I51: 25 | J51: 10 | K51: 8 | L51: 6 | M51: 69 | N51: Khá
A52: 39 | B52: 111322073 | C52: Bùi Tấn Tài | E52: Nam | F52: 07/08/2004 | M52: 0 | N52: Kém
A53: 40 | B53: 111322061 | C53: Lê Thành Nhân | E53: Nam | F53: 27/07/2004 | H53: 20 | I53: 25 | J53: 14 | K53: 14 | L53: 8 | M53: 81 | N53: Tốt
A54: 41 | B54: 111322049 | C54: Bùi Bảo Minh | E54: Nam | F54: 01/03/2003 | H54: 20 | I54: 25 | J54: 10 | K54: 14 | L54: 5 | M54: 74 | N54: Khá
A55: 42 | B55: 111322096 | C55: Nguyễn Thị Huyền Trân | E55: Nữ | F55: 10/05/2004 | H55: 20 | I55: 25 | J55: 20 | K55: 22 | L55: 10 | M55: 97 | N55: Xuất sắc
A56: 43 | B56: 111322103 | C56: Nguyễn Hoàng Tuấn Tú | E56: Nam | F56: 19/01/2004 | H56: 20 | I56: 25 | J56: 16 | K56: 14 | L56: 10 | M56: 85 | N56: Tốt
A57: 44 | B57: 111322149 | C57: Nguyễn Hữu Phát | E57: Nam | F57: 04/02/2004 | H57: 18 | I57: 25 | J57: 12 | K57: 22 | L57: 5 | M57: 82 | N57: Tốt
A58: 45 | B58: 111322080 | C58: Nguyễn Thị Vân Thanh | E58: Nữ | F58: 10/10/2004 | H58: 20 | I58: 25 | J58: 19 | K58: 12 | L58: 5 | M58: 81 | N58: Tốt
A59: 46 | B59: 111322057 | C59: Trần Duy Nguyễn | E59: Nam | F59: 12/01/2004 | H59: 20 | I59: 25 | J59: 19 | K59: 12 | L59: 5 | M59: 81 | N59: Tốt
A60: 47 | B60: 111322081 | C60: Trần Lâm Vũ Thanh | E60: Nam | F60: 14/01/2004 | H60: 20 | I60: 25 | J60: 15 | K60: 16 | L60: 6 | M60: 82 | N60: Tốt
A61: 48 | B61: 111322098 | C61: Phạm Huỳnh Hải Trân | E61: Nữ | F61: 14/10/2004 | H61: 20 | I61: 25 | J61: 14 | K61: 14 | L61: 5 | M61: 78 | N61: Khá
A62: 49 | B62: 111322107 | C62: Lê Quốc Vinh | E62: Nam | F62: 17/01/2004 | H62: 20 | I62: 20 | J62: 16 | K62: 14 | L62: 5 | M62: 75 | N62: Khá
A63: 50 | B63: 111322093 | C63: Phạm Chí Tình | E63: Nam | F63: 10/04/2002 | H63: 16 | I63: 20 | J63: 0 | K63: 3 | L63: 0 | M63: 39 | N63: Yếu
A64: 51 | B64: 111322094 | C64: Nguyễn Lê Bảo Trâm | E64: Nữ | F64: 11/08/2004 | H64: 20 | I64: 25 | J64: 14 | K64: 14 | L64: 4 | M64: 77 | N64: Khá
A65: 52 | B65: 111322104 | C65: Nguyễn Thị Nhả Tú | E65: Nữ | F65: 22/10/2004 | M65: 0 | N65: Kém
...

Sheet DA22CNSH
J1: QT7.5/CTSV1-BM18
A2: ĐẠI HỌC TRÀ VINH | J2: CỘNG HOÀ XÃ HỘI CHỦ NGHĨA VIỆT NAM
A3: KHOA NÔNG NGHIỆP THỦY SẢN | J3: Độc lập - Tự do - Hạnh phúc
J5: Vĩnh Long, ngày 26 tháng 8 năm 2026
A7: BẢNG ĐÁNH GIÁ KẾT QUẢ RÈN LUYỆN CỦA SINH VIÊN, HỌC SINH
D8: Học kỳ: 2 Năm học: 2025 - 2026
D9: Tên lớp: ĐH Công nghệ Sinh học 2022 , Bậc đào tạo: Đại học (DA22CNSH)
D10: Khoá: 2022 ; Hệ đào tạo: Chính qui
A12: STT | B12: MSSV | C12: HỌ VÀ TÊN | E12: PHÁI | F12: N.SINH | G12: D.TỘC | H12: ĐÁNH GIÁ ĐIỂM RÈN LUYỆN | M12: TỔNG | N12: X.LOẠI | P12: GHI CHÚ
H13: TC1 | I13: TC2 | J13: TC3 | K13: TC4 | L13: TC5
A14: 1 | B14: 117722006 | C14: Trần Hữu Hậu | E14: Nam | F14: 24/12/2004 | H14: 20 | I14: 25 | J14: 10 | K14: 9 | L14: 6 | M14: 70 | N14: Khá
A15: 2 | B15: 117722001 | C15: Nguyễn Viết Khánh Hưng | E15: Nam | F15: 10/12/2004 | H15: 20 | I15: 25 | J15: 16 | K15: 11 | L15: 10 | M15: 82 | N15: Tốt
A16: 3 | B16: 117722004 | C16: Lê Thị Phương Thảo | E16: Nữ | F16: 27/12/2004 | H16: 20 | I16: 25 | J16: 0 | K16: 19 | L16: 10 | M16: 74 | N16: Khá
A17: 4 | B17: 117722007 | C17: Huỳnh Hải Long | E17: Nam | F17: 09/06/2004 | H17: 20 | I17: 25 | J17: 12 | K17: 13 | L17: 10 | M17: 80 | N17: Tốt
A18: 5 | B18: 117722007 | C18: Huỳnh Hải Long | E18: Nam | F18: 09/06/2004 | M18: 0 | N18: Kém
A19: 6 | B19: 117722007 | C19: Huỳnh Hải Long | E19: Nam | F19: 09/06/2004 | M19: 0 | N19: Kém
A20: 7 | B20: 117722007 | C20: Huỳnh Hải Long | E20: Nam | F20: 09/06/2004 | M20: 0 | N20: Kém
A21: 8 | B21: 117722007 | C21: Huỳnh Hải Long | E21: Nam | F21: 09/06/2004 | M21: 0 | N21: Kém
A22: 9 | B22: 117722007 | C22: Huỳnh Hải Long | E22: Nam | F22: 09/06/2004 | M22: 0 | N22: Kém
A25: Danh sách trên có: 09 sinh viên | J25: TM. HỘI ĐỒNG XÉT ĐIỂM RÈN LUYỆN
J26: CHỦ TỊCH HỘI ĐỒNG
H33: xs | I33: tốt | J33: khá | K33: tb | L33: yếu | M33: kém
G34: =SUM(H34:M34) -> 9 | H34: =COUNTIF(N14:O22,"xuất sắc") -> 0 | I34: =COUNTIF(N14:O22,"tốt") -> 2 | J34: =COUNTIF(N14:O22,"khá") -> 2 | K34: =COUNTIF(N14:O22,"trung bình") -> 0 | L34: =COUNTIF(N14:O22,"yếu") -> 0 | M34: =COUNTIF(N14:O22,"kém") -> 5

Sheet DA22TSA
J1: QT7.5/CTSV1-BM18
A2: ĐẠI HỌC TRÀ VINH | J2: CỘNG HOÀ XÃ HỘI CHỦ NGHĨA VIỆT NAM
A3: KHOA NÔNG NGHIỆP THỦY SẢN | J3: Độc lập - Tự do - Hạnh phúc
J5: Vĩnh Long, ngày 26 tháng 8 năm 2026
A7: BẢNG ĐÁNH GIÁ KẾT QUẢ RÈN LUYỆN CỦA SINH VIÊN, HỌC SINH
D8: Học kỳ: 2 Năm học: 2025 - 2026
D9: Tên lớp: ĐH Nuôi trồng Thủy sản A 2022 , Bậc đào tạo: Đại học (DA22TSA)
D10: Khoá: 2022 ; Hệ đào tạo: Chính qui
A12: STT | B12: MSSV | C12: HỌ VÀ TÊN | E12: PHÁI | F12: N.SINH | G12: D.TỘC | H12: ĐÁNH GIÁ ĐIỂM RÈN LUYỆN | M12: TỔNG | N12: X.LOẠI | P12: GHI CHÚ
H13: TC1 | I13: TC2 | J13: TC3 | K13: TC4 | L13: TC5
A14: 1 | B14: 110322043 | C14: Phan Quốc Kiệt | E14: Nam | F14: 21/05/2004 | M14: 0 | N14: Kém
A15: 2 | B15: 110322024 | C15: Trần Trường Giang | E15: Nam | F15: 29/03/2004 | H15: 20 | I15: 25 | J15: 17 | K15: 24 | L15: 10 | M15: 96 | N15: Xuất sắc
A16: 3 | B16: 110322025 | C16: Nguyễn Ngọc Hân | E16: Nữ | F16: 03/03/2004 | H16: 20 | I16: 25 | J16: 12 | K16: 20 | L16: 5 | M16: 82 | N16: Tốt
A17: 4 | B17: 110322029 | C17: Trương Huy Hoàng | E17: Nam | F17: 09/01/2004 | H17: 20 | I17: 25 | J17: 12 | K17: 25 | L17: 9 | M17: 91 | N17: Xuất sắc
A18: 5 | B18: 110320003 | C18: Trương Văn Điều | E18: Nam | F18: 30/11/2001 | H18: 16 | I18: 25 | J18: 10 | K18: 12 | L18: 7 | M18: 70 | N18: Khá
A19: 6 | B19: 110322063 | C19: Trần Thúy Oanh | E19: Nữ | F19: 20/04/2001 | H19: 20 | I19: 25 | J19: 10 | K19: 22 | L19: 3 | M19: 80 | N19: Tốt
A20: 7 | B20: 110322105 | C20: Võ Ngọc Tuyền | E20: Nữ | F20: 22/04/2004 | H20: 20 | I20: 25 | J20: 17 | K20: 20 | L20: 10 | M20: 92 | N20: Xuất sắc
A21: 8 | B21: 110322104 | C21: Phùng Thị Trình Trình | E21: Nữ | F21: 09/07/2004 | H21: 18 | I21: 25 | J21: 10 | K21: 12 | L21: 0 | M21: 65 | N21: Khá
A22: 9 | B22: 110322036 | C22: Bùi Đăng Khoa | E22: Nam | F22: 25/08/2004 | H22: 16 | I22: 25 | J22: 10 | K22: 14 | L22: 0 | M22: 65 | N22: Khá
A23: 10 | B23: 110322026 | C23: Nguyễn Ngọc Hân | E23: Nữ | F23: 25/03/2004 | H23: 20 | I23: 25 | J23: 10 | K23: 12 | L23: 0 | M23: 67 | N23: Khá
A24: 11 | B24: 110322034 | C24: Bùi Tuấn Khanh | E24: Nam | F24: 22/05/2004 | H24: 20 | I24: 25 | J24: 10 | K24: 16 | L24: 0 | M24: 71 | N24: Khá
A25: 12 | B25: 110322014 | C25: Huỳnh Thị Phương Du | E25: Nữ | F25: 20/08/2004 | H25: 18 | I25: 25 | J25: 12 | K25: 14 | L25: 1 | M25: 70 | N25: Khá
A26: 13 | B26: 110322004 | C26: Sơn Thị Kim Anh | E26: Nữ | F26: 01/03/2004 | H26: 20 | I26: 25 | J26: 10 | K26: 12 | L26: 0 | M26: 67 | N26: Khá
... A59: 46 | B59: 110322054 | C59: Bùi Thanh Ngàn | E59: Nam | F59: 21/11/2004 | H59: 18 | I59: 25 | J59: 10 | K59: 12 | L59: 0 | M59: 65 | N59: Khá
A62: Danh sách trên có: 46 sinh viên | J62: TM. HỘI ĐỒNG XÉT ĐIỂM RÈN LUYỆN
J63: CHỦ TỊCH HỘI ĐỒNG
H71: xs | I71: tốt | J71: khá | K71: tb | L71: yếu | M71: kém
G72: =SUM(H72:M72) -> 46 | H72: =COUNTIF(N14:O59,"xuất sắc") -> 4 | I72: =COUNTIF(N14:O59,"tốt") -> 3 | J72: =COUNTIF(N14:O59,"khá") -> 38 | K72: =COUNTIF(N14:O59,"trung bình") -> 0 | L72: =COUNTIF(N14:O59,"yếu") -> 0 | M72: =COUNTIF(N14:O59,"kém") -> 1

Sheet DA22TSB
J1: QT7.5/CTSV1-BM18
A2: ĐẠI HỌC TRÀ VINH | J2: CỘNG HOÀ XÃ HỘI CHỦ NGHĨA VIỆT NAM
A3: KHOA NÔNG NGHIỆP THỦY SẢN | J3: Độc lập - Tự do - Hạnh phúc
J5: Vĩnh Long, ngày 26 tháng 8 năm 2026
A7: BẢNG ĐÁNH GIÁ KẾT QUẢ RÈN LUYỆN CỦA SINH VIÊN, HỌC SINH
D8: Học kỳ: 2 Năm học: 2025 - 2026
D9: Tên lớp: ĐH Nuôi trồng Thủy sản B 2022 , Bậc đào tạo: Đại học (DA22TSB)
D10: Khoá: 2022 ; Hệ đào tạo: Chính qui
A12: STT | B12: MSSV | C12: HỌ VÀ TÊN | E12: PHÁI | F12: N.SINH | G12: D.TỘC | H12: ĐÁNH GIÁ ĐIỂM RÈN LUYỆN | M12: TỔNG | N12: X.LOẠI | P12: GHI CHÚ
H13: TC1 | I13: TC2 | J13: TC3 | K13: TC4 | L13: TC5
A14: 1 | B14: 110322077 | C14: Nguyễn Thị Huyền Trân | E14: Nữ | F14: 30/10/2004 | H14: 20 | I14: 25 | J14: 15 | K14: 13 | L14: 10 | M14: 83 | N14: Tốt
A15: 2 | B15: 110322097 | C15: Mai Ngọc Duyên | E15: Nữ | F15: 14/07/2004 | H15: 20 | I15: 25 | J15: 17 | K15: 25 | L15: 5 | M15: 92 | N15: Xuất sắc
A16: 3 | B16: 110322056 | C16: Kim Thị Nguyên | E16: Nữ | F16: 24/12/2003 | H16: 20 | I16: 25 | J16: 10 | K16: 20 | L16: 2 | M16: 77 | N16: Khá
A17: 4 | B17: 110322059 | C17: Nguyễn Thị Thanh Nhanh | E17: Nữ | F17: 09/10/2004 | H17: 20 | I17: 25 | J17: 10 | K17: 17 | L17: 0 | M17: 72 | N17: Khá
A18: 5 | B18: 110322052 | C18: Đinh Công Nhật Minh | E18: Nam | F18: 19/04/2004 | H18: 20 | I18: 25 | J18: 15 | K18: 16 | L18: 10 | M18: 86 | N18: Tốt
A19: 6 | B19: 110322008 | C19: Nguyễn Quốc Chí | E19: Nam | F19: 24/04/2004 | H19: 18 | I19: 25 | J19: 10 | K19: 12 | L19: 4 | M19: 69 | N19: Khá
A20: 7 | B20: 110322084 | C20: Nguyễn Quốc Vẹn | E20: Nam | F20: 23/03/2004 | H20: 18 | I20: 25 | J20: 10 | K20: 12 | L20: 0 | M20: 65 | N20: Khá
A21: 8 | B21: 110322061 | C21: Huỳnh Như | E21: Nữ | F21: 18/05/2002 | H21: 20 | I21: 25 | J21: 20 | K21: 21 | L21: 10 | M21: 96 | N21: Xuất sắc
A22: 9 | B22: 110322050 | C22: Trầm Cao Tiểu Mi | E22: Nữ | F22: 10/09/2004 | H22: 20 | I22: 25 | J22: 10 | K22: 14 | L22: 0 | M22: 69 | N22: Khá
A23: 10 | B23: 110322086 | C23: Diệp Quang Vinh | E23: Nam | F23: 03/02/2004 | H23: 18 | I23: 25 | J23: 15 | K23: 14 | L23: 1 | M23: 73 | N23: Khá
A24: 11 | B24: 110322093 | C24: Sơn Đông Đầy | E24: Nam | F24: 09/02/2004 | H24: 20 | I24: 25 | J24: 15 | K24: 25 | L24: 5 | M24: 90 | N24: Xuất sắc
A25: 12 | B25: 110322087 | C25: Lâm Trường Vinh | E25: Nam | F25: 29/01/2004 | H25: 20 | I25: 25 | J25: 20 | K25: 25 | L25: 5 | M25: 95 | N25: Xuất sắc
... A49: 36 | B49: 110322099 | C49: Hà Quốc Kiệt | E49: Nam | F49: 29/09/2004 | H49: 18 | I49: 25 | J49: 10 | K49: 12 | L49: 0 | M49: 65 | N49: Khá
A50: 37 | B50: 110322074 | C50: Trầm Bửu Toàn | E50: Nam | F50: 24/02/2004 | M50: 0 | N50: Kém
A51: 38 | B51: 110322048 | C51: Lê Tấn Lợi | E51: Nam | F51: 20/03/2004 | M51: 0 | N51: Kém
A54: Danh sách trên có: 38 sinh viên | J54: TM. HỘI ĐỒNG XÉT ĐIỂM RÈN LUYỆN
J55: CHỦ TỊCH HỘI ĐỒNG
H63: xs | I63: tốt | J63: khá | K63: tb | L63: yếu | M63: kém
G64: =SUM(H64:M64) -> 38 | H64: =COUNTIF(N14:O51,"xuất sắc") -> 4 | I64: =COUNTIF(N14:O51,"tốt") -> 5 | J64: =COUNTIF(N14:O51,"khá") -> 27 | K64: =COUNTIF(N14:O51,"trung bình") -> 0 | L64: =COUNTIF(N14:O51,"yếu") -> 0 | M64: =COUNTIF(N14:O51,"kém") -> 2

Sheet DA22KTCT
J1: QT7.5/CTSV1-BM18
A2: ĐẠI HỌC TRÀ VINH | J2: CỘNG HOÀ XÃ HỘI CHỦ NGHĨA VIỆT NAM
A3: KHOA NÔNG NGHIỆP THỦY SẢN | J3: Độc lập - Tự do - Hạnh phúc
J5: Vĩnh Long, ngày 26 tháng 8 năm 2026
A7: BẢNG ĐÁNH GIÁ KẾT QUẢ RÈN LUYỆN CỦA SINH VIÊN, HỌC SINH
D8: Học kỳ: 2 Năm học: 2025 - 2026
D9: Tên lớp: ĐH Kỹ thuật Cây trồng 2022 , Bậc đào tạo: Đại học (DA22KTCT)
D10: Khoá: 2022 ; Hệ đào tạo: Chính qui
A12: STT | B12: MSSV | C12: HỌ VÀ TÊN | E12: PHÁI | F12: N.SINH | G12: D.TỘC | H12: ĐÁNH GIÁ ĐIỂM RÈN LUYỆN | M12: TỔNG | N12: X.LOẠI | P12: GHI CHÚ
H13: TC1 | I13: TC2 | J13: TC3 | K13: TC4 | L13: TC5
A14: 1 | B14: 114722012 | C14: Thạch Khánh Nguyên | E14: Nam | F14: 27/01/2004 | M14: 0 | N14: Kém
A15: 2 | B15: 114722004 | C15: Bùi Phúc Duy Chương | E15: Nam | F15: 03/11/2004 | H15: 20 | I15: 25 | J15: 15 | K15: 25 | L15: 10 | M15: 95 | N15: Xuất sắc
A16: 3 | B16: 114722009 | C16: Huỳnh Quốc Huy | E16: Nam | F16: 04/11/2004 | H16: 20 | I16: 25 | J16: 13 | K16: 25 | L16: 8 | M16: 91 | N16: Xuất sắc
A17: 4 | B17: 114722016 | C17: Võ Thanh Phú | E17: Nam | F17: 17/02/2004 | H17: 20 | I17: 20 | J17: 13 | K17: 19 | L17: 10 | M17: 82 | N17: Tốt
A18: 5 | B18: 114722027 | C18: Thạch Hữu Khang | E18: Nam | F18: 30/04/2004 | H18: 18 | I18: 20 | J18: 17 | K18: 21 | L18: 4 | M18: 80 | N18: Tốt
A19: 6 | B19: 114722018 | C19: Võ Hoàng Phương | E19: Nam | F19: 15/01/2004 | H19: 20 | I19: 25 | J19: 0 | K19: 24 | L19: 0 | M19: 69 | N19: Khá
A20: 7 | B20: 114722010 | C20: Trần Thế Khang | E20: Nam | F20: 13/03/2004 | H20: 20 | I20: 22 | J20: 10 | K20: 13 | L20: 5 | M20: 70 | N20: Khá
A21: 8 | B21: 114722025 | C21: Nguyễn Thị Thanh Vân | E21: Nữ | F21: 03/10/2004 | H21: 20 | I21: 25 | J21: 20 | K21: 25 | L21: 10 | M21: 100 | N21: Xuất sắc
A22: 9 | B22: 114722029 | C22: Chau Mi Na | E22: Nam | F22: 30/03/2004 | H22: 20 | I22: 25 | J22: 10 | K22: 25 | L22: 5 | M22: 85 | N22: Tốt
A23: 10 | B23: 114722015 | C23: Trịnh Minh Nhựt | E23: Nam | F23: 13/03/2004 | H23: 20 | I23: 25 | J23: 17 | K23: 25 | L23: 10 | M23: 97 | N23: Xuất sắc
A24: 11 | B24: 114722017 | C24: Trần Minh Phụng | E24: Nam | F24: 27/09/2004 | H24: 20 | I24: 25 | J24: 16 | K24: 25 | L24: 10 | M24: 96 | N24: Xuất sắc
A25: 12 | B25: 114722019 | C25: Nguyễn Thành Sơn | E25: Nam | F25: 17/09/2004 | H25: 20 | I25: 25 | J25: 13 | K25: 25 | L25: 0 | M25: 83 | N25: Tốt
A26: 13 | B26: 114722014 | C26: Huỳnh Phạm Minh Nhựt | E26: Nam | F26: 24/01/2004 | H26: 20 | I26: 20 | J26: 10 | K26: 24 | L26: 0 | M26: 74 | N26: Khá
... A30: 17 | B30: 114722007 | C30: Trần Thị Ngọc Hân | E30: Nữ | F30: 02/07/2004 | H30: 20 | I30: 25 | J30: 12 | K30: 25 | L30: 5 | M30: 87 | N30: Tốt
A33: Danh sách trên có: 17 sinh viên | J33: TM. HỘI ĐỒNG XÉT ĐIỂM RÈN LUYỆN
J34: CHỦ TỊCH HỘI ĐỒNG
H39: xs | I39: tốt | J39: khá | K39: tb | L39: yếu | M39: kém
G40: =SUM(H40:M40) -> 17 | H40: =COUNTIF(N14:O30,"xuất sắc") -> 5 | I40: =COUNTIF(N14:O30,"tốt") -> 7 | J40: =COUNTIF(N14:O30,"khá") -> 4 | K40: =COUNTIF(N14:O30,"trung bình") -> 0 | L40: =COUNTIF(N14:O30,"yếu") -> 0 | M40: =COUNTIF(N14:O30,"kém") -> 1

Sheet DA22CNTP
J1: QT7.5/CTSV1-BM18
A2: ĐẠI HỌC TRÀ VINH | J2: CỘNG HOÀ XÃ HỘI CHỦ NGHĨA VIỆT NAM
A3: KHOA NÔNG NGHIỆP THỦY SẢN | J3: Độc lập - Tự do - Hạnh phúc
J5: Vĩnh Long, ngày 26 tháng 8 năm 2026
A7: BẢNG ĐÁNH GIÁ KẾT QUẢ RÈN LUYỆN CỦA SINH VIÊN, HỌC SINH
D8: Học kỳ: 2 Năm học: 2025 - 2026
D9: Tên lớp: ĐH Công nghệ thực phẩm 2022 , Bậc đào tạo: Đại học (DA22CNTP)
D10: Khoá: 2022 ; Hệ đào tạo: Chính qui
A12: STT | B12: MSSV | C12: HỌ VÀ TÊN | E12: PHÁI | F12: N.SINH | G12: D.TỘC | H12: ĐÁNH GIÁ ĐIỂM RÈN LUYỆN | M12: TỔNG | N12: X.LOẠI | P12: GHI CHÚ
H13: TC1 | I13: TC2 | J13: TC3 | K13: TC4 | L13: TC5
A14: 1 | B14: 116222008 | C14: Hứa Trần Đức Khang | E14: Nam | F14: 22/11/2004 | M14: 0 | N14: Kém
A15: 2 | B15: 116222013 | C15: Kim Thị Ngọc Mai | E15: Nữ | F15: 28/07/2004 | H15: 20 | I15: 25 | J15: 15 | K15: 24 | L15: 10 | M15: 94 | N15: Xuất sắc
A16: 3 | B16: 116222034 | C16: Nguyễn Thị Huyền Trân | E16: Nữ | F16: 06/09/2004 | H16: 20 | I16: 25 | J16: 20 | K16: 25 | L16: 10 | M16: 100 | N16: Xuất sắc
A17: 4 | B17: 116222023 | C17: Huỳnh Thị Tố Quyên | E17: Nữ | F17: 30/01/2004 | H17: 20 | I17: 25 | J17: 20 | K17: 25 | L17: 10 | M17: 100 | N17: Xuất sắc
A18: 5 | B18: 116222029 | C18: Nguyễn Thị Ngọc Thơ | E18: Nữ | F18: 20/12/2004 | H18: 20 | I18: 25 | J18: 15 | K18: 25 | L18: 10 | M18: 95 | N18: Xuất sắc
A19: 6 | B19: 116222014 | C19: Trà Thị Xuân Ngà | E19: Nữ | F19: 28/07/2004 | H19: 20 | I19: 25 | J19: 20 | K19: 25 | L19: 10 | M19: 100 | N19: Xuất sắc
A20: 7 | B20: 116222017 | C20: Hồ Thị Yến Nhi | E20: Nữ | F20: 14/11/2004 | H20: 20 | I20: 25 | J20: 16 | K20: 25 | L20: 10 | M20: 96 | N20: Xuất sắc
A21: 8 | B21: 116222035 | C21: Trương Thị Mỹ Trinh | E21: Nữ | F21: 14/10/2004 | H21: 20 | I21: 25 | J21: 20 | K21: 25 | L21: 7 | M21: 97 | N21: Xuất sắc
A22: 9 | B22: 116222012 | C22: Nguyễn Hoàng Lâm | E22: Nam | F22: 13/04/2004 | H22: 20 | I22: 25 | J22: 15 | K22: 20 | L22: 6 | M22: 86 | N22: Tốt
A23: 10 | B23: 116222032 | C23: Nguyễn Thị Kiều Tiên | E23: Nữ | F23: 10/03/2004 | H23: 20 | I23: 25 | J23: 15 | K23: 20 | L23: 7 | M23: 87 | N23: Tốt
A24: 11 | B24: 116222019 | C24: Hà Thị Tuyết Nhung | E24: Nữ | F24: 11/04/2004 | H24: 20 | I24: 25 | J24: 15 | K24: 20 | L24: 7 | M24: 87 | N24: Tốt
A25: 12 | B25: 116222002 | C25: Nguyễn Thị Ngọc Bích | E25: Nữ | F25: 23/10/2004 | H25: 20 | I25: 25 | J25: 15 | K25: 25 | L25: 7 | M25: 92 | N25: Xuất sắc
A26: 13 | B26: 116222040 | C26: Trần Thị Hồng Nhi | E26: Nữ | F26: 04/08/2004 | H26: 20 | I26: 25 | J26: 19 | K26: 20 | L26: 7 | M26: 91 | N26: Xuất sắc
... A43: 30 | B43: 116222025 | C43: Võ Văn Quyến | E43: Nam | F43: 17/07/2004 | H43: 16 | I43: 25 | J43: 2 | K43: 13 | L43: 3 | M43: 59 | N43: Trung bình
A46: Danh sách trên có: 30 sinh viên | J46: TM. HỘI ĐỒNG XÉT ĐIỂM RÈN LUYỆN
J47: CHỦ TỊCH HỘI ĐỒNG
I53: xs | J53: tốt | K53: khá | L53: tb | M53: yếu | N53: kém
H54: =SUM(I54:N54) -> 30 | I54: =COUNTIF(N14:O43,"xuất sắc") -> 12 | J54: =COUNTIF(N14:O43,"tốt") -> 12 | K54: =COUNTIF(N14:O43,"khá") -> 4 | L54: =COUNTIF(N14:O43,"trung bình") -> 1 | M54: =COUNTIF(N14:O43,"yếu") -> 0 | N54: =COUNTIF(N14:O43,"kém") -> 1

Sheet THONG KE
A1: Tt | B1: Lớp | C1: Cố vấn học tập | D1: Sĩ số | J1: Nghỉ/ Bảo lưu | K1: Thực học
D2: Tổng | E2: XS | F2: Tốt | G2: Khá | H2: TB | I2: Yếu
A3: 4 | B3: DA22TYA | C3: Nguyễn Văn Vui | D3: =SUM(E3:J3) -> 38 | E3: =DA22TYA!I81 -> 0 | F3: =DA22TYA!J81 -> 0 | G3: =DA22TYA!K81 -> 27 | H3: =DA22TYA!L81 -> 10 | I3: =DA22TYA!M81 -> 0 | J3: =DA22TYA!N81 -> 1 | K3: =D3-J3 -> 37
A4: 5 | B4: DA22TYB | C4: Nguyễn Thị Kim Quyên | D4: =SUM(E4:J4) -> 53 | E4: =DA22TYB!H83 -> 10 | F4: =DA22TYB!I83 -> 18 | G4: =DA22TYB!J83 -> 14 | H4: =DA22TYB!K83 -> 3 | I4: =DA22TYB!L83 -> 1 | J4: =DA22TYB!M83 -> 7 | K4: =D4-J4 -> 46
A5: 6 | B5: DA23TYA | C5: Thái Thị Thanh Trọn | D5: =SUM(E5:J5) -> 35 | E5: =DA23TYA!I62 -> 20 | F5: =DA23TYA!J62 -> 6 | G5: =DA23TYA!K62 -> 8 | H5: =DA23TYA!L62 -> 1 | I5: =DA23TYA!M62 -> 0 | J5: =DA23TYA!N62 -> 0 | K5: =D5-J5 -> 35
A6: 7 | B6: DA23TYB | C6: Ngô Văn Nin | D6: =SUM(E6:J6) -> 41 | E6: =DA23TYB!I66 -> 8 | F6: =DA23TYB!J66 -> 24 | G6: =DA23TYB!K66 -> 4 | H6: =DA23TYB!L66 -> 0 | I6: =DA23TYB!M66 -> 0 | J6: =DA23TYB!N66 -> 5 | K6: =D6-J6 -> 36
A7: 8 | B7: DA23TYC | C7: Nhan Hoài Phong | D7: =SUM(E7:J7) -> 35 | E7: =DA23TYC!I58 -> 3 | F7: =DA23TYC!J58 -> 21 | G7: =DA23TYC!K58 -> 10 | H7: =DA23TYC!L58 -> 0 | I7: =DA23TYC!M58 -> 0 | J7: =DA23TYC!N58 -> 1 | K7: =D7-J7 -> 34
A8: 9 | B8: DA24TYA | C8: Kim Nàng | D8: =SUM(E8:J8) -> 41 | E8: =DA24TYA!H65 -> 6 | F8: =DA24TYA!I65 -> 16 | G8: =DA24TYA!J65 -> 12 | H8: =DA24TYA!K65 -> 7 | I8: =DA24TYA!L65 -> 0 | J8: =DA24TYA!M65 -> 0 | K8: =D8-J8 -> 41
A9: 10 | B9: DA24TYB | C9: Nguyễn Thùy Linh | D9: =SUM(E9:J9) -> 44 | E9: =DA24TYB!H72 -> 9 | F9: =DA24TYB!I72 -> 11 | G9: =DA24TYB!J72 -> 15 | H9: =DA24TYB!K72 -> 4 | I9: =DA24TYB!L72 -> 0 | J9: =DA24TYB!M72 -> 5 | K9: =D9-J9 -> 39
A10: 11 | B10: DA24TYC | C10: Lý Thị Thu Lan | D10: =SUM(E10:J10) -> 46 | E10: =DA24TYC!H72 -> 7 | F10: =DA24TYC!I72 -> 9 | G10: =DA24TYC!J72 -> 7 | H10: =DA24TYC!K72 -> 0 | I10: =DA24TYC!L72 -> 0 | J10: =DA24TYC!M72 -> 23 | K10: =D10-J10 -> 23
A11: 12 | B11: DA25TYA | C11: Châu Công Đáng | D11: =SUM(E11:J11) -> 59 | E11: =DA25TYA!I86 -> 14 | F11: =DA25TYA!J86 -> 20 | G11: =DA25TYA!K86 -> 12 | H11: =DA25TYA!L86 -> 4 | I11: =DA25TYA!M86 -> 0 | J11: =DA25TYA!N86 -> 9 | K11: =D11-J11 -> 50
A12: 13 | B12: DA25TYB | C12: Huỳnh Thanh Tân | D12: =SUM(E12:J12) -> 55 | E12: =DA25TYB!I82 -> 11 | F12: =DA25TYB!J82 -> 11 | G12: =DA25TYB!K82 -> 30 | H12: =DA25TYB!L82 -> 0 | I12: =DA25TYB!M82 -> 0 | J12: =DA25TYB!N82 -> 3 | K12: =D12-J12 -> 52
A13: 14 | B13: DA25TYC | C13: Trương Văn Hiểu | D13: =SUM(E13:J13) -> 48 | E13: =DA25TYC!I78 -> 10 | F13: =DA25TYC!J78 -> 13 | G13: =DA25TYC!K78 -> 11 | H13: =DA25TYC!L78 -> 9 | I13: =DA25TYC!M78 -> 0 | J13: =DA25TYC!N78 -> 5 | K13: =D13-J13 -> 43
A14: 15 | B14: DA22CNSH | C14: Nghị Khắc Nhu | D14: =SUM(E14:J14) -> 9 | E14: =DA22CNSH!H34 -> 0 | F14: =DA22CNSH!I34 -> 2 | G14: =DA22CNSH!J34 -> 2 | H14: =DA22CNSH!K34 -> 0 | I14: =DA22CNSH!L34 -> 0 | J14: =DA22CNSH!M34 -> 5 | K14: =D14-J14 -> 4
A15: 16 | B15: DA23CNSH | C15: Lê Quốc Duy | D15: =SUM(E15:J15) -> 8 | E15: =DA23CNSH!I33 -> 5 | F15: =DA23CNSH!J33 -> 3 | G15: =DA23CNSH!K33 -> 0 | H15: =DA23CNSH!L33 -> 0 | I15: =DA23CNSH!M33 -> 0 | J15: =DA23CNSH!N33 -> 0 | K15: =D15-J15 -> 8
A16: 17 | B16: DA24CNSH | C16: Nguyễn Phương Thúy | D16: =SUM(E16:J16) -> 12 | E16: =DA24CNSH!G37 -> 4 | F16: =DA24CNSH!H37 -> 5 | G16: =DA24CNSH!I37 -> 0 | H16: =DA24CNSH!J37 -> 1 | I16: =DA24CNSH!K37 -> 0 | J16: =DA24CNSH!L37 -> 2 | K16: =D16-J16 -> 10
A17: 18 | B17: DA25CNSH | C17: Nguyễn Nhật Nam | D17: =SUM(E17:J17) -> 26 | E17: =DA25CNSH!I52 -> 6 | F17: =DA25CNSH!J52 -> 6 | G17: =DA25CNSH!K52 -> 5 | H17: =DA25CNSH!L52 -> 2 | I17: =DA25CNSH!M52 -> 3 | J17: =DA25CNSH!N52 -> 4 | K17: =D17-J17 -> 22
A18: 19 | B18: DA22KTCT | C18: Nguyễn Hoàng Xuân Thảo | D18: =SUM(E18:J18) -> 17 | E18: =DA22KTCT!H40 -> 5 | F18: =DA22KTCT!I40 -> 7 | G18: =DA22KTCT!J40 -> 4 | H18: =DA22KTCT!K40 -> 0 | I18: =DA22KTCT!L40 -> 0 | J18: =DA22KTCT!M40 -> 1 | K18: =D18-J18 -> 16
A19: 20 | B19: DA23KTCT | C19: Lê Thị Nghĩa | D19: =SUM(E19:J19) -> 20 | E19: =DA23KTCT!H48 -> 8 | F19: =DA23KTCT!I48 -> 5 | G19: =DA23KTCT!J48 -> 6 | H19: =DA23KTCT!K48 -> 1 | I19: =DA23KTCT!L48 -> 0 | J19: =DA23KTCT!M48 -> 0 | K19: =D19-J19 -> 20
A20: 21 | B20: DA24NN | C20: Lưu Thị Thúy Hải | D20: =SUM(E20:J20) -> 18 | E20: =DA25NN!I43 -> 5 | F20: =DA25NN!J43 -> 4 | G20: =DA25NN!K43 -> 2 | H20: =DA25NN!L43 -> 1 | I20: =DA25NN!M43 -> 0 | J20: =DA25NN!N43 -> 6 | K20: =D20-J20 -> 12
A21: 22 | B21: DA24BVTV | C21: Sơn Thị Thanh Nga | D21: =SUM(E21:J21) -> 6 | E21: =DA24BVTV!J35 -> 0 | F21: =DA24BVTV!K35 -> 1 | G21: =DA24BVTV!L35 -> 4 | H21: =DA24BVTV!M35 -> 0 | I21: =DA24BVTV!N35 -> 0 | J21: =DA24BVTV!O35 -> 1 | K21: =D21-J21 -> 5
A22: 23 | B22: DA25NN | C22: Lâm Quốc Nam | D22: =SUM(E22:J22) -> 18 | E22: =DA25NN!I43 -> 5 | F22: =DA25NN!J43 -> 4 | G22: =DA25NN!K43 -> 2 | H22: =DA25NN!L43 -> 1 | I22: =DA25NN!M43 -> 0 | J22: =DA25NN!N43 -> 6 | K22: =D22-J22 -> 12
A23: 24 | B23: DA25BVTV | C23: Nguyễn Hồng Ửng | D23: =SUM(E23:J23) -> 16 | E23: =DA25BVTV!I40 -> 2 | F23: =DA25BVTV!J40 -> 6 | G23: =DA25BVTV!K40 -> 5 | H23: =DA25BVTV!L40 -> 0 | I23: =DA25BVTV!M40 -> 0 | J23: =DA25BVTV!N40 -> 3 | K23: =D23-J23 -> 13
A24: 25 | B24: DA22CNTP | C24: Võ Minh Hoàng | D24: =SUM(E24:J24) -> 30 | E24: =DA22CNTP!I54 -> 12 | F24: =DA22CNTP!J54 -> 12 | G24: =DA22CNTP!K54 -> 4 | H24: =DA22CNTP!L54 -> 1 | I24: =DA22CNTP!M54 -> 0 | J24: =DA22CNTP!N54 -> 1 | K24: =D24-J24 -> 29
A25: 26 | B25: DA23CNTP | C25: Nguyễn Đức Toàn | D25: =SUM(E25:J25) -> 32 | E25: =DA23CNTP!I56 -> 10 | F25: =DA23CNTP!J56 -> 6 | G25: =DA23CNTP!K56 -> 4 | H25: =DA23CNTP!L56 -> 2 | I25: =DA23CNTP!M56 -> 5 | J25: =DA23CNTP!N56 -> 5 | K25: =D25-J25 -> 27
A26: 27 | B26: DA24CNTP | C26: Giang Kiến Quốc | D26: =SUM(E26:J26) -> 26 | E26: =DA24CNTP!I49 -> 3 | F26: =DA24CNTP!J49 -> 10 | G26: =DA24CNTP!K49 -> 8 | H26: =DA24CNTP!L49 -> 2 | I26: =DA24CNTP!M49 -> 0 | J26: =DA24CNTP!N49 -> 3 | K26: =D26-J26 -> 23
A27: 28 | B27: DA25CNTP | C27: Lâm Thị Thu Thảo | D27: =SUM(E27:J27) -> 0 | E27: =DA25CNTP!I75 -> 0 | F27: =DA25CNTP!J75 -> 0 | G27: =DA25CNTP!K75 -> 0 | H27: =DA25CNTP!L75 -> 0 | I27: =DA25CNTP!M75 -> 0 | J27: =DA25CNTP!N75 -> 0 | K27: =D27-J27 -> 0
A28: 29 | B28: DA22TSA | C28: Dương Hoàng Oanh | D28: =SUM(E28:J28) -> 46 | E28: =DA22TSA!H72 -> 4 | F28: =DA22TSA!I72 -> 3 | G28: =DA22TSA!J72 -> 38 | H28: =DA22TSA!K72 -> 0 | I28: =DA22TSA!L72 -> 0 | J28: =DA22TSA!M72 -> 1 | K28: =D28-J28 -> 45
A29: 30 | B29: DA22TSB | C29: Dương Hoàng Oanh | D29: =SUM(E29:J29) -> 38 | E29: =DA22TSB!H64 -> 4 | F29: =DA22TSB!I64 -> 5 | G29: =DA22TSB!J64 -> 27 | H29: =DA22TSB!K64 -> 0 | I29: =DA22TSB!L64 -> 0 | J29: =DA22TSB!M64 -> 2 | K29: =D29-J29 -> 36
A30: 31 | B30: DA23TSA | C30: Nguyễn Thị Trúc Linh | D30: =SUM(E30:J30) -> 30 | E30: =DA23TSA!I56 -> 2 | F30: =DA23TSA!J56 -> 3 | G30: =DA23TSA!K56 -> 17 | H30: =DA23TSA!L56 -> 4 | I30: =DA23TSA!M56 -> 0 | J30: =DA23TSA!N56 -> 4 | K30: =D30-J30 -> 26
A31: 32 | B31: DA23TSB | C31: Nguyễn Thị Trúc Linh | D31: =SUM(E31:J31) -> 26 | E31: =DA23TSB!I56 -> 2 | F31: =DA23TSB!J56 -> 2 | G31: =DA23TSB!K56 -> 16 | H31: =DA23TSB!L56 -> 5 | I31: =DA23TSB!M56 -> 0 | J31: =DA23TSB!N56 -> 1 | K31: =D31-J31 -> 25
A32: 33 | B32: DA24TS | C32: Phạm Thị Bình Nguyên | D32: =SUM(E32:J32) -> 38 | E32: =DA24TS!I62 -> 4 | F32: =DA24TS!J62 -> 9 | G32: =DA24TS!K62 -> 21 | H32: =DA24TS!L62 -> 1 | I32: =DA24TS!M62 -> 0 | J32: =DA24TS!N62 -> 3 | K32: =D32-J32 -> 35
A33: 34 | B33: DA25TS | C33: Phạm Thị Bình Nguyên | D33: =SUM(E33:J33) -> 42 | E33: =DA25TS!I67 -> 9 | F33: =DA25TS!J67 -> 4 | G33: =DA25TS!K67 -> 18 | H33: =DA25TS!L67 -> 2 | I33: =DA25TS!M67 -> 1 | J33: =DA25TS!N67 -> 8 | K33: =D33-J33 -> 34
A34: Tổng | D34: =SUM(D3:D32) -> 911 | E34: =SUM(E3:E32) -> 179 | F34: =SUM(F3:F32) -> 242 | G34: =SUM(G3:G32) -> 315 | H34: =SUM(H3:H32) -> 59 | I34: =SUM(I3:I32) -> 9 | J34: =SUM(J3:J32) -> 107 | K34: =D34-J34 -> 804 | L34: =SUM(K3:K33) -> 838
A35: Tỷ lệ | E35: =E34/D34 -> 0.19648738 | F35: =F34/D34 -> 0.26564215 | G35: =G34/D34 -> 0.34577387 | H35: =H34/D34 -> 0.064763996 | I35: =I34/D34 -> 0.0098792536 | J35: =J34/D34 -> 0.11745335 | L35: =SUM(E35:J35) -> 1
D36: tổng | E36: XS | F36: Tốt | G36: Khá | H36: TB | I36: Yếu | J36: Bảo lưu | K36: Tổng thực học

Sheet DA23TYA
J1: QT7.5/CTSV1-BM18
A2: ĐẠI HỌC TRÀ VINH | J2: CỘNG HOÀ XÃ HỘI CHỦ NGHĨA VIỆT NAM
A3: KHOA NÔNG NGHIỆP THỦY SẢN | J3: Độc lập - Tự do - Hạnh phúc
J5: Vĩnh Long, ngày 26 tháng 8 năm 2026
A7: BẢNG ĐÁNH GIÁ KẾT QUẢ RÈN LUYỆN CỦA SINH VIÊN, HỌC SINH
D8: Học kỳ: 2 Năm học: 2025 - 2026
D9: Tên lớp: ĐH Thú Y A 2023 , Bậc đào tạo: Đại học (DA23TYA)
D10: Khoá: 2023 ; Hệ đào tạo: Chính qui
A12: STT | B12: MSSV | C12: HỌ VÀ TÊN | E12: PHÁI | F12: N.SINH | G12: D.TỘC | H12: ĐÁNH GIÁ ĐIỂM RÈN LUYỆN | M12: TỔNG | N12: X.LOẠI | P12: GHI CHÚ
H13: TC1 | I13: TC2 | J13: TC3 | K13: TC4 | L13: TC5
A14: 1 | B14: 111323035 | C14: Kim Chanh Rích Thi | E14: Nam | F14: 09/05/2005 | H14: 20 | I14: 25 | J14: 20 | K14: 25 | L14: 10 | M14: 100 | N14: Xuất sắc
A15: 2 | B15: 111323031 | C15: Tô Thị Tuyết Oanh | E15: Nữ | F15: 12/09/2005 | H15: 20 | I15: 25 | J15: 20 | K15: 24 | L15: 3 | M15: 92 | N15: Xuất sắc
A16: 3 | B16: 111323009 | C16: Võ Trần Ngọc Hân | E16: Nữ | F16: 30/06/2005 | H16: 20 | I16: 25 | J16: 20 | K16: 20 | L16: 7 | M16: 92 | N16: Xuất sắc
A17: 4 | B17: 111323007 | C17: Nguyễn Thành Đạt | E17: Nam | F17: 09/01/2005 | H17: 20 | I17: 25 | J17: 20 | K17: 24 | L17: 10 | M17: 99 | N17: Xuất sắc
A18: 5 | B18: 111323047 | C18: Lê Thanh Tú | E18: Nam | F18: 01/12/2005 | H18: 20 | I18: 25 | J18: 10 | K18: 12 | L18: 7 | M18: 74 | N18: Khá
A19: 6 | B19: 111323146 | C19: Huỳnh Lan Thanh | E19: Nữ | F19: 02/09/2005 | H19: 20 | I19: 25 | J19: 20 | K19: 24 | L19: 7 | M19: 96 | N19: Xuất sắc
A20: 7 | B20: 111323004 | C20: Đoàn Mỹ Duyên | E20: Nữ | F20: 11/11/2005 | H20: 20 | I20: 25 | J20: 20 | K20: 25 | L20: 7 | M20: 97 | N20: Xuất sắc
A21: 8 | B21: 111323045 | C21: Lê Phùng Bảo Trân | E21: Nữ | F21: 11/06/2005 | H21: 20 | I21: 25 | J21: 16 | K21: 24 | L21: 7 | M21: 92 | N21: Xuất sắc
A22: 9 | B22: 111323003 | C22: Hồ Thị Hồng Diễm | E22: Nữ | F22: 09/09/2005 | H22: 20 | I22: 25 | J22: 19 | K22: 21 | L22: 10 | M22: 95 | N22: Xuất sắc
A23: 10 | B23: 111323013 | C23: Trần Hữu Huy | E23: Nam | F23: 05/01/2005 | H23: 20 | I23: 25 | J23: 20 | K23: 25 | L23: 10 | M23: 100 | N23: Xuất sắc
A24: 11 | B24: 111323014 | C24: Đoàn Thị Cẩm Hường | E24: Nữ | F24: 15/05/2005 | H24: 20 | I24: 25 | J24: 16 | K24: 20 | L24: 7 | M24: 88 | N24: Tốt
A25: 12 | B25: 111323042 | C25: Phan Trang Thư | E25: Nữ | F25: 02/08/2005 | H25: 20 | I25: 25 | J25: 19 | K25: 20 | L25: 10 | M25: 94 | N25: Xuất sắc
... A48: 35 | B48: 111323033 | C48: Nguyễn Trọng Phúc | E48: Nam | F48: 11/08/2005 | H48: 20 | I48: 20 | J48: 10 | K48: 13 | L48: 6 | M48: 69 | N48: Khá
A51: Danh sách trên có: 35 sinh viên | J51: TM. HỘI ĐỒNG XÉT ĐIỂM RÈN LUYỆN
J52: CHỦ TỊCH HỘI ĐỒNG
I61: xs | J61: tốt | K61: khá | L61: tb | M61: yếu | N61: kém
H62: =SUM(I62:N62) -> 35 | I62: =COUNTIF(N14:O48,"xuất sắc") -> 20 | J62: =COUNTIF(N14:O48,"tốt") -> 6 | K62: =COUNTIF(N14:O48,"khá") -> 8 | L62: =COUNTIF(N14:O48,"trung bình") -> 1 | M62: =COUNTIF(N14:O48,"yếu") -> 0 | N62: =COUNTIF(N14:O48,"kém") -> 0

Sheet DA23TYB
J1: QT7.5/CTSV1-BM18
A2: ĐẠI HỌC TRÀ VINH | J2: CỘNG HOÀ XÃ HỘI CHỦ NGHĨA VIỆT NAM
A3: KHOA NÔNG NGHIỆP THỦY SẢN | J3: Độc lập - Tự do - Hạnh phúc
J5: Vĩnh Long, ngày 26 tháng 8 năm 2026
A7: BẢNG ĐÁNH GIÁ KẾT QUẢ RÈN LUYỆN CỦA SINH VIÊN, HỌC SINH
D8: Học kỳ: 2 Năm học: 2025 - 2026
D9: Tên lớp: ĐH Thú Y B 2023 , Bậc đào tạo: Đại học (DA23TYB)
D10: Khoá: 2023 ; Hệ đào tạo: Chính qui
A12: STT | B12: MSSV | C12: HỌ VÀ TÊN | E12: PHÁI | F12: N.SINH | G12: D.TỘC | H12: ĐÁNH GIÁ ĐIỂM RÈN LUYỆN | M12: TỔNG | N12: X.LOẠI | P12: GHI CHÚ
H13: TC1 | I13: TC2 | J13: TC3 | K13: TC4 | L13: TC5
A14: 1 | B14: 111322147 | C14: Huỳnh Lê Bảo Long | E14: Nam | F14: 01/11/1999 | M14: 0 | N14: Kém
A15: 2 | B15: 111323063 | C15: Hứa Ngọc Đặng | E15: Nam | F15: 09/01/2005 | H15: 20 | I15: 25 | J15: 17 | K15: 25 | L15: 10 | M15: 97 | N15: Xuất sắc
A16: 3 | B16: 111323094 | C16: Tô Ngọc Luyễn | E16: Nữ | F16: 01/12/2005 | H16: 20 | I16: 22 | J16: 19 | K16: 18 | L16: 10 | M16: 89 | N16: Tốt
A17: 4 | B17: 111323058 | C17: Phan Chấn Dĩ | E17: Nam | F17: 01/12/2005 | H17: 20 | I17: 25 | J17: 15 | K17: 16 | L17: 5 | M17: 81 | N17: Tốt
A18: 5 | B18: 111323066 | C18: Nguyễn Tiến Đạt | E18: Nam | F18: 27/06/2005 | H18: 20 | I18: 25 | J18: 13 | K18: 20 | L18: 10 | M18: 88 | N18: Tốt
A19: 6 | B19: 111323050 | C19: Đinh Thanh Vinh | E19: Nam | F19: 04/05/2005 | H19: 20 | I19: 25 | J19: 20 | K19: 25 | L19: 7 | M19: 97 | N19: Xuất sắc
A20: 7 | B20: 111323091 | C20: Nguyễn Chí Linh | E20: Nam | F20: 18/06/2004 | H20: 20 | I20: 25 | J20: 15 | K20: 20 | L20: 7 | M20: 87 | N20: Tốt
A21: 8 | B21: 111323151 | C21: Nguyễn Tường Vi | E21: Nữ | F21: 05/01/2004 | H21: 20 | I21: 25 | J21: 20 | K21: 25 | L21: 10 | M21: 100 | N21: Xuất sắc
A22: 9 | B22: 111323078 | C22: Ngô Minh Khang | E22: Nam | F22: 29/10/2005 | H22: 20 | I22: 25 | J22: 20 | K22: 20 | L22: 5 | M22: 90 | N22: Xuất sắc
A23: 10 | B23: 111323054 | C23: Võ Thị Mỹ Bình | E23: Nữ | F23: 30/03/2005 | H23: 20 | I23: 25 | J23: 15 | K23: 16 | L23: 7 | M23: 83 | N23: Tốt
A24: 11 | B24: 111323057 | C24: Nguyễn Thị Kim Cương | E24: Nữ | F24: 07/05/2005 | H24: 20 | I24: 22 | J24: 19 | K24: 16 | L24: 10 | M24: 87 | N24: Tốt
A25: 12 | B25: 111323085 | C25: Hà Thị Kiều | E25: Nữ | F25: 21/10/2005 | H25: 20 | I25: 25 | J25: 18 | K25: 16 | L25: 7 | M25: 86 | N25: Tốt
A26: 13 | B26: 111323089 | C26: Trầm Gia Lục | E26: Nam | F26: 12/02/2005 | H26: 20 | I26: 25 | J26: 17 | K26: 18 | L26: 5 | M26: 85 | N26: Tốt
... A47: 34 | B47: 111323093 | C47: Nguyễn Hoài Luân | E47: Nam | F47: 15/01/2005 | H47: 18 | I47: 25 | J47: 17 | K47: 18 | L47: 5 | M47: 83 | N47: Tốt
A48: 35 | B48: 111323056 | C48: Kim Minh Chí | E48: Nam | F48: 18/02/2005 | M48: 0 | N48: Kém
A49: 36 | B49: 111323081 | C49: Phan Văn Minh Khoa | E49: Nam | F49: 26/10/2005 | H49: 18 | I49: 25 | J49: 15 | K49: 23 | L49: 0 | M49: 81 | N49: Tốt
A50: 37 | B50: 111323072 | C50: Nguyễn Trung Hậu | E50: Nam | F50: 28/12/2005 | H50: 20 | I50: 25 | J50: 10 | K50: 22 | L50: 9 | M50: 86 | N50: Tốt
A51: 38 | B51: 111323065 | C51: Nguyễn Duy Đông | E51: Nam | F51: 25/02/2005 | H51: 20 | I51: 25 | J51: 14 | K51: 20 | L51: 10 | M51: 89 | N51: Tốt
A52: 39 | B52: 111323073 | C52: Lâm Quốc Hùng | E52: Nam | F52: 09/11/2005 | M52: 0 | N52: Kém
A53: 40 | B53: 111323071 | C53: Lê Phúc Hậu | E53: Nữ | F53: 12/12/2004 | M53: 0 | N53: Kém
A54: 41 | B54: 111322110 | C54: Trần Triệu Võ | E54: Nam | F54: 14/03/2004 | M54: 0 | N54: Kém
A57: Danh sách trên có: 41 sinh viên | J57: TM. HỘI ĐỒNG XÉT ĐIỂM RÈN LUYỆN
J58: CHỦ TỊCH HỘI ĐỒNG
I65: xs | J65: tốt | K65: khá | L65: tb | M65: yếu | N65: kém
H66: =SUM(I66:N66) -> 41 | I66: =COUNTIF(N14:O54,"xuất sắc") -> 8 | J66: =COUNTIF(N14:O54,"tốt") -> 24 | K66: =COUNTIF(N14:O54,"khá") -> 4 | L66: =COUNTIF(N14:O54,"trung bình") -> 0 | M66: =COUNTIF(N14:O54,"yếu") -> 0 | N66: =COUNTIF(N14:O54,"kém") -> 5

Sheet DA23TYC
J1: QT7.5/CTSV1-BM18
A2: ĐẠI HỌC TRÀ VINH | J2: CỘNG HOÀ XÃ HỘI CHỦ NGHĨA VIỆT NAM
A3: KHOA NÔNG NGHIỆP THỦY SẢN | J3: Độc lập - Tự do - Hạnh phúc
J5: Vĩnh Long, ngày 26 tháng 8 năm 2026
A7: BẢNG ĐÁNH GIÁ KẾT QUẢ RÈN LUYỆN CỦA SINH VIÊN, HỌC SINH
D8: Học kỳ: 2 Năm học: 2025 - 2026
D9: Tên lớp: ĐH Thú Y C 2023 , Bậc đào tạo: Đại học (DA23TYC)
D10: Khoá: 2023 ; Hệ đào tạo: Chính qui
A12: STT | B12: MSSV | C12: HỌ VÀ TÊN | E12: PHÁI | F12: N.SINH | G12: D.TỘC | H12: ĐÁNH GIÁ ĐIỂM RÈN LUYỆN | M12: TỔNG | N12: X.LOẠI | P12: GHI CHÚ
H13: TC1 | I13: TC2 | J13: TC3 | K13: TC4 | L13: TC5
A14: 1 | B14: 111323136 | C14: Chung Phương Trúc | E14: Nữ | F14: 27/11/2005 | M14: 0 | N14: Kém
A15: 2 | B15: 111323137 | C15: Châu Thái Trung | E15: Nam | F15: 17/07/2005 | H15: 20 | I15: 25 | J15: 17 | K15: 25 | L15: 0 | M15: 87 | N15: Tốt
A16: 3 | B16: 111323123 | C16: Võ Chí Thiện | E16: Nam | F16: 29/06/2005 | H16: 20 | I16: 20 | J16: 20 | K16: 25 | L16: 0 | M16: 85 | N16: Tốt
A17: 4 | B17: 111323114 | C17: Nguyễn Thị Khánh Quyên | E17: Nữ | F17: 01/12/2005 | H17: 20 | I17: 25 | J17: 14 | K17: 20 | L17: 10 | M17: 89 | N17: Tốt
A18: 5 | B18: 111323119 | C18: Mai Hải Thọ | E18: Nam | F18: 22/09/2005 | H18: 20 | I18: 25 | J18: 14 | K18: 20 | L18: 6 | M18: 85 | N18: Tốt
A19: 6 | B19: 111323105 | C19: Phạm Thị Ngọc Nhẩn | E19: Nữ | F19: 30/09/2005 | H19: 20 | I19: 24 | J19: 8 | K19: 20 | L19: 10 | M19: 82 | N19: Tốt
A20: 7 | B20: 111323099 | C20: Cao Hồng Ngọc | E20: Nữ | F20: 09/04/2005 | H20: 20 | I20: 24 | J20: 0 | K20: 25 | L20: 0 | M20: 69 | N20: Khá
A21: 8 | B21: 111323128 | C21: Trương Trường Thịnh | E21: Nam | F21: 26/08/2004 | H21: 20 | I21: 25 | J21: 10 | K21: 20 | L21: 10 | M21: 85 | N21: Tốt
A22: 9 | B22: 111323126 | C22: Cao Hoài Thịnh | E22: Nam | F22: 19/09/2005 | H22: 20 | I22: 25 | J22: 19 | K22: 25 | L22: 10 | M22: 99 | N22: Xuất sắc
A23: 10 | B23: 111323107 | C23: Hà Thành Phát | E23: Nam | F23: 26/09/2005 | H23: 20 | I23: 25 | J23: 13 | K23: 23 | L23: 2 | M23: 83 | N23: Tốt
A24: 11 | B24: 111323127 | C24: Hồng Thế Thịnh | E24: Nam | F24: 11/07/2005 | H24: 20 | I24: 25 | J24: 15 | K24: 24 | L24: 0 | M24: 84 | N24: Tốt
A25: 12 | B25: 111323102 | C25: Nguyễn Thanh Nhân | E25: Nam | F25: 14/08/2005 | H25: 20 | I25: 25 | J25: 16 | K25: 20 | L25: 7 | M25: 88 | N25: Tốt
A26: 13 | B26: 111323131 | C26: Nguyễn Hồng Thư | E26: Nữ | F26: 20/04/2005 | H26: 20 | I26: 25 | J26: 11 | K26: 24 | L26: 6 | M26: 86 | N26: Tốt
... A48: 35 | B48: 111323106 | C48: Hồ Đức Nhuận | E48: Nam | F48: 09/03/2005 | H48: 20 | I48: 25 | J48: 5 | K48: 14 | L48: 2 | M48: 66 | N48: Khá
A51: Danh sách trên có: 35 sinh viên | J51: TM. HỘI ĐỒNG XÉT ĐIỂM RÈN LUYỆN
J52: CHỦ TỊCH HỘI ĐỒNG
I57: xs | J57: tốt | K57: khá | L57: tb | M57: yếu | N57: kém
H58: =SUM(I58:N58) -> 35 | I58: =COUNTIF(N14:O48,"xuất sắc") -> 3 | J58: =COUNTIF(N14:O48,"tốt") -> 21 | K58: =COUNTIF(N14:O48,"khá") -> 10 | L58: =COUNTIF(N14:O48,"trung bình") -> 0 | M58: =COUNTIF(N14:O48,"yếu") -> 0 | N58: =COUNTIF(N14:O48,"kém") -> 1

Sheet DA23CNSH
J1: QT7.5/CTSV1-BM18
A2: ĐẠI HỌC TRÀ VINH | J2: CỘNG HOÀ XÃ HỘI CHỦ NGHĨA VIỆT NAM
A3: KHOA NÔNG NGHIỆP THỦY SẢN | J3: Độc lập - Tự do - Hạnh phúc
J5: Vĩnh Long, ngày 26 tháng 8 năm 2026
A7: BẢNG ĐÁNH GIÁ KẾT QUẢ RÈN LUYỆN CỦA SINH VIÊN, HỌC SINH
D8: Học kỳ: 2 Năm học: 2025 - 2026
D9: Tên lớp: ĐH Công nghệ Sinh học 2023 , Bậc đào tạo: Đại học (DA23CNSH)
D10: Khoá: 2023 ; Hệ đào tạo: Chính qui
A12: STT | B12: MSSV | C12: HỌ VÀ TÊN | E12: PHÁI | F12: N.SINH | G12: D.TỘC | H12: ĐÁNH GIÁ ĐIỂM RÈN LUYỆN | M12: TỔNG | N12: X.LOẠI | P12: GHI CHÚ
H13: TC1 | I13: TC2 | J13: TC3 | K13: TC4 | L13: TC5
A14: 1 | B14: 117723012 | C14: Võ Nguyễn Ngọc Như | E14: Nữ | F14: 28/10/2005 | H14: 20 | I14: 25 | J14: 20 | K14: 21 | L14: 10 | M14: 96 | N14: Xuất sắc
A15: 2 | B15: 117723010 | C15: Tăng Hồng Sang | E15: Nữ | F15: 23/03/2005 | H15: 20 | I15: 25 | J15: 10 | K15: 25 | L15: 7 | M15: 87 | N15: Tốt
A16: 3 | B16: 117723011 | C16: Trầm Thị Mỹ Quyên | E16: Nữ | F16: 11/10/2005 | H16: 20 | I16: 25 | J16: 15 | K16: 25 | L16: 10 | M16: 95 | N16: Xuất sắc
A17: 4 | B17: 117723013 | C17: Võ Thị Yến Nhi | E17: Nữ | F17: 15/01/2005 | H17: 20 | I17: 25 | J17: 6 | K17: 20 | L17: 10 | M17: 81 | N17: Tốt
A18: 5 | B18: 117723004 | C18: Cao Tuyết Nghi | E18: Nữ | F18: 21/01/2005 | H18: 20 | I18: 25 | J18: 20 | K18: 25 | L18: 10 | M18: 100 | N18: Xuất sắc
A19: 6 | B19: 117723001 | C19: Sơn Thúy Bình | E19: Nữ | F19: 28/07/2005 | H19: 20 | I19: 25 | J19: 4 | K19: 24 | L19: 10 | M19: 83 | N19: Tốt
A20: 7 | B20: 117723008 | C20: Nguyễn Thị Bích Trâm | E20: Nữ | F20: 11/12/2005 | H20: 20 | I20: 25 | J20: 20 | K20: 25 | L20: 10 | M20: 100 | N20: Xuất sắc
A21: 8 | B21: 117723009 | C21: Nguyễn Thị Ngọc Ngân | E21: Nữ | F21: 19/10/2005 | H21: 20 | I21: 20 | J21: 17 | K21: 25 | L21: 10 | M21: 92 | N21: Xuất sắc
A24: Danh sách trên có: 08 sinh viên | J24: TM. HỘI ĐỒNG XÉT ĐIỂM RÈN LUYỆN
J25: CHỦ TỊCH HỘI ĐỒNG
I32: xs | J32: tốt | K32: khá | L32: tb | M32: yếu | N32: kém
H33: =SUM(I33:N33) -> 8 | I33: =COUNTIF(N14:O21,"xuất sắc") -> 5 | J33: =COUNTIF(N14:O21,"tốt") -> 3 | K33: =COUNTIF(N14:O21,"khá") -> 0 | L33: =COUNTIF(N14:O21,"trung bình") -> 0 | M33: =COUNTIF(N14:O21,"yếu") -> 0 | N33: =COUNTIF(N14:O21,"kém") -> 0

Sheet DA23TSA
J1: QT7.5/CTSV1-BM18
A2: ĐẠI HỌC TRÀ VINH | J2: CỘNG HOÀ XÃ HỘI CHỦ NGHĨA VIỆT NAM
A3: KHOA NÔNG NGHIỆP THỦY SẢN | J3: Độc lập - Tự do - Hạnh phúc
J5: Vĩnh Long, ngày 26 tháng 8 năm 2026
A7: BẢNG ĐÁNH GIÁ KẾT QUẢ RÈN LUYỆN CỦA SINH VIÊN, HỌC SINH
D8: Học kỳ: 2 Năm học: 2025 - 2026
D9: Tên lớp: ĐH Nuôi trồng Thủy sản A 2023 , Bậc đào tạo: Đại học (DA23TSA)
D10: Khoá: 2023 ; Hệ đào tạo: Chính qui
A12: STT | B12: MSSV | C12: HỌ VÀ TÊN | E12: PHÁI | F12: N.SINH | G12: D.TỘC | H12: ĐÁNH GIÁ ĐIỂM RÈN LUYỆN | M12: TỔNG | N12: X.LOẠI | P12: GHI CHÚ
H13: TC1 | I13: TC2 | J13: TC3 | K13: TC4 | L13: TC5
A14: 1 | B14: 110323026 | C14: Trần Công Lĩnh | E14: Nam | F14: 07/08/2005 | M14: 0 | N14: Kém
A15: 2 | B15: 110323069 | C15: Lâm Minh Nhựt | E15: Nam | F15: 23/01/1997 | M15: 0 | N15: Kém
A16: 3 | B16: 110323016 | C16: Huỳnh Thị Mỹ Hiền | E16: Nữ | F16: 19/08/2005 | H16: 18 | I16: 25 | J16: 5 | K16: 17 | L16: 3 | M16: 68 | N16: Khá
A17: 4 | B17: 110323033 | C17: Nguyễn Thị Mộng Nghi | E17: Nữ | F17: 24/12/2005 | H17: 18 | I17: 25 | J17: 5 | K17: 17 | L17: 4 | M17: 69 | N17: Khá
A18: 5 | B18: 110323002 | C18: Nguyễn Quốc Huy | E18: Nam | F18: 10/11/2005 | H18: 20 | I18: 25 | J18: 4 | K18: 14 | L18: 7 | M18: 70 | N18: Khá
A19: 6 | B19: 110323029 | C19: Nguyễn Thị Thanh Ngà | E19: Nữ | F19: 15/09/2005 | H19: 20 | I19: 25 | J19: 16 | K19: 17 | L19: 7 | M19: 85 | N19: Tốt
A20: 7 | B20: 110323014 | C20: Huỳnh Hải Đăng | E20: Nam | F20: 08/04/2005 | H20: 18 | I20: 25 | J20: 10 | K20: 12 | L20: 2 | M20: 67 | N20: Khá
A21: 8 | B21: 110323004 | C21: Đào Anh Kiệt | E21: Nam | F21: 14/06/2005 | H21: 20 | I21: 25 | J21: 16 | K21: 11 | L21: 10 | M21: 82 | N21: Tốt
A22: 9 | B22: 110323030 | C22: Trần Thị Tố Ngân | E22: Nữ | F22: 22/12/2005 | H22: 20 | I22: 25 | J22: 17 | K22: 25 | L22: 10 | M22: 97 | N22: Xuất sắc
A23: 10 | B23: 110323012 | C23: Trần Hoàng Duy | E23: Nam | F23: 10/06/2005 | H23: 16 | I23: 25 | J23: 10 | K23: 7 | L23: 10 | M23: 68 | N23: Khá
A24: 11 | B24: 110323017 | C24: Ôn Minh Hiếu | E24: Nam | F24: 18/10/2003 | H24: 15 | I24: 24 | J24: 2 | K24: 10 | L24: 10 | M24: 61 | N24: Trung bình
A25: 12 | B25: 110323003 | C25: Nguyễn Tấn Khoa | E25: Nam | F25: 13/09/2005 | H25: 16 | I25: 22 | J25: 7 | K25: 6 | L25: 10 | M25: 61 | N25: Trung bình
A26: 13 | B26: 110323011 | C26: Phan Thị Hồng Dung | E26: Nữ | F26: 01/10/2005 | H26: 20 | I26: 25 | J26: 15 | K26: 22 | L26: 10 | M26: 92 | N26: Xuất sắc
A27: 14 | B27: 110323019 | C27: Nguyễn Nhật Huy | E27: Nam | F27: 10/11/2005 | H27: 20 | I27: 25 | J27: 6 | K27: 20 | L27: 2 | M27: 73 | N27: Khá
... A42: 29 | B42: 110323027 | C42: Trương Khánh Lập | E42: Nam | F42: 12/11/2005 | H42: 14 | I42: 25 | J42: 0 | K42: 16 | L42: 5 | M42: 60 | N42: Trung bình
A43: 30 | B43: 110323025 | C43: Lâm Khánh Linh | E43: Nam | F43: 22/09/2004 | M43: 0 | N43: Kém
A46: Danh sách trên có: 30 sinh viên | J46: TM. HỘI ĐỒNG XÉT ĐIỂM RÈN LUYỆN
J47: CHỦ TỊCH HỘI ĐỒNG
I55: xs | J55: tốt | K55: khá | L55: tb | M55: yếu | N55: kém
H56: =SUM(I56:N56) -> 30 | I56: =COUNTIF(N14:O43,"xuất sắc") -> 2 | J56: =COUNTIF(N14:O43,"tốt") -> 3 | K56: =COUNTIF(N14:O43,"khá") -> 17 | L56: =COUNTIF(N14:O43,"trung bình") -> 4 | M56: =COUNTIF(N14:O43,"yếu") -> 0 | N56: =COUNTIF(N14:O43,"kém") -> 4

Sheet DA23TSB
J1: QT7.5/CTSV1-BM18
A2: ĐẠI HỌC TRÀ VINH | J2: CỘNG HOÀ XÃ HỘI CHỦ NGHĨA VIỆT NAM
A3: KHOA NÔNG NGHIỆP THỦY SẢN | J3: Độc lập - Tự do - Hạnh phúc
J4: QT7.5/CTSV1-BM18
A5: ĐẠI HỌC TRÀ VINH | J5: CỘNG HOÀ XÃ HỘI CHỦ NGHĨA VIỆT NAM
A6: KHOA NÔNG NGHIỆP THỦY SẢN | J6: Độc lập - Tự do - Hạnh phúc
J8: Vĩnh Long, ngày 26 tháng 8 năm 2026
A10: BẢNG ĐÁNH GIÁ KẾT QUẢ RÈN LUYỆN CỦA SINH VIÊN, HỌC SINH
D11: Học kỳ: 2 Năm học: 2025 - 2026
D12: Tên lớp: ĐH Nuôi trồng Thủy sản B 2023 , Bậc đào tạo: Đại học (DA23TSB)
D13: Khoá: 2023 ; Hệ đào tạo: Chính qui
A15: STT | B15: MSSV | C15: HỌ VÀ TÊN | E15: PHÁI | F15: N.SINH | G15: D.TỘC | H15: ĐÁNH GIÁ ĐIỂM RÈN LUYỆN | M15: TỔNG | N15: X.LOẠI | P15: GHI CHÚ
H16: TC1 | I16: TC2 | J16: TC3 | K16: TC4 | L16: TC5
A17: 1 | B17: 110323061 | C17: Trần Thị Huyền Trang | E17: Nữ | F17: 19/10/2003 | M17: 0 | N17: Kém
A18: 2 | B18: 110323044 | C18: Đặng Văn Phải | E18: Nam | F18: 19/06/2005 | H18: 20 | I18: 20 | J18: 20 | K18: 14 | L18: 10 | M18: 84 | N18: Tốt
A19: 3 | B19: 110323055 | C19: Thạch Thị Minh Thư | E19: Nữ | F19: 30/11/2005 | H19: 18 | I19: 25 | J19: 6 | K19: 11 | L19: 10 | M19: 70 | N19: Khá
A20: 4 | B20: 110323052 | C20: Lê Thị Thu Thảo | E20: Nữ | F20: 11/03/2005 | H20: 20 | I20: 25 | J20: 14 | K20: 17 | L20: 10 | M20: 86 | N20: Tốt
A21: 5 | B21: 110323075 | C21: Trần Khánh Hưng | E21: Nam | F21: 09/04/2004 | H21: 20 | I21: 25 | J21: 6 | K21: 12 | L21: 8 | M21: 71 | N21: Khá
A22: 6 | B22: 110323062 | C22: Lê Thị Ngọc Tuyền | E22: Nữ | F22: 20/11/2005 | H22: 20 | I22: 25 | J22: 10 | K22: 17 | L22: 2 | M22: 74 | N22: Khá
A23: 7 | B23: 110323039 | C23: Cao Huỳnh Như | E23: Nữ | F23: 01/04/2005 | H23: 20 | I23: 25 | J23: 10 | K23: 18 | L23: 4 | M23: 77 | N23: Khá
A24: 8 | B24: 110323057 | C24: Nguyễn Minh Tiến | E24: Nam | F24: 25/11/2005 | H24: 20 | I24: 25 | J24: 7 | K24: 5 | L24: 10 | M24: 67 | N24: Khá
A25: 9 | B25: 110323064 | C25: Nguyễn Mạnh Tường | E25: Nam | F25: 22/11/2004 | H25: 16 | I25: 25 | J25: 10 | K25: 16 | L25: 10 | M25: 77 | N25: Khá
A26: 10 | B26: 110323078 | C26: Võ Tấn Đạt | E26: Nam | F26: 25/03/2005 | H26: 18 | I26: 24 | J26: 5 | K26: 17 | L26: 6 | M26: 70 | N26: Khá
A27: 11 | B27: 110323070 | C27: Lâm Thị Huỳnh Như | E27: Nữ | F27: 18/12/2005 | H27: 20 | I27: 20 | J27: 8 | K27: 20 | L27: 5 | M27: 73 | N27: Khá
A28: 12 | B28: 110323054 | C28: Nguyễn Thị Anh Thư | E28: Nữ | F28: 28/10/2005 | H28: 20 | I28: 25 | J28: 5 | K28: 23 | L28: 0 | M28: 73 | N28: Khá
A29: 13 | B29: 110323074 | C29: Thạch Thị Hồng Như Hoa | E29: Nữ | F29: 15/10/2005 | H29: 20 | I29: 25 | J29: 13 | K29: 18 | L29: 1 | M29: 77 | N29: Khá
... A42: 26 | B42: 110323047 | C42: Nguyễn Văn Quy | E42: Nam | F42: 08/04/2005 | H42: 19 | I42: 22 | J42: 12 | K42: 11 | L42: 10 | M42: 74 | N42: Khá
A45: Danh sách trên có: 26 sinh viên | J45: TM. HỘI ĐỒNG XÉT ĐIỂM RÈN LUYỆN
J46: CHỦ TỊCH HỘI ĐỒNG
I55: xs | J55: tốt | K55: khá | L55: tb | M55: yếu | N55: kém
H56: =SUM(I56:N56) -> 26 | I56: =COUNTIF(N17:O42,"xuất sắc") -> 2 | J56: =COUNTIF(N17:O42,"tốt") -> 2 | K56: =COUNTIF(N17:O42,"khá") -> 16 | L56: =COUNTIF(N17:O42,"trung bình") -> 5 | M56: =COUNTIF(N17:O42,"yếu") -> 0 | N56: =COUNTIF(N17:O42,"kém") -> 1

Sheet DA23KTCT
J1: QT7.5/CTSV1-BM18
A2: ĐẠI HỌC TRÀ VINH | J2: CỘNG HOÀ XÃ HỘI CHỦ NGHĨA VIỆT NAM
A3: KHOA NÔNG NGHIỆP THỦY SẢN | J3: Độc lập - Tự do - Hạnh phúc
J5: Vĩnh Long, ngày 26 tháng 8 năm 2026
A7: BẢNG ĐÁNH GIÁ KẾT QUẢ RÈN LUYỆN CỦA SINH VIÊN, HỌC SINH
D8: Học kỳ: 2 Năm học: 2025 - 2026
D9: Tên lớp: ĐH Kỹ thuật Cây trồng 2023 , Bậc đào tạo: Đại học (DA23KTCT)
D10: Khoá: 2023 ; Hệ đào tạo: Chính qui
A12: STT | B12: MSSV | C12: HỌ VÀ TÊN | E12: PHÁI | F12: N.SINH | G12: D.TỘC | H12: ĐÁNH GIÁ ĐIỂM RÈN LUYỆN | M12: TỔNG | N12: X.LOẠI | P12: GHI CHÚ
H13: TC1 | I13: TC2 | J13: TC3 | K13: TC4 | L13: TC5
A14: 1 | B14: 114723015 | C14: Thạch Thị Trúc Linh | E14: Nữ | F14: 18/10/2005 | H14: 20 | I14: 25 | J14: 20 | K14: 21 | L14: 10 | M14: 96 | N14: Xuất sắc
A15: 2 | B15: 114723017 | C15: Sơn Thị Ngọc Mai | E15: Nữ | F15: 18/06/2005 | H15: 20 | I15: 25 | J15: 17 | K15: 24 | L15: 10 | M15: 96 | N15: Xuất sắc
A16: 3 | B16: 114723025 | C16: Nguyễn Văn Thảo | E16: Nam | F16: 08/02/2004 | H16: 20 | I16: 25 | J16: 13 | K16: 13 | L16: 7 | M16: 78 | N16: Khá
A17: 4 | B17: 114723032 | C17: Trần Minh Rin | E17: Nam | F17: 12/08/2005 | H17: 20 | I17: 25 | J17: 20 | K17: 20 | L17: 7 | M17: 92 | N17: Xuất sắc
A18: 5 | B18: 114723010 | C18: Nguyễn Minh Đăng | E18: Nam | F18: 04/07/2005 | H18: 14 | I18: 20 | J18: 10 | K18: 21 | L18: 0 | M18: 65 | N18: Khá
A19: 6 | B19: 114723013 | C19: Lê Đình Hướng | E19: Nam | F19: 12/11/2005 | H19: 20 | I19: 25 | J19: 15 | K19: 16 | L19: 10 | M19: 86 | N19: Tốt
A20: 7 | B20: 114723001 | C20: Nguyễn Trung Chánh | E20: Nam | F20: 17/04/2005 | H20: 20 | I20: 25 | J20: 20 | K20: 24 | L20: 10 | M20: 99 | N20: Xuất sắc
A21: 8 | B21: 114723019 | C21: Võ Thị Mộng Nghi | E21: Nữ | F21: 21/08/2005 | H21: 20 | I21: 25 | J21: 20 | K21: 24 | L21: 10 | M21: 99 | N21: Xuất sắc
A22: 9 | B22: 114723005 | C22: Nguyễn Đăng Khoa | E22: Nam | F22: 30/04/2005 | H22: 20 | I22: 25 | J22: 0 | K22: 11 | L22: 1 | M22: 57 | N22: Trung bình
A23: 10 | B23: 114723008 | C23: Lê Hải Âu | E23: Nam | F23: 01/06/2005 | H23: 20 | I23: 25 | J23: 15 | K23: 25 | L23: 10 | M23: 95 | N23: Xuất sắc
A24: 11 | B24: 114723007 | C24: Phạm Lê Thảo Vy | E24: Nữ | F24: 23/05/2005 | H24: 20 | I24: 25 | J24: 9 | K24: 13 | L24: 0 | M24: 67 | N24: Khá
A25: 12 | B25: 114723004 | C25: Lê Võ Gia Hạo | E25: Nam | F25: 04/02/2005 | H25: 20 | I25: 25 | J25: 15 | K25: 20 | L25: 3 | M25: 83 | N25: Tốt
... A33: 20 | B33: 114723028 | C33: Kiên Thị Chane Đa Ra | E33: Nữ | F33: 13/03/2005 | H33: 20 | I33: 25 | J33: 2 | K33: 19 | L33: 10 | M33: 76 | N33: Khá
A36: Danh sách trên có: 20 sinh viên | J36: TM. HỘI ĐỒNG XÉT ĐIỂM RÈN LUYỆN
J37: CHỦ TỊCH HỘI ĐỒNG
H47: xs | I47: tốt | J47: khá | K47: tb | L47: yếu | M47: kém
G48: =SUM(H48:M48) -> 20 | H48: =COUNTIF(N14:O33,"xuất sắc") -> 8 | I48: =COUNTIF(N14:O33,"tốt") -> 5 | J48: =COUNTIF(N14:O33,"khá") -> 6 | K48: =COUNTIF(N14:O33,"trung bình") -> 1 | L48: =COUNTIF(N14:O33,"yếu") -> 0 | M48: =COUNTIF(N14:O33,"kém") -> 0

Sheet DA23CNTP
J1: QT7.5/CTSV1-BM18
A2: ĐẠI HỌC TRÀ VINH | J2: CỘNG HOÀ XÃ HỘI CHỦ NGHĨA VIỆT NAM
A3: KHOA NÔNG NGHIỆP THỦY SẢN | J3: Độc lập - Tự do - Hạnh phúc
J5: Vĩnh Long, ngày 26 tháng 8 năm 2026
A7: BẢNG ĐÁNH GIÁ KẾT QUẢ RÈN LUYỆN CỦA SINH VIÊN, HỌC SINH
D8: Học kỳ: 2 Năm học: 2025 - 2026
D9: Tên lớp: ĐH Công nghệ thực phẩm 2023 , Bậc đào tạo: Đại học (DA23CNTP)
D10: Khoá: 2023 ; Hệ đào tạo: Chính qui
A12: STT | B12: MSSV | C12: HỌ VÀ TÊN | E12: PHÁI | F12: N.SINH | G12: D.TỘC | H12: ĐÁNH GIÁ ĐIỂM RÈN LUYỆN | M12: TỔNG | N12: X.LOẠI | P12: GHI CHÚ
H13: TC1 | I13: TC2 | J13: TC3 | K13: TC4 | L13: TC5
A14: 1 | B14: 116223045 | C14: Nguyễn Thanh Hằng | E14: Nữ | F14: 02/10/2004 | M14: 0 | N14: Kém
A15: 2 | B15: 116223043 | C15: Chau Sóc Khum | E15: Nam | F15: 11/12/2003 | M15: 0 | N15: Kém
A16: 3 | B16: 116223003 | C16: Châu Thế Hiển | E16: Nam | F16: 22/07/2005 | M16: 0 | N16: Kém
A17: 4 | B17: 116223017 | C17: Cao Thị Mỹ Duyên | E17: Nữ | F17: 26/09/2005 | H17: 20 | I17: 25 | J17: 20 | K17: 25 | L17: 5 | M17: 95 | N17: Xuất sắc
A18: 5 | B18: 116223034 | C18: Lâm Thị Hồng Thắm | E18: Nữ | F18: 22/04/2005 | H18: 20 | I18: 25 | J18: 20 | K18: 20 | L18: 10 | M18: 95 | N18: Xuất sắc
A19: 6 | B19: 116223032 | C19: Phan Thị Hồng Phượng | E19: Nữ | F19: 06/12/2005 | H19: 20 | I19: 25 | J19: 20 | K19: 25 | L19: 7 | M19: 97 | N19: Xuất sắc
A20: 7 | B20: 116223009 | C20: Kim Sơn Nồng | E20: Nam | F20: 11/08/2005 | H20: 20 | I20: 25 | J20: 20 | K20: 20 | L20: 5 | M20: 90 | N20: Xuất sắc
A21: 8 | B21: 116223006 | C21: Đặng Kim Ngân | E21: Nữ | F21: 01/01/2005 | H21: 20 | I21: 25 | J21: 20 | K21: 20 | L21: 10 | M21: 95 | N21: Xuất sắc
A22: 9 | B22: 116223026 | C22: Lê Thị Thảo Nguyên | E22: Nữ | F22: 31/01/2005 | H22: 20 | I22: 25 | J22: 10 | K22: 16 | L22: 4 | M22: 75 | N22: Khá
A23: 10 | B23: 116223021 | C23: Châu Đăng Khoa | E23: Nam | F23: 16/02/2005 | H23: 20 | I23: 25 | J23: 17 | K23: 25 | L23: 7 | M23: 94 | N23: Xuất sắc
A24: 11 | B24: 116223007 | C24: Trương Mỹ Ngọc | E24: Nữ | F24: 23/06/2005 | H24: 20 | I24: 25 | J24: 15 | K24: 15 | L24: 5 | M24: 80 | N24: Tốt
A25: 12 | B25: 116223033 | C25: Huỳnh Nhật Tân | E25: Nam | F25: 30/03/2005 | H25: 16 | I25: 22 | J25: 2 | K25: 6 | L25: 0 | M25: 46 | N25: Yếu
A26: 13 | B26: 116223012 | C26: Nguyễn Ngọc Mai Thy | E26: Nữ | F26: 06/03/2005 | H26: 20 | I26: 25 | J26: 15 | K26: 16 | L26: 10 | M26: 86 | N26: Tốt
A27: 14 | B27: 116223005 | C27: Lâm Thị Khánh Ly | E27: Nữ | F27: 10/12/2005 | H27: 20 | I27: 25 | J27: 20 | K27: 18 | L27: 10 | M27: 93 | N27: Xuất sắc
A28: 15 | B28: 116223001 | C28: Lâm Nguyễn Thùy Dương | E28: Nữ | F28: 07/05/2005 | H28: 20 | I28: 25 | J28: 17 | K28: 20 | L28: 9 | M28: 91 | N28: Xuất sắc
... A35: 22 | B35: 116223035 | C35: Lê Văn Thuận | E35: Nam | F35: 17/09/2005 | H35: 18 | I35: 25 | J35: 10 | K35: 5 | L35: 3 | M35: 61 | N35: Trung bình
A36: 23 | B36: 116223037 | C36: Lê Anh Thư | E36: Nữ | F36: 25/10/2005 | M36: 0 | N36: Kém
A37: 24 | B37: 116223022 | C37: Lê Thị Phương Lan | E37: Nữ | F37: 11/01/2005 | H37: 20 | I37: 25 | J37: 0 | K37: 12 | L37: 0 | M37: 57 | N37: Trung bình
A38: 25 | B38: 116223040 | C38: Nguyễn Thùy Trân | E38: Nữ | F38: 10/11/2005 | H38: 20 | I38: 25 | J38: 17 | K38: 16 | L38: 10 | M38: 88 | N38: Tốt
A39: 26 | B39: 116223036 | C39: Đào Thị Anh Thư | E39: Nữ | F39: 08/09/2005 | H39: 20 | I39: 25 | J39: 15 | K39: 20 | L39: 10 | M39: 90 | N39: Xuất sắc
A40: 27 | B40: 116223046 | C40: Thạch Thị Thanh Ngân | E40: Nữ | F40: 15/03/2005 | H40: 20 | I40: 25 | J40: 15 | K40: 20 | L40: 7 | M40: 87 | N40: Tốt
A41: 28 | B41: 116223028 | C41: Trần Thị Thảo Nguyên | E41: Nữ | F41: 27/06/2005 | H41: 18 | I41: 25 | J41: 10 | K41: 14 | L41: 2 | M41: 69 | N41: Khá
A42: 29 | B42: 116223016 | C42: Sơn Thị Diểm | E42: Nữ | F42: 13/02/2005 | H42: 20 | I42: 25 | J42: 20 | K42: 20 | L42: 3 | M42: 88 | N42: Tốt
A43: 30 | B43: 116223020 | C43: Nguyễn Thị Ngọc Hân | E43: Nữ | F43: 14/04/2005 | H43: 16 | I43: 22 | J43: 0 | K43: 3 | L43: 2 | M43: 43 | N43: Yếu
A44: 31 | B44: 116223044 | C44: Nguyễn Hoàng Tuấn | E44: Nam | F44: 02/12/2005 | H44: 20 | I44: 25 | J44: 12 | K44: 24 | L44: 7 | M44: 88 | N44: Tốt
A45: 32 | B45: 116222037 | C45: Lương Ngọc Minh | E45: Nam | F45: 25/02/2004 | M45: 0 | N45: Kém
A48: Danh sách trên có: 32 sinh viên | J48: TM. HỘI ĐỒNG XÉT ĐIỂM RÈN LUYỆN
J49: CHỦ TỊCH HỘI ĐỒNG
I55: xs | J55: tốt | K55: khá | L55: tb | M55: yếu | N55: kém
H56: =SUM(I56:N56) -> 32 | I56: =COUNTIF(N14:O45,"xuất sắc") -> 10 | J56: =COUNTIF(N14:O45,"tốt") -> 6 | K56: =COUNTIF(N14:O45,"khá") -> 4 | L56: =COUNTIF(N14:O45,"trung bình") -> 2 | M56: =COUNTIF(N14:O45,"yếu") -> 5 | N56: =COUNTIF(N14:O45,"kém") -> 5

Sheet DA24TYA
J1: QT7.5/CTSV1-BM18
A2: ĐẠI HỌC TRÀ VINH | J2: CỘNG HOÀ XÃ HỘI CHỦ NGHĨA VIỆT NAM
A3: KHOA NÔNG NGHIỆP THỦY SẢN | J3: Độc lập - Tự do - Hạnh phúc
J5: Vĩnh Long, ngày 26 tháng 8 năm 2026
A7: BẢNG ĐÁNH GIÁ KẾT QUẢ RÈN LUYỆN CỦA SINH VIÊN, HỌC SINH
D8: Học kỳ: 2 Năm học: 2025 - 2026
D9: Tên lớp: ĐH Thú Y A 2024 , Bậc đào tạo: Đại học (DA24TYA)
D10: Khoá: 2024 ; Hệ đào tạo: Chính qui
A12: STT | B12: MSSV | C12: HỌ VÀ TÊN | E12: PHÁI | F12: N.SINH | G12: D.TỘC | H12: ĐÁNH GIÁ ĐIỂM RÈN LUYỆN | M12: TỔNG | N12: X.LOẠI | P12: GHI CHÚ
H13: TC1 | I13: TC2 | J13: TC3 | K13: TC4 | L13: TC5
A14: 1 | B14: 111324155 | C14: Nguyễn Quốc Đạt | E14: Nam | F14: 25/08/2005 | H14: 9 | I14: 25 | J14: 4 | K14: 18 | L14: 0 | M14: 56 | N14: Trung bình
A15: 2 | B15: 111324124 | C15: Nguyễn Ngọc Bảo Trâm | E15: Nữ | F15: 11/04/2006 | H15: 20 | I15: 25 | J15: 8 | K15: 20 | L15: 2 | M15: 75 | N15: Khá
A16: 3 | B16: 111324027 | C16: Nguyễn Thái Trường Duy | E16: Nam | F16: 22/06/2006 | H16: 20 | I16: 25 | J16: 0 | K16: 10 | L16: 0 | M16: 55 | N16: Trung bình
A17: 4 | B17: 111324018 | C17: Trần Thị Minh Châu | E17: Nữ | F17: 28/01/2006 | H17: 20 | I17: 25 | J17: 17 | K17: 20 | L17: 2 | M17: 84 | N17: Tốt
A18: 5 | B18: 111324154 | C18: Huỳnh Thảo Duy | E18: Nữ | F18: 14/01/2006 | H18: 16 | I18: 25 | J18: 10 | K18: 12 | L18: 0 | M18: 63 | N18: Trung bình
A19: 6 | B19: 111324066 | C19: Huỳnh Minh Bảo Lộc | E19: Nam | F19: 03/12/2006 | H19: 20 | I19: 25 | J19: 15 | K19: 20 | L19: 0 | M19: 80 | N19: Tốt
A20: 7 | B20: 111324147 | C20: Khúc Ngọc Ái Vy | E20: Nữ | F20: 03/07/2006 | H20: 20 | I20: 25 | J20: 12 | K20: 20 | L20: 4 | M20: 81 | N20: Tốt
A21: 8 | B21: 111324065 | C21: Trương Ái Linh | E21: Nữ | F21: 24/07/2006 | H21: 20 | I21: 25 | J21: 20 | K21: 24 | L21: 7 | M21: 96 | N21: Xuất sắc
A22: 9 | B22: 111324026 | C22: Thạch Thị Hồng Diễm | E22: Nữ | F22: 18/04/2006 | H22: 20 | I22: 25 | J22: 10 | K22: 20 | L22: 7 | M22: 82 | N22: Tốt
A23: 10 | B23: 111324002 | C23: Bùi Thiên Ân | E23: Nữ | F23: 11/02/2006 | H23: 20 | I23: 25 | J23: 6 | K23: 25 | L23: 10 | M23: 86 | N23: Tốt
A24: 11 | B24: 111324074 | C24: Nguyễn Trúc Nghi | E24: Nữ | F24: 24/05/2006 | H24: 20 | I24: 25 | J24: 20 | K24: 25 | L24: 10 | M24: 100 | N24: Xuất sắc
A25: 12 | B25: 111324017 | C25: Diệp Lộc Khang Châu | E25: Nam | F25: 18/06/2006 | H25: 16 | I25: 25 | J25: 15 | K25: 20 | L25: 7 | M25: 83 | N25: Tốt
