Workbook

Sheet DA22TYA
J1: QT7.5/CTSV1-BM18
A2: ĐẠI HỌC TRÀ VINH | J2: CỘNG HOÀ XÃ HỘI CHỦ NGHĨA VIỆT NAM
A3: KHOA NÔNG NGHIỆP THỦY SẢN | J3: Độc lập - Tự do - Hạnh phúc
J5: Vĩnh Long, ngày 27 tháng 5 năm 2026
A6: BẢNG ĐÁNH GIÁ KẾT QUẢ RÈN LUYỆN CỦA SINH VIÊN, HỌC SINH
D7: Học kỳ: 1 Năm học: 2025 - 2026
D8: Tên lớp: ĐH Thú Y A 2022 , Bậc đào tạo: Đại học (DA22TYA)
D9: Khoá: 2022 ; Hệ đào tạo: Chính qui
A11: STT | B11: MSSV | C11: HỌ VÀ TÊN | E11: PHÁI | F11: N.SINH | G11: D.TỘC | H11: ĐÁNH GIÁ ĐIỂM RÈN LUYỆN | M11: TỔNG | N11: X.LOẠI | P11: GHI CHÚ
H12: TC1 | I12: TC2 | J12: TC3 | K12: TC4 | L12: TC5
A13: 1 | B13: 111322023 | C13: Diệp Quốc Hảo | E13: Nam | F13: 03/04/2004 | M13: 0 | N13: Kém
M14: =SUBTOTAL(9,H14:L14) -> 0
A15: 3 | B15: 111322041 | C15: Trương Tấn Khoa | E15: Nam | F15: 04/09/2004 | H15: 20 | I15: 25 | J15: 0 | K15: 19 | L15: 1 | M15: 65 | N15: Khá
A16: 4 | B16: 111322018 | C16: Phạm Đình Khánh Đoan | E16: Nữ | F16: 27/07/2004 | H16: 20 | I16: 25 | J16: 2 | K16: 17 | L16: 10 | M16: 74 | N16: Khá
M17: =SUBTOTAL(9,H17:L17) -> 0
A18: 6 | B18: 111322139 | C18: Lâm Bùi Nhất Duy | E18: Nam | F18: 15/07/2004 | H18: 16 | I18: 25 | J18: 0 | K18: 12 | L18: 0 | M18: 53 | N18: Trung bình
M19: =SUBTOTAL(9,H19:L19) -> 0
M20: =SUBTOTAL(9,H20:L20) -> 0
A21: 9 | B21: 111322124 | C21: Nguyễn Hải Long | E21: Nam | F21: 16/06/2004 | H21: 20 | I21: 25 | J21: 2 | K21: 16 | L21: 5 | M21: 68 | N21: Khá
M22: =SUBTOTAL(9,H22:L22) -> 0
M23: =SUBTOTAL(9,H23:L23) -> 0
A24: 12 | B24: 111322001 | C24: Nguyễn Phúc An | E24: Nam | F24: 08/05/2004 | H24: 20 | I24: 25 | J24: 0 | K24: 20 | L24: 2 | M24: 67 | N24: Khá
A25: 13 | B25: 111322007 | C25: Võ Gia Bảo | E25: Nam | F25: 17/04/2004 | H25: 20 | I25: 25 | J25: 0 | K25: 13 | L25: 10 | M25: 68 | N25: Khá
A26: 14 | B26: 111322015 | C26: Lâm Tiến Đạt | E26: Nam | F26: 28/07/2004 | H26: 20 | I26: 25 | J26: 5 | K26: 17 | L26: 2 | M26: 69 | N26: Khá
A27: 15 | B27: 111322046 | C27: Sầm Tuệ Mẫn | E27: Nữ | F27: 01/05/2004 | H27: 20 | I27: 25 | J27: 10 | K27: 16 | L27: 0 | M27: 71 | N27: Khá
M28: =SUBTOTAL(9,H28:L28) -> 0
M29: =SUBTOTAL(9,H29:L29) -> 0
A30: 18 | B30: 111322120 | C30: Lê Đình Hiển | E30: Nam | F30: 06/08/2004 | H30: 20 | I30: 25 | J30: 0 | K30: 21 | L30: 10 | M30: 76 | N30: Khá
M31: =SUBTOTAL(9,H31:L31) -> 0
M32: =SUBTOTAL(9,H32:L32) -> 0
A33: 21 | B33: 111322011 | C33: Phạm Lê Kim Cương | E33: Nữ | F33: 31/03/2004 | H33: 20 | I33: 25 | J33: 2 | K33: 15 | L33: 0 | M33: 62 | N33: Trung bình
A34: 22 | B34: 111322121 | C34: Huỳnh Tấn Hưng | E34: Nam | F34: 09/01/2004 | H34: 18 | I34: 25 | J34: 0 | K34: 22 | L34: 2 | M34: 67 | N34: Khá
A35: 23 | B35: 111322010 | C35: Nguyễn An Cư | E35: Nam | F35: 28/03/2004 | H35: 20 | I35: 25 | J35: 0 | K35: 20 | L35: 2 | M35: 67 | N35: Khá
A36: 24 | B36: 111322039 | C36: Lâm Hoàng Duy Khánh | E36: Nam | F36: 01/09/2004 | H36: 14 | I36: 25 | J36: 0 | K36: 16 | L36: 5 | M36: 60 | N36: Trung bình
A37: 25 | B37: 111322140 | C37: Thạch Phước Hảo | E37: Nam | F37: 17/02/2003 | H37: 18 | I37: 25 | J37: 12 | K37: 18 | L37: 2 | M37: 75 | N37: Khá
A38: 26 | B38: 111322028 | C38: Lê Nguyễn Thanh Hùng | E38: Nam | F38: 18/12/2004 | H38: 20 | I38: 25 | J38: 8 | K38: 9 | L38: 0 | M38: 62 | N38: Trung bình
A39: 27 | B39: 111322016 | C39: Kim Di | E39: Nam | F39: 10/05/2004 | H39: 20 | I39: 25 | J39: 2 | K39: 13 | L39: 5 | M39: 65 | N39: Khá
A40: 28 | B40: 111322142 | C40: Thạch Minh Hoàng | E40: Nam | F40: 03/04/2004 | H40: 20 | I40: 25 | J40: 4 | K40: 14 | L40: 2 | M40: 65 | N40: Khá
A41: 29 | B41: 111322135 | C41: Vũ Trần Mai Vy | E41: Nữ | F41: 30/05/2004 | H41: 20 | I41: 25 | J41: 0 | K41: 20 | L41: 1 | M41: 66 | N41: Khá
A42: 30 | B42: 111322006 | C42: Trần Hữu Bằng | E42: Nam | F42: 09/10/2003 | H42: 16 | I42: 25 | J42: 0 | K42: 11 | L42: 0 | M42: 52 | N42: Trung bình
A43: 31 | B43: 111322031 | C43: Trần Nguyễn Hưng | E43: Nam | F43: 07/06/2004 | H43: 18 | I43: 25 | J43: 2 | K43: 18 | L43: 2 | M43: 65 | N43: Khá
A44: 32 | B44: 111322034 | C44: Ngô Trần Quang Huy | E44: Nam | F44: 18/07/2004 | H44: 20 | I44: 25 | J44: 4 | K44: 17 | L44: 5 | M44: 71 | N44: Khá
A45: 33 | B45: 111322008 | C45: Huỳnh Tiểu Cang | E45: Nam | F45: 02/10/2004 | H45: 20 | I45: 25 | J45: 7 | K45: 11 | L45: 0 | M45: 63 | N45: Trung bình
M46: =SUBTOTAL(9,H46:L46) -> 0
A47: 35 | B47: 111322026 | C47: Nguyễn Khưu Hữu Hiền | E47: Nam | F47: 16/07/2004 | H47: 20 | I47: 25 | J47: 0 | K47: 17 | L47: 5 | M47: 67 | N47: Khá
A48: 36 | B48: 111322132 | C48: Trần Mạnh Thường | E48: Nam | F48: 03/11/2004 | H48: 20 | I48: 25 | J48: 2 | K48: 21 | L48: 3 | M48: 71 | N48: Khá
M49: =SUBTOTAL(9,H49:L49) -> 0
M50: =SUBTOTAL(9,H50:L50) -> 0
A51: 39 | B51: 111322038 | C51: Huỳnh Ngọc Khánh | E51: Nam | F51: 11/02/2004 | H51: 18 | I51: 25 | J51: 2 | K51: 13 | L51: 7 | M51: 65 | N51: Khá
M52: =SUBTOTAL(9,H52:L52) -> 0
A53: 41 | B53: 111322040 | C53: Trần Nhật Khánh | E53: Nam | F53: 11/08/2002 | H53: 20 | I53: 25 | J53: 0 | K53: 20 | L53: 2 | M53: 67 | N53: Khá
M54: =SUBTOTAL(9,H54:L54) -> 0
A55: 43 | B55: 111322117 | C55: Nguyễn Mộng Bắc | E55: Nam | F55: 23/12/2004 | H55: 20 | I55: 25 | J55: 0 | K55: 14 | L55: 7 | M55: 66 | N55: Khá
M56: =SUBTOTAL(9,H56:L56) -> 0
M57: =SUBTOTAL(9,H57:L57) -> 0
A58: 46 | B58: 111322050 | C58: Phạm Gia Minh | E58: Nam | F58: 10/03/2004 | H58: 18 | I58: 20 | J58: 0 | K58: 15 | L58: 5 | M58: 58 | N58: Trung bình
M59: =SUBTOTAL(9,H59:L59) -> 0
A60: 48 | B60: 111322002 | C60: Nguyễn Hồng Nhật Anh | E60: Nữ | F60: 18/04/2004 | H60: 18 | I60: 25 | J60: 2 | K60: 20 | L60: 0 | M60: 65 | N60: Khá
A61: 49 | B61: 111322144 | C61: Lê Văn Huy | E61: Nam | F61: 05/04/2004 | H61: 18 | I61: 25 | J61: 0 | K61: 9 | L61: 8 | M61: 60 | N61: Trung bình
A62: 50 | B62: 111322048 | C62: Sơn Ra Sa Mây | E62: Nam | F62: 28/04/2004 | H62: 20 | I62: 25 | J62: 10 | K62: 17 | L62: 1 | M62: 73 | N62: Khá
A63: 51 | B63: 111322004 | C63: Mai Hải Âu | E63: Nam | F63: 30/07/2004 | H63: 20 | I63: 25 | J63: 2 | K63: 11 | L63: 2 | M63: 60 | N63: Trung bình
A64: 52 | B64: 111322042 | C64: Thạch Phi La | E64: Nam | F64: 04/12/2004 | H64: 18 | I64: 25 | J64: 7 | K64: 18 | L64: 1 | M64: 69 | N64: Khá
A65: 53 | B65: 111322013 | C65: Trần Công Danh | E65: Nam | F65: 16/02/2004 | H65: 18 | I65: 25 | J65: 1 | K65: 23 | L65: 10 | M65: 77 | N65: Khá
A66: 54 | B66: 111322021 | C66: Lê Văn Hào | E66: Nam | F66: 06/06/2004 | H66: 20 | I66: 25 | J66: 0 | K66: 20 | L66: 2 | M66: 67 | N66: Khá
A67: 55 | B67: 111322122 | C67: Trần Lâm Khôi | E67: Nam | F67: 18/06/2004 | H67: 18 | I67: 25 | J67: 2 | K67: 20 | L67: 0 | M67: 65 | N67: Khá
A68: 56 | B68: 111322029 | C68: Huỳnh Phước Hưng | E68: Nam | F68: 13/01/2004 | H68: 18 | I68: 20 | J68: 0 | K68: 9 | L68: 5 | M68: 52 | N68: Trung bình
A70: Danh sách trên có: 56 sinh viên | J70: TM. HỘI ĐỒNG XÉT ĐIỂM RÈN LUYỆN
J71: CHỦ TỊCH HỘI ĐỒNG
I80: xs | J80: tốt | K80: khá | L80: tb | M80: yếu | N80: kém
H81: =SUM(I81:N81) -> 38 | I81: =COUNTIF(N13:O68,"xuất sắc") -> 0 | J81: =COUNTIF(N13:O68,"tốt") -> 0 | K81: =COUNTIF(N13:O68,"khá") -> 27 | L81: =COUNTIF(N13:O68,"trung bình") -> 10 | M81: =COUNTIF(N13:O68,"yếu") -> 0 | N81: =COUNTIF(N13:O68,"kém") -> 1

Sheet DA22TYB
J1: QT7.5/CTSV1-BM18
A2: ĐẠI HỌC TRÀ VINH | J2: CỘNG HOÀ XÃ HỘI CHỦ NGHĨA VIỆT NAM
A3: KHOA NÔNG NGHIỆP THỦY SẢN | J3: Độc lập - Tự do - Hạnh phúc
J5: Vĩnh Long, ngày 26 tháng 8 năm 2026
A7: BẢNG ĐÁNH GIÁ KẾT QUẢ RÈN LUYỆN CỦA SINH VIÊN, HỌC SINH
D8: Học kỳ: 2 Năm học: 2025 - 2026
D9: Tên lớp: ĐH Thú Y B 2022 , Bậc đào tạo: Đại học (DA22TYB)
D10: Khoá: 2022 ; Hệ đào tạo: Chính qui
A12: STT | B12: MSSV | C12: HỌ VÀ TÊN | E12: PHÁI | F12: N.SINH | G12: D.TỘC | H12: ĐÁNH GIÁ ĐIỂM RÈN LUYỆN | M12: TỔNG | N12: X.LOẠI | P12: GHI CHÚ
H13: TC1 | I13: TC2 | J13: TC3 | K13: TC4 | L13: TC5
A14: 1 | B14: 111322076 | C14: Trà Duy Tân | E14: Nam | F14: 09/04/2004 | M14: 0 | N14: Kém
A15: 2 | B15: 111322101 | C15: Nguyễn Hữu Trọng | E15: Nam | F15: 11/05/2004 | M15: 0 | N15: Kém
A16: 3 | B16: 111322087 | C16: Trịnh Vương Quốc Thịnh | E16: Nam | F16: 01/11/2004 | M16: 0 | N16: Kém
A17: 4 | B17: 111322060 | C17: Huỳnh Thảo Nhân | E17: Nữ | F17: 11/05/2004 | H17: 20 | I17: 25 | J17: 10 | K17: 20 | L17: 10 | M17: 85 | N17: Tốt
A18: 5 | B18: 111322102 | C18: Nguyễn Thanh Trúc | E18: Nữ | F18: 21/08/2004 | H18: 20 | I18: 25 | J18: 13 | K18: 14 | L18: 5 | M18: 77 | N18: Khá
A19: 6 | B19: 111322067 | C19: Nguyễn Chí Phong | E19: Nam | F19: 29/12/2004 | H19: 20 | I19: 25 | J19: 18 | K19: 24 | L19: 10 | M19: 97 | N19: Xuất sắc
A20: 7 | B20: 111322062 | C20: Trần Lê Minh Nhật | E20: Nam | F20: 11/12/2004 | H20: 20 | I20: 25 | J20: 13 | K20: 14 | L20: 10 | M20: 82 | N20: Tốt
A21: 8 | B21: 111322070 | C21: Phạm Đăng Quí | E21: Nam | F21: 22/10/2004 | H21: 20 | I21: 25 | J21: 15 | K21: 17 | L21: 5 | M21: 82 | N21: Tốt
A22: 9 | B22: 111322086 | C22: Trần Gia Thịnh | E22: Nam | F22: 22/03/2004 | H22: 20 | I22: 25 | J22: 12 | K22: 14 | L22: 10 | M22: 81 | N22: Tốt
A23: 10 | B23: 111322072 | C23: Võ Hữu Quỳnh | E23: Nam | F23: 30/11/2004 | H23: 20 | I23: 25 | J23: 19 | K23: 14 | L23: 7 | M23: 85 | N23: Tốt
A24: 11 | B24: 111322090 | C24: Huỳnh Thị Minh Thư | E24: Nữ | F24: 21/03/2003 | H24: 20 | I24: 25 | J24: 20 | K24: 20 | L24: 7 | M24: 92 | N24: Xuất sắc
A25: 12 | B25: 111322091 | C25: Nguyễn Thị Ngọc Thư | E25: Nữ | F25: 29/08/2004 | H25: 20 | I25: 25 | J25: 20 | K25: 20 | L25: 10 | M25: 95 | N25: Xuất sắc
A26: 13 | B26: 111322085 | C26: Thang Hiếu Thiên | E26: Nam | F26: 07/11/2004 | H26: 20 | I26: 20 | J26: 19 | K26: 16 | L26: 5 | M26: 80 | N26: Tốt
A27: 14 | B27: 111322112 | C27: Trương Tường Vy | E27: Nữ | F27: 11/10/2004 | H27: 20 | I27: 25 | J27: 14 | K27: 14 | L27: 5 | M27: 78 | N27: Khá
A28: 15 | B28: 111322105 | C28: Phạm Vĩnh Tường | E28: Nam | F28: 01/06/2003 | H28: 20 | I28: 25 | J28: 13 | K28: 14 | L28: 5 | M28: 77 | N28: Khá
... A51: 38 | B51: 111322109 | C51: Trần Phú Vinh | E51: Nam | F51: 18/03/2004 | H51: 20 | I51: 25 | J51: 10 | K51: 8 | L51: 6 | M51: 69 | N51: Khá
A52: 39 | B52: 111322073 | C52: Bùi Tấn Tài | E52: Nam | F52: 07/08/2004 | M52: 0 | N52: Kém
A53: 40 | B53: 111322061 | C53: Lê Thành Nhân | E53: Nam | F53: 27/07/2004 | H53: 20 | I53: 25 | J53: 14 | K53: 14 | L53: 8 | M53: 81 | N53: Tốt
A54: 41 | B54: 111322049 | C54: Bùi Bảo Minh | E54: Nam | F54: 01/03/2003 | H54: 20 | I54: 25 | J54: 10 | K54: 14 | L54: 5 | M54: 74 | N54: Khá
A55: 42 | B55: 111322096 | C55: Nguyễn Thị Huyền Trân | E55: Nữ | F55: 10/05/2004 | H55: 20 | I55: 25 | J55: 20 | K55: 22 | L55: 10 | M55: 97 | N55: Xuất sắc
A56: 43 | B56: 111322103 | C56: Nguyễn Hoàng Tuấn Tú | E56: Nam | F56: 19/01/2004 | H56: 20 | I56: 25 | J56: 16 | K56: 14 | L56: 10 | M56: 85 | N56: Tốt
A57: 44 | B57: 111322149 | C57: Nguyễn Hữu Phát | E57: Nam | F57: 04/02/2004 | H57: 18 | I57: 25 | J57: 12 | K57: 22 | L57: 5 | M57: 82 | N57: Tốt
A58: 45 | B58: 111322080 | C58: Nguyễn Thị Vân Thanh | E58: Nữ | F58: 10/10/2004 | H58: 20 | I58: 25 | J58: 19 | K58: 12 | L58: 5 | M58: 81 | N58: Tốt
A59: 46 | B59: 111322057 | C59: Trần Duy Nguyễn | E59: Nam | F59: 12/01/2004 | H59: 20 | I59: 25 | J59: 19 | K59: 12 | L59: 5 | M59: 81 | N59: Tốt
A60: 47 | B60: 111322081 | C60: Trần Lâm Vũ Thanh | E60: Nam | F60: 14/01/2004 | H60: 20 | I60: 25 | J60: 15 | K60: 16 | L60: 6 | M60: 82 | N60: Tốt
A61: 48 | B61: 111322098 | C61: Phạm Huỳnh Hải Trân | E61: Nữ | F61: 14/10/2004 | H61: 20 | I61: 25 | J61: 14 | K61: 14 | L61: 5 | M61: 78 | N61: Khá
A62: 49 | B62: 111322107 | C62: Lê Quốc Vinh | E62: Nam | F62: 17/01/2004 | H62: 20 | I62: 20 | J62: 16 | K62: 14 | L62: 5 | M62: 75 | N62: Khá
A63: 50 | B63: 111322093 | C63: Phạm Chí Tình | E63: Nam | F63: 10/04/2002 | H63: 16 | I63: 20 | J63: 0 | K63: 3 | L63: 0 | M63: 39 | N63: Yếu
A64: 51 | B64: 111322094 | C64: Nguyễn Lê Bảo Trâm | E64: Nữ | F64: 11/08/2004 | H64: 20 | I64: 25 | J64: 14 | K64: 14 | L64: 4 | M64: 77 | N64: Khá
A65: 52 | B65: 111322104 | C65: Nguyễn Thị Nhả Tú | E65: Nữ | F65: 22/10/2004 | M65: 0 | N65: Kém
A66: 53 | B66: 111322068 | C66: Hồ Ngọc Quang | E66: Nam | F66: 28/11/2004 | M66: 0 | N66: Kém
A69: Danh sách trên có: 53 sinh viên | J69: TM. HỘI ĐỒNG XÉT ĐIỂM RÈN LUYỆN
J70: CHỦ TỊCH HỘI ĐỒNG
H82: xs | I82: tốt | J82: khá | K82: tb | L82: yếu | M82: kém
G83: =SUM(H83:M83) -> 53 | H83: =COUNTIF(N14:O66,"xuất sắc") -> 10 | I83: =COUNTIF(N14:O66,"tốt") -> 18 | J83: =COUNTIF(N14:O66,"khá") -> 14 | K83: =COUNTIF(N14:O66,"trung bình") -> 3 | L83: =COUNTIF(N14:O66,"yếu") -> 1 | M83: =COUNTIF(N14:O66,"kém") -> 7

Sheet DA22CNSH
J1: QT7.5/CTSV1-BM18
A2: ĐẠI HỌC TRÀ VINH | J2: CỘNG HOÀ XÃ HỘI CHỦ NGHĨA VIỆT NAM
A3: KHOA NÔNG NGHIỆP THỦY SẢN | J3: Độc lập - Tự do - Hạnh phúc
J5: Vĩnh Long, ngày 26 tháng 8 năm 2026
A7: BẢNG ĐÁNH GIÁ KẾT QUẢ RÈN LUYỆN CỦA SINH VIÊN, HỌC SINH
D8: Học kỳ: 2 Năm học: 2025 - 2026
D9: Tên lớp: ĐH Công nghệ Sinh học 2022 , Bậc đào tạo: Đại học (DA22CNSH)
D10: Khoá: 2022 ; Hệ đào tạo: Chính qui
A12: STT | B12: MSSV | C12: HỌ VÀ TÊN | E12: PHÁI | F12: N.SINH | G12: D.TỘC | H12: ĐÁNH GIÁ ĐIỂM RÈN LUYỆN | M12: TỔNG | N12: X.LOẠI | P12: GHI CHÚ
H13: TC1 | I13: TC2 | J13: TC3 | K13: TC4 | L13: TC5
A14: 1 | B14: 117722006 | C14: Trần Hữu Hậu | E14: Nam | F14: 24/12/2004 | H14: 20 | I14: 25 | J14: 10 | K14: 9 | L14: 6 | M14: 70 | N14: Khá
A15: 2 | B15: 117722001 | C15: Nguyễn Viết Khánh Hưng | E15: Nam | F15: 10/12/2004 | H15: 20 | I15: 25 | J15: 16 | K15: 11 | L15: 10 | M15: 82 | N15: Tốt
A16: 3 | B16: 117722004 | C16: Lê Thị Phương Thảo | E16: Nữ | F16: 27/12/2004 | H16: 20 | I16: 25 | J16: 0 | K16: 19 | L16: 10 | M16: 74 | N16: Khá
A17: 4 | B17: 117722007 | C17: Huỳnh Hải Long | E17: Nam | F17: 09/06/2004 | H17: 20 | I17: 25 | J17: 12 | K17: 13 | L17: 10 | M17: 80 | N17: Tốt
A18: 5 | B18: 117722007 | C18: Huỳnh Hải Long | E18: Nam | F18: 09/06/2004 | M18: 0 | N18: Kém
A19: 6 | B19: 117722007 | C19: Huỳnh Hải Long | E19: Nam | F19: 09/06/2004 | M19: 0 | N19: Kém
A20: 7 | B20: 117722007 | C20: Huỳnh Hải Long | E20: Nam | F20: 09/06/2004 | M20: 0 | N20: Kém
A21: 8 | B21: 117722007 | C21: Huỳnh Hải Long | E21: Nam | F21: 09/06/2004 | M21: 0 | N21: Kém
A22: 9 | B22: 117722007 | C22: Huỳnh Hải Long | E22: Nam | F22: 09/06/2004 | M22: 0 | N22: Kém
A25: Danh sách trên có: 09 sinh viên | J25: TM. HỘI ĐỒNG XÉT ĐIỂM RÈN LUYỆN
J26: CHỦ TỊCH HỘI ĐỒNG
H33: xs | I33: tốt | J33: khá | K33: tb | L33: yếu | M33: kém
G34: =SUM(H34:M34) -> 9 | H34: =COUNTIF(N14:O22,"xuất sắc") -> 0 | I34: =COUNTIF(N14:O22,"tốt") -> 2 | J34: =COUNTIF(N14:O22,"khá") -> 2 | K34: =COUNTIF(N14:O22,"trung bình") -> 0 | L34: =COUNTIF(N14:O22,"yếu") -> 0 | M34: =COUNTIF(N14:O22,"kém") -> 5

Sheet DA22TSA
J1: QT7.5/CTSV1-BM18
A2: ĐẠI HỌC TRÀ VINH | J2: CỘNG HOÀ XÃ HỘI CHỦ NGHĨA VIỆT NAM
A3: KHOA NÔNG NGHIỆP THỦY SẢN | J3: Độc lập - Tự do - Hạnh phúc
J5: Vĩnh Long, ngày 26 tháng 8 năm 2026
A7: BẢNG ĐÁNH GIÁ KẾT QUẢ RÈN LUYỆN CỦA SINH VIÊN, HỌC SINH
D8: Học kỳ: 2 Năm học: 2025 - 2026
D9: Tên lớp: ĐH Nuôi trồng Thủy sản A 2022 , Bậc đào tạo: Đại học (DA22TSA)
D10: Khoá: 2022 ; Hệ đào tạo: Chính qui
A12: STT | B12: MSSV | C12: HỌ VÀ TÊN | E12: PHÁI | F12: N.SINH | G12: D.TỘC | H12: ĐÁNH GIÁ ĐIỂM RÈN LUYỆN | M12: TỔNG | N12: X.LOẠI | P12: GHI CHÚ
H13: TC1 | I13: TC2 | J13: TC3 | K13: TC4 | L13: TC5
A14: 1 | B14: 110322043 | C14: Phan Quốc Kiệt | E14: Nam | F14: 21/05/2004 | M14: 0 | N14: Kém
A15: 2 | B15: 110322024 | C15: Trần Trường Giang | E15: Nam | F15: 29/03/2004 | H15: 20 | I15: 25 | J15: 17 | K15: 24 | L15: 10 | M15: 96 | N15: Xuất sắc
A16: 3 | B16: 110322025 | C16: Nguyễn Ngọc Hân | E16: Nữ | F16: 03/03/2004 | H16: 20 | I16: 25 | J16: 12 | K16: 20 | L16: 5 | M16: 82 | N16: Tốt
A17: 4 | B17: 110322029 | C17: Trương Huy Hoàng | E17: Nam | F17: 09/01/2004 | H17: 20 | I17: 25 | J17: 12 | K17: 25 | L17: 9 | M17: 91 | N17: Xuất sắc
A18: 5 | B18: 110320003 | C18: Trương Văn Điều | E18: Nam | F18: 30/11/2001 | H18: 16 | I18: 25 | J18: 10 | K18: 12 | L18: 7 | M18: 70 | N18: Khá
A19: 6 | B19: 110322063 | C19: Trần Thúy Oanh | E19: Nữ | F19: 20/04/2001 | H19: 20 | I19: 25 | J19: 10 | K19: 22 | L19: 3 | M19: 80 | N19: Tốt
A20: 7 | B20: 110322105 | C20: Võ Ngọc Tuyền | E20: Nữ | F20: 22/04/2004 | H20: 20 | I20: 25 | J20: 17 | K20: 20 | L20: 10 | M20: 92 | N20: Xuất sắc
A21: 8 | B21: 110322104 | C21: Phùng Thị Trình Trình | E21: Nữ | F21: 09/07/2004 | H21: 18 | I21: 25 | J21: 10 | K21: 12 | L21: 0 | M21: 65 | N21: Khá
A22: 9 | B22: 110322036 | C22: Bùi Đăng Khoa | E22: Nam | F22: 25/08/2004 | H22: 16 | I22: 25 | J22: 10 | K22: 14 | L22: 0 | M22: 65 | N22: Khá
A23: 10 | B23: 110322026 | C23: Nguyễn Ngọc Hân | E23: Nữ | F23: 25/03/2004 | H23: 20 | I23: 25 | J23: 10 | K23: 12 | L23: 0 | M23: 67 | N23: Khá
A24: 11 | B24: 110322034 | C24: Bùi Tuấn Khanh | E24: Nam | F24: 22/05/2004 | H24: 20 | I24: 25 | J24: 10 | K24: 16 | L24: 0 | M24: 71 | N24: Khá
A25: 12 | B25: 110322014 | C25: Huỳnh Thị Phương Du | E25: Nữ | F25: 20/08/2004 | H25: 18 | I25: 25 | J25: 12 | K25: 14 | L25: 1 | M25: 70 | N25: Khá
A26: 13 | B26: 110322004 | C26: Sơn Thị Kim Anh | E26: Nữ | F26: 01/03/2004 | H26: 20 | I26: 25 | J26: 10 | K26: 12 | L26: 0 | M26: 67 | N26: Khá
... A59: 46 | B59: 110322054 | C59: Bùi Thanh Ngàn | E59: Nam | F59: 21/11/2004 | H59: 18 | I59: 25 | J59: 10 | K59: 12 | L59: 0 | M59: 65 | N59: Khá
A62: Danh sách trên có: 46 sinh viên | J62: TM. HỘI ĐỒNG XÉT ĐIỂM RÈN LUYỆN
J63: CHỦ TỊCH HỘI ĐỒNG
H71: xs | I71: tốt | J71: khá | K71: tb | L71: yếu | M71: kém
G72: =SUM(H72:M72) -> 46 | H72: =COUNTIF(N14:O59,"xuất sắc") -> 4 | I72: =COUNTIF(N14:O59,"tốt") -> 3 | J72: =COUNTIF(N14:O59,"khá") -> 38 | K72: =COUNTIF(N14:O59,"trung bình") -> 0 | L72: =COUNTIF(N14:O59,"yếu") -> 0 | M72: =COUNTIF(N14:O59,"kém") -> 1

Sheet DA22TSB
J1: QT7.5/CTSV1-BM18
A2: ĐẠI HỌC TRÀ VINH | J2: CỘNG HOÀ XÃ HỘI CHỦ NGHĨA VIỆT NAM
A3: KHOA NÔNG NGHIỆP THỦY SẢN | J3: Độc lập - Tự do - Hạnh phúc
J5: Vĩnh Long, ngày 26 tháng 8 năm 2026
A7: BẢNG ĐÁNH GIÁ KẾT QUẢ RÈN LUYỆN CỦA SINH VIÊN, HỌC SINH
D8: Học kỳ: 2 Năm học: 2025 - 2026
D9: Tên lớp: ĐH Nuôi trồng Thủy sản B 2022 , Bậc đào tạo: Đại học (DA22TSB)
D10: Khoá: 2022 ; Hệ đào tạo: Chính qui
A12: STT | B12: MSSV | C12: HỌ VÀ TÊN | E12: PHÁI | F12: N.SINH | G12: D.TỘC | H12: ĐÁNH GIÁ ĐIỂM RÈN LUYỆN | M12: TỔNG | N12: X.LOẠI | P12: GHI CHÚ
H13: TC1 | I13: TC2 | J13: TC3 | K13: TC4 | L13: TC5
A14: 1 | B14: 110322077 | C14: Nguyễn Thị Huyền Trân | E14: Nữ | F14: 30/10/2004 | H14: 20 | I14: 25 | J14: 15 | K14: 13 | L14: 10 | M14: 83 | N14: Tốt
A15: 2 | B15: 110322097 | C15: Mai Ngọc Duyên | E15: Nữ | F15: 14/07/2004 | H15: 20 | I15: 25 | J15: 17 | K15: 25 | L15: 5 | M15: 92 | N15: Xuất sắc
A16: 3 | B16: 110322056 | C16: Kim Thị Nguyên | E16: Nữ | F16: 24/12/2003 | H16: 20 | I16: 25 | J16: 10 | K16: 20 | L16: 2 | M16: 77 | N16: Khá
A17: 4 | B17: 110322059 | C17: Nguyễn Thị Thanh Nhanh | E17: Nữ | F17: 09/10/2004 | H17: 20 | I17: 25 | J17: 10 | K17: 17 | L17: 0 | M17: 72 | N17: Khá
A18: 5 | B18: 110322052 | C18: Đinh Công Nhật Minh | E18: Nam | F18: 19/04/2004 | H18: 20 | I18: 25 | J18: 15 | K18: 16 | L18: 10 | M18: 86 | N18: Tốt
A19: 6 | B19: 110322008 | C19: Nguyễn Quốc Chí | E19: Nam | F19: 24/04/2004 | H19: 18 | I19: 25 | J19: 10 | K19: 12 | L19: 4 | M19: 69 | N19: Khá
A20: 7 | B20: 110322084 | C20: Nguyễn Quốc Vẹn | E20: Nam | F20: 23/03/2004 | H20: 18 | I20: 25 | J20: 10 | K20: 12 | L20: 0 | M20: 65 | N20: Khá
A21: 8 | B21: 110322061 | C21: Huỳnh Như | E21: Nữ | F21: 18/05/2002 | H21: 20 | I21: 25 | J21: 20 | K21: 21 | L21: 10 | M21: 96 | N21: Xuất sắc
A22: 9 | B22: 110322050 | C22: Trầm Cao Tiểu Mi | E22: Nữ | F22: 10/09/2004 | H22: 20 | I22: 25 | J22: 10 | K22: 14 | L22: 0 | M22: 69 | N22: Khá
A23: 10 | B23: 110322086 | C23: Diệp Quang Vinh | E23: Nam | F23: 03/02/2004 | H23: 18 | I23: 25 | J23: 15 | K23: 14 | L23: 1 | M23: 73 | N23: Khá
A24: 11 | B24: 110322093 | C24: Sơn Đông Đầy | E24: Nam | F24: 09/02/2004 | H24: 20 | I24: 25 | J24: 15 | K24: 25 | L24: 5 | M24: 90 | N24: Xuất sắc
A25: 12 | B25: 110322087 | C25: Lâm Trường Vinh | E25: Nam | F25: 29/01/2004 | H25: 20 | I25: 25 | J25: 20 | K25: 25 | L25: 5 | M25: 95 | N25: Xuất sắc
... A49: 36 | B49: 110322099 | C49: Hà Quốc Kiệt | E49: Nam | F49: 29/09/2004 | H49: 18 | I49: 25 | J49: 10 | K49: 12 | L49: 0 | M49: 65 | N49: Khá
A50: 37 | B50: 110322074 | C50: Trầm Bửu Toàn | E50: Nam | F50: 24/02/2004 | M50: 0 | N50: Kém
A51: 38 | B51: 110322048 | C51: Lê Tấn Lợi | E51: Nam | F51: 20/03/2004 | M51: 0 | N51: Kém
A54: Danh sách trên có: 38 sinh viên | J54: TM. HỘI ĐỒNG XÉT ĐIỂM RÈN LUYỆN
J55: CHỦ TỊCH HỘI ĐỒNG
H63: xs | I63: tốt | J63: khá | K63: tb | L63: yếu | M63: kém
G64: =SUM(H64:M64) -> 38 | H64: =COUNTIF(N14:O51,"xuất sắc") -> 4 | I64: =COUNTIF(N14:O51,"tốt") -> 5 | J64: =COUNTIF(N14:O51,"khá") -> 27 | K64: =COUNTIF(N14:O51,"trung bình") -> 0 | L64: =COUNTIF(N14:O51,"yếu") -> 0 | M64: =COUNTIF(N14:O51,"kém") -> 2

Sheet DA22KTCT
J1: QT7.5/CTSV1-BM18
A2: ĐẠI HỌC TRÀ VINH | J2: CỘNG HOÀ XÃ HỘI CHỦ NGHĨA VIỆT NAM
A3: KHOA NÔNG NGHIỆP THỦY SẢN | J3: Độc lập - Tự do - Hạnh phúc
J5: Vĩnh Long, ngày 26 tháng 8 năm 2026
A7: BẢNG ĐÁNH GIÁ KẾT QUẢ RÈN LUYỆN CỦA SINH VIÊN, HỌC SINH
D8: Học kỳ: 2 Năm học: 2025 - 2026
D9: Tên lớp: ĐH Kỹ thuật Cây trồng 2022 , Bậc đào tạo: Đại học (DA22KTCT)
D10: Khoá: 2022 ; Hệ đào tạo: Chính qui
A12: STT | B12: MSSV | C12: HỌ VÀ TÊN | E12: PHÁI | F12: N.SINH | G12: D.TỘC | H12: ĐÁNH GIÁ ĐIỂM RÈN LUYỆN | M12: TỔNG | N12: X.LOẠI | P12: GHI CHÚ
H13: TC1 | I13: TC2 | J13: TC3 | K13: TC4 | L13: TC5
A14: 1 | B14: 114722012 | C14: Thạch Khánh Nguyên | E14: Nam | F14: 27/01/2004 | M14: 0 | N14: Kém
A15: 2 | B15: 114722004 | C15: Bùi Phúc Duy Chương | E15: Nam | F15: 03/11/2004 | H15: 20 | I15: 25 | J15: 15 | K15: 25 | L15: 10 | M15: 95 | N15: Xuất sắc
A16: 3 | B16: 114722009 | C16: Huỳnh Quốc Huy | E16: Nam | F16: 04/11/2004 | H16: 20 | I16: 25 | J16: 13 | K16: 25 | L16: 8 | M16: 91 | N16: Xuất sắc
A17: 4 | B17: 114722016 | C17: Võ Thanh Phú | E17: Nam | F17: 17/02/2004 | H17: 20 | I17: 20 | J17: 13 | K17: 19 | L17: 10 | M17: 82 | N17: Tốt
A18: 5 | B18: 114722027 | C18: Thạch Hữu Khang | E18: Nam | F18: 30/04/2004 | H18: 18 | I18: 20 | J18: 17 | K18: 21 | L18: 4 | M18: 80 | N18: Tốt
A19: 6 | B19: 114722018 | C19: Võ Hoàng Phương | E19: Nam | F19: 15/01/2004 | H19: 20 | I19: 25 | J19: 0 | K19: 24 | L19: 0 | M19: 69 | N19: Khá
A20: 7 | B20: 114722010 | C20: Trần Thế Khang | E20: Nam | F20: 13/03/2004 | H20: 20 | I20: 22 | J20: 10 | K20: 13 | L20: 5 | M20: 70 | N20: Khá
A21: 8 | B21: 114722025 | C21: Nguyễn Thị Thanh Vân | E21: Nữ | F21: 03/10/2004 | H21: 20 | I21: 25 | J21: 20 | K21: 25 | L21: 10 | M21: 100 | N21: Xuất sắc
A22: 9 | B22: 114722029 | C22: Chau Mi Na | E22: Nam | F22: 30/03/2004 | H22: 20 | I22: 25 | J22: 10 | K22: 25 | L22: 5 | M22: 85 | N22: Tốt
A23: 10 | B23: 114722015 | C23: Trịnh Minh Nhựt | E23: Nam | F23: 13/03/2004 | H23: 20 | I23: 25 | J23: 17 | K23: 25 | L23: 10 | M23: 97 | N23: Xuất sắc
A24: 11 | B24: 114722017 | C24: Trần Minh Phụng | E24: Nam | F24: 27/09/2004 | H24: 20 | I24: 25 | J24: 16 | K24: 25 | L24: 10 | M24: 96 | N24: Xuất sắc
A25: 12 | B25: 114722019 | C25: Nguyễn Thành Sơn | E25: Nam | F25: 17/09/2004 | H25: 20 | I25: 25 | J25: 13 | K25: 25 | L25: 0 | M25: 83 | N25: Tốt
A26: 13 | B26: 114722014 | C26: Huỳnh Phạm Minh Nhựt | E26: Nam | F26: 24/01/2004 | H26: 20 | I26: 20 | J26: 10 | K26: 24 | L26: 0 | M26: 74 | N26: Khá
... A30: 17 | B30: 114722007 | C30: Trần Thị Ngọc Hân | E30: Nữ | F30: 02/07/2004 | H30: 20 | I30: 25 | J30: 12 | K30: 25 | L30: 5 | M30: 87 | N30: Tốt
A33: Danh sách trên có: 17 sinh viên | J33: TM. HỘI ĐỒNG XÉT ĐIỂM RÈN LUYỆN
J34: CHỦ TỊCH HỘI ĐỒNG
H39: xs | I39: tốt | J39: khá | K39: tb | L39: yếu | M39: kém
G40: =SUM(H40:M40) -> 17 | H40: =COUNTIF(N14:O30,"xuất sắc") -> 5 | I40: =COUNTIF(N14:O30,"tốt") -> 7 | J40: =COUNTIF(N14:O30,"khá") -> 4 | K40: =COUNTIF(N14:O30,"trung bình") -> 0 | L40: =COUNTIF(N14:O30,"yếu") -> 0 | M40: =COUNTIF(N14:O30,"kém") -> 1

Sheet DA22CNTP
J1: QT7.5/CTSV1-BM18
A2: ĐẠI HỌC TRÀ VINH | J2: CỘNG HOÀ XÃ HỘI CHỦ NGHĨA VIỆT NAM
A3: KHOA NÔNG NGHIỆP THỦY SẢN | J3: Độc lập - Tự do - Hạnh phúc
J5: Vĩnh Long, ngày 26 tháng 8 năm 2026
A7: BẢNG ĐÁNH GIÁ KẾT QUẢ RÈN LUYỆN CỦA SINH VIÊN, HỌC SINH
D8: Học kỳ: 2 Năm học: 2025 - 2026
D9: Tên lớp: ĐH Công nghệ thực phẩm 2022 , Bậc đào tạo: Đại học (DA22CNTP)
D10: Khoá: 2022 ; Hệ đào tạo: Chính qui
A12: STT | B12: MSSV | C12: HỌ VÀ TÊN | E12: PHÁI | F12: N.SINH | G12: D.TỘC | H12: ĐÁNH GIÁ ĐIỂM RÈN LUYỆN | M12: TỔNG | N12: X.LOẠI | P12: GHI CHÚ
H13: TC1 | I13: TC2 | J13: TC3 | K13: TC4 | L13: TC5
A14: 1 | B14: 116222008 | C14: Hứa Trần Đức Khang | E14: Nam | F14: 22/11/2004 | M14: 0 | N14: Kém
A15: 2 | B15: 116222013 | C15: Kim Thị Ngọc Mai | E15: Nữ | F15: 28/07/2004 | H15: 20 | I15: 25 | J15: 15 | K15: 24 | L15: 10 | M15: 94 | N15: Xuất sắc
A16: 3 | B16: 116222034 | C16: Nguyễn Thị Huyền Trân | E16: Nữ | F16: 06/09/2004 | H16: 20 | I16: 25 | J16: 20 | K16: 25 | L16: 10 | M16: 100 | N16: Xuất sắc
A17: 4 | B17: 116222023 | C17: Huỳnh Thị Tố Quyên | E17: Nữ | F17: 30/01/2004 | H17: 20 | I17: 25 | J17: 20 | K17: 25 | L17: 10 | M17: 100 | N17: Xuất sắc
A18: 5 | B18: 116222029 | C18: Nguyễn Thị Ngọc Thơ | E18: Nữ | F18: 20/12/2004 | H18: 20 | I18: 25 | J18: 15 | K18: 25 | L18: 10 | M18: 95 | N18: Xuất sắc
A19: 6 | B19: 116222014 | C19: Trà Thị Xuân Ngà | E19: Nữ | F19: 28/07/2004 | H19: 20 | I19: 25 | J19: 20 | K19: 25 | L19: 10 | M19: 100 | N19: Xuất sắc
A20: 7 | B20: 116222017 | C20: Hồ Thị Yến Nhi | E20: Nữ | F20: 14/11/2004 | H20: 20 | I20: 25 | J20: 16 | K20: 25 | L20: 10 | M20: 96 | N20: Xuất sắc
A21: 8 | B21: 116222035 | C21: Trương Thị Mỹ Trinh | E21: Nữ | F21: 14/10/2004 | H21: 20 | I21: 25 | J21: 20 | K21: 25 | L21: 7 | M21: 97 | N21: Xuất sắc
A22: 9 | B22: 116222012 | C22: Nguyễn Hoàng Lâm | E22: Nam | F22: 13/04/2004 | H22: 20 | I22: 25 | J22: 15 | K22: 20 | L22: 6 | M22: 86 | N22: Tốt
A23: 10 | B23: 116222032 | C23: Nguyễn Thị Kiều Tiên | E23: Nữ | F23: 10/03/2004 | H23: 20 | I23: 25 | J23: 15 | K23: 20 | L23: 7 | M23: 87 | N23: Tốt
A24: 11 | B24: 116222019 | C24: Hà Thị Tuyết Nhung | E24: Nữ | F24: 11/04/2004 | H24: 20 | I24: 25 | J24: 15 | K24: 20 | L24: 7 | M24: 87 | N24: Tốt
A25: 12 | B25: 116222002 | C25: Nguyễn Thị Ngọc Bích | E25: Nữ | F25: 23/10/2004 | H25: 20 | I25: 25 | J25: 15 | K25: 25 | L25: 7 | M25: 92 | N25: Xuất sắc
A26: 13 | B26: 116222040 | C26: Trần Thị Hồng Nhi | E26: Nữ | F26: 04/08/2004 | H26: 20 | I26: 25 | J26: 19 | K26: 20 | L26: 7 | M26: 91 | N26: Xuất sắc
... A43: 30 | B43: 116222025 | C43: Võ Văn Quyến | E43: Nam | F43: 17/07/2004 | H43: 16 | I43: 25 | J43: 2 | K43: 13 | L43: 3 | M43: 59 | N43: Trung bình
A46: Danh sách trên có: 30 sinh viên | J46: TM. HỘI ĐỒNG XÉT ĐIỂM RÈN LUYỆN
J47: CHỦ TỊCH HỘI ĐỒNG
I53: xs | J53: tốt | K53: khá | L53: tb | M53: yếu | N53: kém
H54: =SUM(I54:N54) -> 30 | I54: =COUNTIF(N14:O43,"xuất sắc") -> 12 | J54: =COUNTIF(N14:O43,"tốt") -> 12 | K54: =COUNTIF(N14:O43,"khá") -> 4 | L54: =COUNTIF(N14:O43,"trung bình") -> 1 | M54: =COUNTIF(N14:O43,"yếu") -> 0 | N54: =COUNTIF(N14:O43,"kém") -> 1

Sheet THONG KE
A1: Tt | B1: Lớp | C1: Cố vấn học tập | D1: Sĩ số | J1: Nghỉ/ Bảo lưu | K1: Thực học
D2: Tổng | E2: XS | F2: Tốt | G2: Khá | H2: TB | I2: Yếu
A3: 4 | B3: DA22TYA | C3: Nguyễn Văn Vui | D3: =SUM(E3:J3) -> 38 | E3: =DA22TYA!I81 -> 0 | F3: =DA22TYA!J81 -> 0 | G3: =DA22TYA!K81 -> 27 | H3: =DA22TYA!L81 -> 10 | I3: =DA22TYA!M81 -> 0 | J3: =DA22TYA!N81 -> 1 | K3: =D3-J3 -> 37
A4: 5 | B4: DA22TYB | C4: Nguyễn Thị Kim Quyên | D4: =SUM(E4:J4) -> 53 | E4: =DA22TYB!H83 -> 10 | F4: =DA22TYB!I83 -> 18 | G4: =DA22TYB!J83 -> 14 | H4: =DA22TYB!K83 -> 3 | I4: =DA22TYB!L83 -> 1 | J4: =DA22TYB!M83 -> 7 | K4: =D4-J4 -> 46
A5: 6 | B5: DA23TYA | C5: Thái Thị Thanh Trọn | D5: =SUM(E5:J5) -> 35 | E5: =DA23TYA!I62 -> 20 | F5: =DA23TYA!J62 -> 6 | G5: =DA23TYA!K62 -> 8 | H5: =DA23TYA!L62 -> 1 | I5: =DA23TYA!M62 -> 0 | J5: =DA23TYA!N62 -> 0 | K5: =D5-J5 -> 35
A6: 7 | B6: DA23TYB | C6: Ngô Văn Nin | D6: =SUM(E6:J6) -> 41 | E6: =DA23TYB!I66 -> 8 | F6: =DA23TYB!J66 -> 24 | G6: =DA23TYB!K66 -> 4 | H6: =DA23TYB!L66 -> 0 | I6: =DA23TYB!M66 -> 0 | J6: =DA23TYB!N66 -> 5 | K6: =D6-J6 -> 36
A7: 8 | B7: DA23TYC | C7: Nhan Hoài Phong | D7: =SUM(E7:J7) -> 35 | E7: =DA23TYC!I58 -> 3 | F7: =DA23TYC!J58 -> 21 | G7: =DA23TYC!K58 -> 10 | H7: =DA23TYC!L58 -> 0 | I7: =DA23TYC!M58 -> 0 | J7: =DA23TYC!N58 -> 1 | K7: =D7-J7 -> 34
A8: 9 | B8: DA24TYA | C8: Kim Nàng | D8: =SUM(E8:J8) -> 41 | E8: =DA24TYA!H65 -> 6 | F8: =DA24TYA!I65 -> 16 | G8: =DA24TYA!J65 -> 12 | H8: =DA24TYA!K65 -> 7 | I8: =DA24TYA!L65 -> 0 | J8: =DA24TYA!M65 -> 0 | K8: =D8-J8 -> 41
A9: 10 | B9: DA24TYB | C9: Nguyễn Thùy Linh | D9: =SUM(E9:J9) -> 44 | E9: =DA24TYB!H72 -> 9 | F9: =DA24TYB!I72 -> 11 | G9: =DA24TYB!J72 -> 15 | H9: =DA24TYB!K72 -> 4 | I9: =DA24TYB!L72 -> 0 | J9: =DA24TYB!M72 -> 5 | K9: =D9-J9 -> 39
A10: 11 | B10: DA24TYC | C10: Lý Thị Thu Lan | D10: =SUM(E10:J10) -> 46 | E10: =DA24TYC!H72 -> 7 | F10: =DA24TYC!I72 -> 9 | G10: =DA24TYC!J72 -> 7 | H10: =DA24TYC!K72 -> 0 | I10: =DA24TYC!L72 -> 0 | J10: =DA24TYC!M72 -> 23 | K10: =D10-J10 -> 23
A11: 12 | B11: DA25TYA | C11: Châu Công Đáng | D11: =SUM(E11:J11) -> 59 | E11: =DA25TYA!I86 -> 14 | F11: =DA25TYA!J86 -> 20 | G11: =DA25TYA!K86 -> 12 | H11: =DA25TYA!L86 -> 4 | I11: =DA25TYA!M86 -> 0 | J11: =DA25TYA!N86 -> 9 | K11: =D11-J11 -> 50
A12: 13 | B12: DA25TYB | C12: Huỳnh Thanh Tân | D12: =SUM(E12:J12) -> 55 | E12: =DA25TYB!I82 -> 11 | F12: =DA25TYB!J82 -> 11 | G12: =DA25TYB!K82 -> 30 | H12: =DA25TYB!L82 -> 0 | I12: =DA25TYB!M82 -> 0 | J12: =DA25TYB!N82 -> 3 | K12: =D12-J12 -> 52
A13: 14 | B13: DA25TYC | C13: Trương Văn Hiểu | D13: =SUM(E13:J13) -> 48 | E13: =DA25TYC!I78 -> 10 | F13: =DA25TYC!J78 -> 13 | G13: =DA25TYC!K78 -> 11 | H13: =DA25TYC!L78 -> 9 | I13: =DA25TYC!M78 -> 0 | J13: =DA25TYC!N78 -> 5 | K13: =D13-J13 -> 43
A14: 15 | B14: DA22CNSH | C14: Nghị Khắc Nhu | D14: =SUM(E14:J14) -> 9 | E14: =DA22CNSH!H34 -> 0 | F14: =DA22CNSH!I34 -> 2 | G14: =DA22CNSH!J34 -> 2 | H14: =DA22CNSH!K34 -> 0 | I14: =DA22CNSH!L34 -> 0 | J14: =DA22CNSH!M34 -> 5 | K14: =D14-J14 -> 4
A15: 16 | B15: DA23CNSH | C15: Lê Quốc Duy | D15: =SUM(E15:J15) -> 8 | E15: =DA23CNSH!I33 -> 5 | F15: =DA23CNSH!J33 -> 3 | G15: =DA23CNSH!K33 -> 0 | H15: =DA23CNSH!L33 -> 0 | I15: =DA23CNSH!M33 -> 0 | J15: =DA23CNSH!N33 -> 0 | K15: =D15-J15 -> 8
A16: 17 | B16: DA24CNSH | C16: Nguyễn Phương Thúy | D16: =SUM(E16:J16) -> 12 | E16: =DA24CNSH!G37 -> 4 | F16: =DA24CNSH!H37 -> 5 | G16: =DA24CNSH!I37 -> 0 | H16: =DA24CNSH!J37 -> 1 | I16: =DA24CNSH!K37 -> 0 | J16: =DA24CNSH!L37 -> 2 | K16: =D16-J16 -> 10
A17: 18 | B17: DA25CNSH | C17: Nguyễn Nhật Nam | D17: =SUM(E17:J17) -> 26 | E17: =DA25CNSH!I52 -> 6 | F17: =DA25CNSH!J52 -> 6 | G17: =DA25CNSH!K52 -> 5 | H17: =DA25CNSH!L52 -> 2 | I17: =DA25CNSH!M52 -> 3 | J17: =DA25CNSH!N52 -> 4 | K17: =D17-J17 -> 22
A18: 19 | B18: DA22KTCT | C18: Nguyễn Hoàng Xuân Thảo | D18: =SUM(E18:J18) -> 17 | E18: =DA22KTCT!H40 -> 5 | F18: =DA22KTCT!I40 -> 7 | G18: =DA22KTCT!J40 -> 4 | H18: =DA22KTCT!K40 -> 0 | I18: =DA22KTCT!L40 -> 0 | J18: =DA22KTCT!M40 -> 1 | K18: =D18-J18 -> 16
A19: 20 | B19: DA23KTCT | C19: Lê Thị Nghĩa | D19: =SUM(E19:J19) -> 20 | E19: =DA23KTCT!H48 -> 8 | F19: =DA23KTCT!I48 -> 5 | G19: =DA23KTCT!J48 -> 6 | H19: =DA23KTCT!K48 -> 1 | I19: =DA23KTCT!L48 -> 0 | J19: =DA23KTCT!M48 -> 0 | K19: =D19-J19 -> 20
A20: 21 | B20: DA24NN | C20: Lưu Thị Thúy Hải | D20: =SUM(E20:J20) -> 18 | E20: =DA25NN!I43 -> 5 | F20: =DA25NN!J43 -> 4 | G20: =DA25NN!K43 -> 2 | H20: =DA25NN!L43 -> 1 | I20: =DA25NN!M43 -> 0 | J20: =DA25NN!N43 -> 6 | K20: =D20-J20 -> 12
A21: 22 | B21: DA24BVTV | C21: Sơn Thị Thanh Nga | D21: =SUM(E21:J21) -> 6 | E21: =DA24BVTV!J35 -> 0 | F21: =DA24BVTV!K35 -> 1 | G21: =DA24BVTV!L35 -> 4 | H21: =DA24BVTV!M35 -> 0 | I21: =DA24BVTV!N35 -> 0 | J21: =DA24BVTV!O35 -> 1 | K21: =D21-J21 -> 5
A22: 23 | B22: DA25NN | C22: Lâm Quốc Nam | D22: =SUM(E22:J22) -> 18 | E22: =DA25NN!I43 -> 5 | F22: =DA25NN!J43 -> 4 | G22: =DA25NN!K43 -> 2 | H22: =DA25NN!L43 -> 1 | I22: =DA25NN!M43 -> 0 | J22: =DA25NN!N43 -> 6 | K22: =D22-J22 -> 12
A23: 24 | B23: DA25BVTV | C23: Nguyễn Hồng Ửng | D23: =SUM(E23:J23) -> 16 | E23: =DA25BVTV!I40 -> 2 | F23: =DA25BVTV!J40 -> 6 | G23: =DA25BVTV!K40 -> 5 | H23: =DA25BVTV!L40 -> 0 | I23: =DA25BVTV!M40 -> 0 | J23: =DA25BVTV!N40 -> 3 | K23: =D23-J23 -> 13
A24: 25 | B24: DA22CNTP | C24: Võ Minh Hoàng | D24: =SUM(E24:J24) -> 30 | E24: =DA22CNTP!I54 -> 12 | F24: =DA22CNTP!J54 -> 12 | G24: =DA22CNTP!K54 -> 4 | H24: =DA22CNTP!L54 -> 1 | I24: =DA22CNTP!M54 -> 0 | J24: =DA22CNTP!N54 -> 1 | K24: =D24-J24 -> 29
A25: 26 | B25: DA23CNTP | C25: Nguyễn Đức Toàn | D25: =SUM(E25:J25) -> 32 | E25: =DA23CNTP!I56 -> 10 | F25: =DA23CNTP!J56 -> 6 | G25: =DA23CNTP!K56 -> 4 | H25: =DA23CNTP!L56 -> 2 | I25: =DA23CNTP!M56 -> 5 | J25: =DA23CNTP!N56 -> 5 | K25: =D25-J25 -> 27
A26: 27 | B26: DA24CNTP | C26: Giang Kiến Quốc | D26: =SUM(E26:J26) -> 26 | E26: =DA24CNTP!I49 -> 3 | F26: =DA24CNTP!J49 -> 10 | G26: =DA24CNTP!K49 -> 8 | H26: =DA24CNTP!L49 -> 2 | I26: =DA24CNTP!M49 -> 0 | J26: =DA24CNTP!N49 -> 3 | K26: =D26-J26 -> 23
A27: 28 | B27: DA25CNTP | C27: Lâm Thị Thu Thảo | D27: =SUM(E27:J27) -> 0 | E27: =DA25CNTP!I75 -> 0 | F27: =DA25CNTP!J75 -> 0 | G27: =DA25CNTP!K75 -> 0 | H27: =DA25CNTP!L75 -> 0 | I27: =DA25CNTP!M75 -> 0 | J27: =DA25CNTP!N75 -> 0 | K27: =D27-J27 -> 0
A28: 29 | B28: DA22TSA | C28: Dương Hoàng Oanh | D28: =SUM(E28:J28) -> 46 | E28: =DA22TSA!H72 -> 4 | F28: =DA22TSA!I72 -> 3 | G28: =DA22TSA!J72 -> 38 | H28: =DA22TSA!K72 -> 0 | I28: =DA22TSA!L72 -> 0 | J28: =DA22TSA!M72 -> 1 | K28: =D28-J28 -> 45
A29: 30 | B29: DA22TSB | C29: Dương Hoàng Oanh | D29: =SUM(E29:J29) -> 38 | E29: =DA22TSB!H64 -> 4 | F29: =DA22TSB!I64 -> 5 | G29: =DA22TSB!J64 -> 27 | H29: =DA22TSB!K64 -> 0 | I29: =DA22TSB!L64 -> 0 | J29: =DA22TSB!M64 -> 2 | K29: =D29-J29 -> 36
A30: 31 | B30: DA23TSA | C30: Nguyễn Thị Trúc Linh | D30: =SUM(E30:J30) -> 30 | E30: =DA23TSA!I56 -> 2 | F30: =DA23TSA!J56 -> 3 | G30: =DA23TSA!K56 -> 17 | H30: =DA23TSA!L56 -> 4 | I30: =DA23TSA!M56 -> 0 | J30: =DA23TSA!N56 -> 4 | K30: =D30-J30 -> 26
A31: 32 | B31: DA23TSB | C31: Nguyễn Thị Trúc Linh | D31: =SUM(E31:J31) -> 26 | E31: =DA23TSB!I56 -> 2 | F31: =DA23TSB!J56 -> 2 | G31: =DA23TSB!K56 -> 16 | H31: =DA23TSB!L56 -> 5 | I31: =DA23TSB!M56 -> 0 | J31: =DA23TSB!N56 -> 1 | K31: =D31-J31 -> 25
A32: 33 | B32: DA24TS | C32: Phạm Thị Bình Nguyên | D32: =SUM(E32:J32) -> 38 | E32: =DA24TS!I62 -> 4 | F32: =DA24TS!J62 -> 9 | G32: =DA24TS!K62 -> 21 | H32: =DA24TS!L62 -> 1 | I32: =DA24TS!M62 -> 0 | J32: =DA24TS!N62 -> 3 | K32: =D32-J32 -> 35
A33: 34 | B33: DA25TS | C33: Phạm Thị Bình Nguyên | D33: =SUM(E33:J33) -> 42 | E33: =DA25TS!I67 -> 9 | F33: =DA25TS!J67 -> 4 | G33: =DA25TS!K67 -> 18 | H33: =DA25TS!L67 -> 2 | I33: =DA25TS!M67 -> 1 | J33: =DA25TS!N67 -> 8 | K33: =D33-J33 -> 34
A34: Tổng | D34: =SUM(D3:D32) -> 911 | E34: =SUM(E3:E32) -> 179 | F34: =SUM(F3:F32) -> 242 | G34: =SUM(G3:G32) -> 315 | H34: =SUM(H3:H32) -> 59 | I34: =SUM(I3:I32) -> 9 | J34: =SUM(J3:J32) -> 107 | K34: =D34-J34 -> 804 | L34: =SUM(K3:K33) -> 838
A35: Tỷ lệ | E35: =E34/D34 -> 0.19648738 | F35: =F34/D34 -> 0.26564215 | G35: =G34/D34 -> 0.34577387 | H35: =H34/D34 -> 0.064763996 | I35: =I34/D34 -> 0.0098792536 | J35: =J34/D34 -> 0.11745335 | L35: =SUM(E35:J35) -> 1
D36: tổng | E36: XS | F36: Tốt | G36: Khá | H36: TB | I36: Yếu | J36: Bảo lưu | K36: Tổng thực học

Sheet DA23TYA
J1: QT7.5/CTSV1-BM18
A2: ĐẠI HỌC TRÀ VINH | J2: CỘNG HOÀ XÃ HỘI CHỦ NGHĨA VIỆT NAM
A3: KHOA NÔNG NGHIỆP THỦY SẢN | J3: Độc lập - Tự do - Hạnh phúc
J5: Vĩnh Long, ngày 26 tháng 8 năm 2026
A7: BẢNG ĐÁNH GIÁ KẾT QUẢ RÈN LUYỆN CỦA SINH VIÊN, HỌC SINH
D8: Học kỳ: 2 Năm học: 2025 - 2026
D9: Tên lớp: ĐH Thú Y A 2023 , Bậc đào tạo: Đại học (DA23TYA)
D10: Khoá: 2023 ; Hệ đào tạo: Chính qui
A12: STT | B12: MSSV | C12: HỌ VÀ TÊN | E12: PHÁI | F12: N.SINH | G12: D.TỘC | H12: ĐÁNH GIÁ ĐIỂM RÈN LUYỆN | M12: TỔNG | N12: X.LOẠI | P12: GHI CHÚ
H13: TC1 | I13: TC2 | J13: TC3 | K13: TC4 | L13: TC5
A14: 1 | B14: 111323035 | C14: Kim Chanh Rích Thi | E14: Nam | F14: 09/05/2005 | H14: 20 | I14: 25 | J14: 20 | K14: 25 | L14: 10 | M14: 100 | N14: Xuất sắc
A15: 2 | B15: 111323031 | C15: Tô Thị Tuyết Oanh | E15: Nữ | F15: 12/09/2005 | H15: 20 | I15: 25 | J15: 20 | K15: 24 | L15: 3 | M15: 92 | N15: Xuất sắc
A16: 3 | B16: 111323009 | C16: Võ Trần Ngọc Hân | E16: Nữ | F16: 30/06/2005 | H16: 20 | I16: 25 | J16: 20 | K16: 20 | L16: 7 | M16: 92 | N16: Xuất sắc
A17: 4 | B17: 111323007 | C17: Nguyễn Thành Đạt | E17: Nam | F17: 09/01/2005 | H17: 20 | I17: 25 | J17: 20 | K17: 24 | L17: 10 | M17: 99 | N17: Xuất sắc
A18: 5 | B18: 111323047 | C18: Lê Thanh Tú | E18: Nam | F18: 01/12/2005 | H18: 20 | I18: 25 | J18: 10 | K18: 12 | L18: 7 | M18: 74 | N18: Khá
A19: 6 | B19: 111323146 | C19: Huỳnh Lan Thanh | E19: Nữ | F19: 02/09/2005 | H19: 20 | I19: 25 | J19: 20 | K19: 24 | L19: 7 | M19: 96 | N19: Xuất sắc
A20: 7 | B20: 111323004 | C20: Đoàn Mỹ Duyên | E20: Nữ | F20: 11/11/2005 | H20: 20 | I20: 25 | J20: 20 | K20: 25 | L20: 7 | M20: 97 | N20: Xuất sắc
A21: 8 | B21: 111323045 | C21: Lê Phùng Bảo Trân | E21: Nữ | F21: 11/06/2005 | H21: 20 | I21: 25 | J21: 16 | K21: 24 | L21: 7 | M21: 92 | N21: Xuất sắc
A22: 9 | B22: 111323003 | C22: Hồ Thị Hồng Diễm | E22: Nữ | F22: 09/09/2005 | H22: 20 | I22: 25 | J22: 19 | K22: 21 | L22: 10 | M22: 95 | N22: Xuất sắc
A23: 10 | B23: 111323013 | C23: Trần Hữu Huy | E23: Nam | F23: 05/01/2005 | H23: 20 | I23: 25 | J23: 20 | K23: 25 | L23: 10 | M23: 100 | N23: Xuất sắc
A24: 11 | B24: 111323014 | C24: Đoàn Thị Cẩm Hường | E24: Nữ | F24: 15/05/2005 | H24: 20 | I24: 25 | J24: 16 | K24: 20 | L24: 7 | M24: 88 | N24: Tốt
A25: 12 | B25: 111323042 | C25: Phan Trang Thư | E25: Nữ | F25: 02/08/2005 | H25: 20 | I25: 25 | J25: 19 | K25: 20 | L25: 10 | M25: 94 | N25: Xuất sắc
... A48: 35 | B48: 111323033 | C48: Nguyễn Trọng Phúc | E48: Nam | F48: 11/08/2005 | H48: 20 | I48: 20 | J48: 10 | K48: 13 | L48: 6 | M48: 69 | N48: Khá
A51: Danh sách trên có: 35 sinh viên | J51: TM. HỘI ĐỒNG XÉT ĐIỂM RÈN LUYỆN
J52: CHỦ TỊCH HỘI ĐỒNG
I61: xs | J61: tốt | K61: khá | L61: tb | M61: yếu | N61: kém
H62: =SUM(I62:N62) -> 35 | I62: =COUNTIF(N14:O48,"xuất sắc") -> 20 | J62: =COUNTIF(N14:O48,"tốt") -> 6 | K62: =COUNTIF(N14:O48,"khá") -> 8 | L62: =COUNTIF(N14:O48,"trung bình") -> 1 | M62: =COUNTIF(N14:O48,"yếu") -> 0 | N62: =COUNTIF(N14:O48,"kém") -> 0

Sheet DA23TYB
J1: QT7.5/CTSV1-BM18
A2: ĐẠI HỌC TRÀ VINH | J2: CỘNG HOÀ XÃ HỘI CHỦ NGHĨA VIỆT NAM
A3: KHOA NÔNG NGHIỆP THỦY SẢN | J3: Độc lập - Tự do - Hạnh phúc
J5: Vĩnh Long, ngày 26 tháng 8 năm 2026
A7: BẢNG ĐÁNH GIÁ KẾT QUẢ RÈN LUYỆN CỦA SINH VIÊN, HỌC SINH
D8: Học kỳ: 2 Năm học: 2025 - 2026
D9: Tên lớp: ĐH Thú Y B 2023 , Bậc đào tạo: Đại học (DA23TYB)
D10: Khoá: 2023 ; Hệ đào tạo: Chính qui
A12: STT | B12: MSSV | C12: HỌ VÀ TÊN | E12: PHÁI | F12: N.SINH | G12: D.TỘC | H12: ĐÁNH GIÁ ĐIỂM RÈN LUYỆN | M12: TỔNG | N12: X.LOẠI | P12: GHI CHÚ
H13: TC1 | I13: TC2 | J13: TC3 | K13: TC4 | L13: TC5
A14: 1 | B14: 111322147 | C14: Huỳnh Lê Bảo Long | E14: Nam | F14: 01/11/1999 | M14: 0 | N14: Kém
A15: 2 | B15: 111323063 | C15: Hứa Ngọc Đặng | E15: Nam | F15: 09/01/2005 | H15: 20 | I15: 25 | J15: 17 | K15: 25 | L15: 10 | M15: 97 | N15: Xuất sắc
A16: 3 | B16: 111323094 | C16: Tô Ngọc Luyễn | E16: Nữ | F16: 01/12/2005 | H16: 20 | I16: 22 | J16: 19 | K16: 18 | L16: 10 | M16: 89 | N16: Tốt
A17: 4 | B17: 111323058 | C17: Phan Chấn Dĩ | E17: Nam | F17: 01/12/2005 | H17: 20 | I17: 25 | J17: 15 | K17: 16 | L17: 5 | M17: 81 | N17: Tốt
A18: 5 | B18: 111323066 | C18: Nguyễn Tiến Đạt | E18: Nam | F18: 27/06/2005 | H18: 20 | I18: 25 | J18: 13 | K18: 20 | L18: 10 | M18: 88 | N18: Tốt
A19: 6 | B19: 111323050 | C19: Đinh Thanh Vinh | E19: Nam | F19: 04/05/2005 | H19: 20 | I19: 25 | J19: 20 | K19: 25 | L19: 7 | M19: 97 | N19: Xuất sắc
A20: 7 | B20: 111323091 | C20: Nguyễn Chí Linh | E20: Nam | F20: 18/06/2004 | H20: 20 | I20: 25 | J20: 15 | K20: 20 | L20: 7 | M20: 87 | N20: Tốt
A21: 8 | B21: 111323151 | C21: Nguyễn Tường Vi | E21: Nữ | F21: 05/01/2004 | H21: 20 | I21: 25 | J21: 20 | K21: 25 | L21: 10 | M21: 100 | N21: Xuất sắc
A22: 9 | B22: 111323078 | C22: Ngô Minh Khang | E22: Nam | F22: 29/10/2005 | H22: 20 | I22: 25 | J22: 20 | K22: 20 | L22: 5 | M22: 90 | N22: Xuất sắc
A23: 10 | B23: 111323054 | C23: Võ Thị Mỹ Bình | E23: Nữ | F23: 30/03/2005 | H23: 20 | I23: 25 | J23: 15 | K23: 16 | L23: 7 | M23: 83 | N23: Tốt
A24: 11 | B24: 111323057 | C24: Nguyễn Thị Kim Cương | E24: Nữ | F24: 07/05/2005 | H24: 20 | I24: 22 | J24: 19 | K24: 16 | L24: 10 | M24: 87 | N24: Tốt
A25: 12 | B25: 111323085 | C25: Hà Thị Kiều | E25: Nữ | F25: 21/10/2005 | H25: 20 | I25: 25 | J25: 18 | K25: 16 | L25: 7 | M25: 86 | N25: Tốt
A26: 13 | B26: 111323089 | C26: Trầm Gia Lục | E26: Nam | F26: 12/02/2005 | H26: 20 | I26: 25 | J26: 17 | K26: 18 | L26: 5 | M26: 85 | N26: Tốt
... A47: 34 | B47: 111323093 | C47: Nguyễn Hoài Luân | E47: Nam | F47: 15/01/2005 | H47: 18 | I47: 25 | J47: 17 | K47: 18 | L47: 5 | M47: 83 | N47: Tốt
A48: 35 | B48: 111323056 | C48: Kim Minh Chí | E48: Nam | F48: 18/02/2005 | M48: 0 | N48: Kém
A49: 36 | B49: 111323081 | C49: Phan Văn Minh Khoa | E49: Nam | F49: 26/10/2005 | H49: 18 | I49: 25 | J49: 15 | K49: 23 | L49: 0 | M49: 81 | N49: Tốt
A50: 37 | B50: 111323072 | C50: Nguyễn Trung Hậu | E50: Nam | F50: 28/12/2005 | H50: 20 | I50: 25 | J50: 10 | K50: 22 | L50: 9 | M50: 86 | N50: Tốt
A51: 38 | B51: 111323065 | C51: Nguyễn Duy Đông | E51: Nam | F51: 25/02/2005 | H51: 20 | I51: 25 | J51: 14 | K51: 20 | L51: 10 | M51: 89 | N51: Tốt
A52: 39 | B52: 111323073 | C52: Lâm Quốc Hùng | E52: Nam | F52: 09/11/2005 | M52: 0 | N52: Kém
A53: 40 | B53: 111323071 | C53: Lê Phúc Hậu | E53: Nữ | F53: 12/12/2004 | M53: 0 | N53: Kém
A54: 41 | B54: 111322110 | C54: Trần Triệu Võ | E54: Nam | F54: 14/03/2004 | M54: 0 | N54: Kém
A57: Danh sách trên có: 41 sinh viên | J57: TM. HỘI ĐỒNG XÉT ĐIỂM RÈN LUYỆN
J58: CHỦ TỊCH HỘI ĐỒNG
I65: xs | J65: tốt | K65: khá | L65: tb | M65: yếu | N65: kém
H66: =SUM(I66:N66) -> 41 | I66: =COUNTIF(N14:O54,"xuất sắc") -> 8 | J66: =COUNTIF(N14:O54,"tốt") -> 24 | K66: =COUNTIF(N14:O54,"khá") -> 4 | L66: =COUNTIF(N14:O54,"trung bình") -> 0 | M66: =COUNTIF(N14:O54,"yếu") -> 0 | N66: =COUNTIF(N14:O54,"kém") -> 5

Sheet DA23TYC
J1: QT7.5/CTSV1-BM18
A2: ĐẠI HỌC TRÀ VINH | J2: CỘNG HOÀ XÃ HỘI CHỦ NGHĨA VIỆT NAM
A3: KHOA NÔNG NGHIỆP THỦY SẢN | J3: Độc lập - Tự do - Hạnh phúc
J5: Vĩnh Long, ngày 26 tháng 8 năm 2026
A7: BẢNG ĐÁNH GIÁ KẾT QUẢ RÈN LUYỆN CỦA SINH VIÊN, HỌC SINH
D8: Học kỳ: 2 Năm học: 2025 - 2026
D9: Tên lớp: ĐH Thú Y C 2023 , Bậc đào tạo: Đại học (DA23TYC)
D10: Khoá: 2023 ; Hệ đào tạo: Chính qui
A12: STT | B12: MSSV | C12: HỌ VÀ TÊN | E12: PHÁI | F12: N.SINH | G12: D.TỘC | H12: ĐÁNH GIÁ ĐIỂM RÈN LUYỆN | M12: TỔNG | N12: X.LOẠI | P12: GHI CHÚ
H13: TC1 | I13: TC2 | J13: TC3 | K13: TC4 | L13: TC5
A14: 1 | B14: 111323136 | C14: Chung Phương Trúc | E14: Nữ | F14: 27/11/2005 | M14: 0 | N14: Kém
A15: 2 | B15: 111323137 | C15: Châu Thái Trung | E15: Nam | F15: 17/07/2005 | H15: 20 | I15: 25 | J15: 17 | K15: 25 | L15: 0 | M15: 87 | N15: Tốt
A16: 3 | B16: 111323123 | C16: Võ Chí Thiện | E16: Nam | F16: 29/06/2005 | H16: 20 | I16: 20 | J16: 20 | K16: 25 | L16: 0 | M16: 85 | N16: Tốt
A17: 4 | B17: 111323114 | C17: Nguyễn Thị Khánh Quyên | E17: Nữ | F17: 01/12/2005 | H17: 20 | I17: 25 | J17: 14 | K17: 20 | L17: 10 | M17: 89 | N17: Tốt
A18: 5 | B18: 111323119 | C18: Mai Hải Thọ | E18: Nam | F18: 22/09/2005 | H18: 20 | I18: 25 | J18: 14 | K18: 20 | L18: 6 | M18: 85 | N18: Tốt
A19: 6 | B19: 111323105 | C19: Phạm Thị Ngọc Nhẩn | E19: Nữ | F19: 30/09/2005 | H19: 20 | I19: 24 | J19: 8 | K19: 20 | L19: 10 | M19: 82 | N19: Tốt
A20: 7 | B20: 111323099 | C20: Cao Hồng Ngọc | E20: Nữ | F20: 09/04/2005 | H20: 20 | I20: 24 | J20: 0 | K20: 25 | L20: 0 | M20: 69 | N20: Khá
A21: 8 | B21: 111323128 | C21: Trương Trường Thịnh | E21: Nam | F21: 26/08/2004 | H21: 20 | I21: 25 | J21: 10 | K21: 20 | L21: 10 | M21: 85 | N21: Tốt
A22: 9 | B22: 111323126 | C22: Cao Hoài Thịnh | E22: Nam | F22: 19/09/2005 | H22: 20 | I22: 25 | J22: 19 | K22: 25 | L22: 10 | M22: 99 | N22: Xuất sắc
A23: 10 | B23: 111323107 | C23: Hà Thành Phát | E23: Nam | F23: 26/09/2005 | H23: 20 | I23: 25 | J23: 13 | K23: 23 | L23: 2 | M23: 83 | N23: Tốt
A24: 11 | B24: 111323127 | C24: Hồng Thế Thịnh | E24: Nam | F24: 11/07/2005 | H24: 20 | I24: 25 | J24: 15 | K24: 24 | L24: 0 | M24: 84 | N24: Tốt
A25: 12 | B25: 111323102 | C25: Nguyễn Thanh Nhân | E25: Nam | F25: 14/08/2005 | H25: 20 | I25: 25 | J25: 16 | K25: 20 | L25: 7 | M25: 88 | N25: Tốt
A26: 13 | B26: 111323131 | C26: Nguyễn Hồng Thư | E26: Nữ | F26: 20/04/2005 | H26: 20 | I26: 25 | J26: 11 | K26: 24 | L26: 6 | M26: 86 | N26: Tốt
... A48: 35 | B48: 111323106 | C48: Hồ Đức Nhuận | E48: Nam | F48: 09/03/2005 | H48: 20 | I48: 25 | J48: 5 | K48: 14 | L48: 2 | M48: 66 | N48: Khá
A51: Danh sách trên có: 35 sinh viên | J51: TM. HỘI ĐỒNG XÉT ĐIỂM RÈN LUYỆN
J52: CHỦ TỊCH HỘI ĐỒNG
I57: xs | J57: tốt | K57: khá | L57: tb | M57: yếu | N57: kém
H58: =SUM(I58:N58) -> 35 | I58: =COUNTIF(N14:O48,"xuất sắc") -> 3 | J58: =COUNTIF(N14:O48,"tốt") -> 21 | K58: =COUNTIF(N14:O48,"khá") -> 10 | L58: =COUNTIF(N14:O48,"trung bình") -> 0 | M58: =COUNTIF(N14:O48,"yếu") -> 0 | N58: =COUNTIF(N14:O48,"kém") -> 1

Sheet DA23CNSH
J1: QT7.5/CTSV1-BM18
A2: ĐẠI HỌC TRÀ VINH | J2: CỘNG HOÀ XÃ HỘI CHỦ NGHĨA VIỆT NAM
A3: KHOA NÔNG NGHIỆP THỦY SẢN | J3: Độc lập - Tự do - Hạnh phúc
J5: Vĩnh Long, ngày 26 tháng 8 năm 2026
A7: BẢNG ĐÁNH GIÁ KẾT QUẢ RÈN LUYỆN CỦA SINH VIÊN, HỌC SINH
D8: Học kỳ: 2 Năm học: 2025 - 2026
D9: Tên lớp: ĐH Công nghệ Sinh học 2023 , Bậc đào tạo: Đại học (DA23CNSH)
D10: Khoá: 2023 ; Hệ đào tạo: Chính qui
A12: STT | B12: MSSV | C12: HỌ VÀ TÊN | E12: PHÁI | F12: N.SINH | G12: D.TỘC | H12: ĐÁNH GIÁ ĐIỂM RÈN LUYỆN | M12: TỔNG | N12: X.LOẠI | P12: GHI CHÚ
H13: TC1 | I13: TC2 | J13: TC3 | K13: TC4 | L13: TC5
A14: 1 | B14: 117723012 | C14: Võ Nguyễn Ngọc Như | E14: Nữ | F14: 28/10/2005 | H14: 20 | I14: 25 | J14: 20 | K14: 21 | L14: 10 | M14: 96 | N14: Xuất sắc
A15: 2 | B15: 117723010 | C15: Tăng Hồng Sang | E15: Nữ | F15: 23/03/2005 | H15: 20 | I15: 25 | J15: 10 | K15: 25 | L15: 7 | M15: 87 | N15: Tốt
A16: 3 | B16: 117723011 | C16: Trầm Thị Mỹ Quyên | E16: Nữ | F16: 11/10/2005 | H16: 20 | I16: 25 | J16: 15 | K16: 25 | L16: 10 | M16: 95 | N16: Xuất sắc
A17: 4 | B17: 117723013 | C17: Võ Thị Yến Nhi | E17: Nữ | F17: 15/01/2005 | H17: 20 | I17: 25 | J17: 6 | K17: 20 | L17: 10 | M17: 81 | N17: Tốt
A18: 5 | B18: 117723004 | C18: Cao Tuyết Nghi | E18: Nữ | F18: 21/01/2005 | H18: 20 | I18: 25 | J18: 20 | K18: 25 | L18: 10 | M18: 100 | N18: Xuất sắc
A19: 6 | B19: 117723001 | C19: Sơn Thúy Bình | E19: Nữ | F19: 28/07/2005 | H19: 20 | I19: 25 | J19: 4 | K19: 24 | L19: 10 | M19: 83 | N19: Tốt
A20: 7 | B20: 117723008 | C20: Nguyễn Thị Bích Trâm | E20: Nữ | F20: 11/12/2005 | H20: 20 | I20: 25 | J20: 20 | K20: 25 | L20: 10 | M20: 100 | N20: Xuất sắc
A21: 8 | B21: 117723009 | C21: Nguyễn Thị Ngọc Ngân | E21: Nữ | F21: 19/10/2005 | H21: 20 | I21: 20 | J21: 17 | K21: 25 | L21: 10 | M21: 92 | N21: Xuất sắc
A24: Danh sách trên có: 08 sinh viên | J24: TM. HỘI ĐỒNG XÉT ĐIỂM RÈN LUYỆN
J25: CHỦ TỊCH HỘI ĐỒNG
I32: xs | J32: tốt | K32: khá | L32: tb | M32: yếu | N32: kém
H33: =SUM(I33:N33) -> 8 | I33: =COUNTIF(N14:O21,"xuất sắc") -> 5 | J33: =COUNTIF(N14:O21,"tốt") -> 3 | K33: =COUNTIF(N14:O21,"khá") -> 0 | L33: =COUNTIF(N14:O21,"trung bình") -> 0 | M33: =COUNTIF(N14:O21,"yếu") -> 0 | N33: =COUNTIF(N14:O21,"kém") -> 0

Sheet DA23TSA
J1: QT7.5/CTSV1-BM18
A2: ĐẠI HỌC TRÀ VINH | J2: CỘNG HOÀ XÃ HỘI CHỦ NGHĨA VIỆT NAM
A3: KHOA NÔNG NGHIỆP THỦY SẢN | J3: Độc lập - Tự do - Hạnh phúc
J5: Vĩnh Long, ngày 26 tháng 8 năm 2026
A7: BẢNG ĐÁNH GIÁ KẾT QUẢ RÈN LUYỆN CỦA SINH VIÊN, HỌC SINH
D8: Học kỳ: 2 Năm học: 2025 - 2026
D9: Tên lớp: ĐH Nuôi trồng Thủy sản A 2023 , Bậc đào tạo: Đại học (DA23TSA)
D10: Khoá: 2023 ; Hệ đào tạo: Chính qui
A12: STT | B12: MSSV | C12: HỌ VÀ TÊN | E12: PHÁI | F12: N.SINH | G12: D.TỘC | H12: ĐÁNH GIÁ ĐIỂM RÈN LUYỆN | M12: TỔNG | N12: X.LOẠI | P12: GHI CHÚ
H13: TC1 | I13: TC2 | J13: TC3 | K13: TC4 | L13: TC5
A14: 1 | B14: 110323026 | C14: Trần Công Lĩnh | E14: Nam | F14: 07/08/2005 | M14: 0 | N14: Kém
A15: 2 | B15: 110323069 | C15: Lâm Minh Nhựt | E15: Nam | F15: 23/01/1997 | M15: 0 | N15: Kém
A16: 3 | B16: 110323016 | C16: Huỳnh Thị Mỹ Hiền | E16: Nữ | F16: 19/08/2005 | H16: 18 | I16: 25 | J16: 5 | K16: 17 | L16: 3 | M16: 68 | N16: Khá
A17: 4 | B17: 110323033 | C17: Nguyễn Thị Mộng Nghi | E17: Nữ | F17: 24/12/2005 | H17: 18 | I17: 25 | J17: 5 | K17: 17 | L17: 4 | M17: 69 | N17: Khá
A18: 5 | B18: 110323002 | C18: Nguyễn Quốc Huy | E18: Nam | F18: 10/11/2005 | H18: 20 | I18: 25 | J18: 4 | K18: 14 | L18: 7 | M18: 70 | N18: Khá
A19: 6 | B19: 110323029 | C19: Nguyễn Thị Thanh Ngà | E19: Nữ | F19: 15/09/2005 | H19: 20 | I19: 25 | J19: 16 | K19: 17 | L19: 7 | M19: 85 | N19: Tốt
A20: 7 | B20: 110323014 | C20: Huỳnh Hải Đăng | E20: Nam | F20: 08/04/2005 | H20: 18 | I20: 25 | J20: 10 | K20: 12 | L20: 2 | M20: 67 | N20: Khá
A21: 8 | B21: 110323004 | C21: Đào Anh Kiệt | E21: Nam | F21: 14/06/2005 | H21: 20 | I21: 25 | J21: 16 | K21: 11 | L21: 10 | M21: 82 | N21: Tốt
A22: 9 | B22: 110323030 | C22: Trần Thị Tố Ngân | E22: Nữ | F22: 22/12/2005 | H22: 20 | I22: 25 | J22: 17 | K22: 25 | L22: 10 | M22: 97 | N22: Xuất sắc
A23: 10 | B23: 110323012 | C23: Trần Hoàng Duy | E23: Nam | F23: 10/06/2005 | H23: 16 | I23: 25 | J23: 10 | K23: 7 | L23: 10 | M23: 68 | N23: Khá
A24: 11 | B24: 110323017 | C24: Ôn Minh Hiếu | E24: Nam | F24: 18/10/2003 | H24: 15 | I24: 24 | J24: 2 | K24: 10 | L24: 10 | M24: 61 | N24: Trung bình
A25: 12 | B25: 110323003 | C25: Nguyễn Tấn Khoa | E25: Nam | F25: 13/09/2005 | H25: 16 | I25: 22 | J25: 7 | K25: 6 | L25: 10 | M25: 61 | N25: Trung bình
A26: 13 | B26: 110323011 | C26: Phan Thị Hồng Dung | E26: Nữ | F26: 01/10/2005 | H26: 20 | I26: 25 | J26: 15 | K26: 22 | L26: 10 | M26: 92 | N26: Xuất sắc
A27: 14 | B27: 110323019 | C27: Nguyễn Nhật Huy | E27: Nam | F27: 10/11/2005 | H27: 20 | I27: 25 | J27: 6 | K27: 20 | L27: 2 | M27: 73 | N27: Khá
... A42: 29 | B42: 110323027 | C42: Trương Khánh Lập | E42: Nam | F42: 12/11/2005 | H42: 14 | I42: 25 | J42: 0 | K42: 16 | L42: 5 | M42: 60 | N42: Trung bình
A43: 30 | B43: 110323025 | C43: Lâm Khánh Linh | E43: Nam | F43: 22/09/2004 | M43: 0 | N43: Kém
A46: Danh sách trên có: 30 sinh viên | J46: TM. HỘI ĐỒNG XÉT ĐIỂM RÈN LUYỆN
J47: CHỦ TỊCH HỘI ĐỒNG
I55: xs | J55: tốt | K55: khá | L55: tb | M55: yếu | N55: kém
H56: =SUM(I56:N56) -> 30 | I56: =COUNTIF(N14:O43,"xuất sắc") -> 2 | J56: =COUNTIF(N14:O43,"tốt") -> 3 | K56: =COUNTIF(N14:O43,"khá") -> 17 | L56: =COUNTIF(N14:O43,"trung bình") -> 4 | M56: =COUNTIF(N14:O43,"yếu") -> 0 | N56: =COUNTIF(N14:O43,"kém") -> 4

Sheet DA23TSB
J1: QT7.5/CTSV1-BM18
A2: ĐẠI HỌC TRÀ VINH | J2: CỘNG HOÀ XÃ HỘI CHỦ NGHĨA VIỆT NAM
A3: KHOA NÔNG NGHIỆP THỦY SẢN | J3: Độc lập - Tự do - Hạnh phúc
J4: QT7.5/CTSV1-BM18
A5: ĐẠI HỌC TRÀ VINH | J5: CỘNG HOÀ XÃ HỘI CHỦ NGHĨA VIỆT NAM
A6: KHOA NÔNG NGHIỆP THỦY SẢN | J6: Độc lập - Tự do - Hạnh phúc
J8: Vĩnh Long, ngày 26 tháng 8 năm 2026
A10: BẢNG ĐÁNH GIÁ KẾT QUẢ RÈN LUYỆN CỦA SINH VIÊN, HỌC SINH
D11: Học kỳ: 2 Năm học: 2025 - 2026
D12: Tên lớp: ĐH Nuôi trồng Thủy sản B 2023 , Bậc đào tạo: Đại học (DA23TSB)
D13: Khoá: 2023 ; Hệ đào tạo: Chính qui
A15: STT | B15: MSSV | C15: HỌ VÀ TÊN | E15: PHÁI | F15: N.SINH | G15: D.TỘC | H15: ĐÁNH GIÁ ĐIỂM RÈN LUYỆN | M15: TỔNG | N15: X.LOẠI | P15: GHI CHÚ
H16: TC1 | I16: TC2 | J16: TC3 | K16: TC4 | L16: TC5
A17: 1 | B17: 110323061 | C17: Trần Thị Huyền Trang | E17: Nữ | F17: 19/10/2003 | M17: 0 | N17: Kém
A18: 2 | B18: 110323044 | C18: Đặng Văn Phải | E18: Nam | F18: 19/06/2005 | H18: 20 | I18: 20 | J18: 20 | K18: 14 | L18: 10 | M18: 84 | N18: Tốt
A19: 3 | B19: 110323055 | C19: Thạch Thị Minh Thư | E19: Nữ | F19: 30/11/2005 | H19: 18 | I19: 25 | J19: 6 | K19: 11 | L19: 10 | M19: 70 | N19: Khá
A20: 4 | B20: 110323052 | C20: Lê Thị Thu Thảo | E20: Nữ | F20: 11/03/2005 | H20: 20 | I20: 25 | J20: 14 | K20: 17 | L20: 10 | M20: 86 | N20: Tốt
A21: 5 | B21: 110323075 | C21: Trần Khánh Hưng | E21: Nam | F21: 09/04/2004 | H21: 20 | I21: 25 | J21: 6 | K21: 12 | L21: 8 | M21: 71 | N21: Khá
A22: 6 | B22: 110323062 | C22: Lê Thị Ngọc Tuyền | E22: Nữ | F22: 20/11/2005 | H22: 20 | I22: 25 | J22: 10 | K22: 17 | L22: 2 | M22: 74 | N22: Khá
A23: 7 | B23: 110323039 | C23: Cao Huỳnh Như | E23: Nữ | F23: 01/04/2005 | H23: 20 | I23: 25 | J23: 10 | K23: 18 | L23: 4 | M23: 77 | N23: Khá
A24: 8 | B24: 110323057 | C24: Nguyễn Minh Tiến | E24: Nam | F24: 25/11/2005 | H24: 20 | I24: 25 | J24: 7 | K24: 5 | L24: 10 | M24: 67 | N24: Khá
A25: 9 | B25: 110323064 | C25: Nguyễn Mạnh Tường | E25: Nam | F25: 22/11/2004 | H25: 16 | I25: 25 | J25: 10 | K25: 16 | L25: 10 | M25: 77 | N25: Khá
A26: 10 | B26: 110323078 | C26: Võ Tấn Đạt | E26: Nam | F26: 25/03/2005 | H26: 18 | I26: 24 | J26: 5 | K26: 17 | L26: 6 | M26: 70 | N26: Khá
A27: 11 | B27: 110323070 | C27: Lâm Thị Huỳnh Như | E27: Nữ | F27: 18/12/2005 | H27: 20 | I27: 20 | J27: 8 | K27: 20 | L27: 5 | M27: 73 | N27: Khá
A28: 12 | B28: 110323054 | C28: Nguyễn Thị Anh Thư | E28: Nữ | F28: 28/10/2005 | H28: 20 | I28: 25 | J28: 5 | K28: 23 | L28: 0 | M28: 73 | N28: Khá
A29: 13 | B29: 110323074 | C29: Thạch Thị Hồng Như Hoa | E29: Nữ | F29: 15/10/2005 | H29: 20 | I29: 25 | J29: 13 | K29: 18 | L29: 1 | M29: 77 | N29: Khá
... A42: 26 | B42: 110323047 | C42: Nguyễn Văn Quy | E42: Nam | F42: 08/04/2005 | H42: 19 | I42: 22 | J42: 12 | K42: 11 | L42: 10 | M42: 74 | N42: Khá
A45: Danh sách trên có: 26 sinh viên | J45: TM. HỘI ĐỒNG XÉT ĐIỂM RÈN LUYỆN
J46: CHỦ TỊCH HỘI ĐỒNG
I55: xs | J55: tốt | K55: khá | L55: tb | M55: yếu | N55: kém
H56: =SUM(I56:N56) -> 26 | I56: =COUNTIF(N17:O42,"xuất sắc") -> 2 | J56: =COUNTIF(N17:O42,"tốt") -> 2 | K56: =COUNTIF(N17:O42,"khá") -> 16 | L56: =COUNTIF(N17:O42,"trung bình") -> 5 | M56: =COUNTIF(N17:O42,"yếu") -> 0 | N56: =COUNTIF(N17:O42,"kém") -> 1

Sheet DA23KTCT
J1: QT7.5/CTSV1-BM18
A2: ĐẠI HỌC TRÀ VINH | J2: CỘNG HOÀ XÃ HỘI CHỦ NGHĨA VIỆT NAM
A3: KHOA NÔNG NGHIỆP THỦY SẢN | J3: Độc lập - Tự do - Hạnh phúc
J5: Vĩnh Long, ngày 26 tháng 8 năm 2026
A7: BẢNG ĐÁNH GIÁ KẾT QUẢ RÈN LUYỆN CỦA SINH VIÊN, HỌC SINH
D8: Học kỳ: 2 Năm học: 2025 - 2026
D9: Tên lớp: ĐH Kỹ thuật Cây trồng 2023 , Bậc đào tạo: Đại học (DA23KTCT)
D10: Khoá: 2023 ; Hệ đào tạo: Chính qui
A12: STT | B12: MSSV | C12: HỌ VÀ TÊN | E12: PHÁI | F12: N.SINH | G12: D.TỘC | H12: ĐÁNH GIÁ ĐIỂM RÈN LUYỆN | M12: TỔNG | N12: X.LOẠI | P12: GHI CHÚ
H13: TC1 | I13: TC2 | J13: TC3 | K13: TC4 | L13: TC5
A14: 1 | B14: 114723015 | C14: Thạch Thị Trúc Linh | E14: Nữ | F14: 18/10/2005 | H14: 20 | I14: 25 | J14: 20 | K14: 21 | L14: 10 | M14: 96 | N14: Xuất sắc
A15: 2 | B15: 114723017 | C15: Sơn Thị Ngọc Mai | E15: Nữ | F15: 18/06/2005 | H15: 20 | I15: 25 | J15: 17 | K15: 24 | L15: 10 | M15: 96 | N15: Xuất sắc
A16: 3 | B16: 114723025 | C16: Nguyễn Văn Thảo | E16: Nam | F16: 08/02/2004 | H16: 20 | I16: 25 | J16: 13 | K16: 13 | L16: 7 | M16: 78 | N16: Khá
A17: 4 | B17: 114723032 | C17: Trần Minh Rin | E17: Nam | F17: 12/08/2005 | H17: 20 | I17: 25 | J17: 20 | K17: 20 | L17: 7 | M17: 92 | N17: Xuất sắc
A18: 5 | B18: 114723010 | C18: Nguyễn Minh Đăng | E18: Nam | F18: 04/07/2005 | H18: 14 | I18: 20 | J18: 10 | K18: 21 | L18: 0 | M18: 65 | N18: Khá
A19: 6 | B19: 114723013 | C19: Lê Đình Hướng | E19: Nam | F19: 12/11/2005 | H19: 20 | I19: 25 | J19: 15 | K19: 16 | L19: 10 | M19: 86 | N19: Tốt
A20: 7 | B20: 114723001 | C20: Nguyễn Trung Chánh | E20: Nam | F20: 17/04/2005 | H20: 20 | I20: 25 | J20: 20 | K20: 24 | L20: 10 | M20: 99 | N20: Xuất sắc
A21: 8 | B21: 114723019 | C21: Võ Thị Mộng Nghi | E21: Nữ | F21: 21/08/2005 | H21: 20 | I21: 25 | J21: 20 | K21: 24 | L21: 10 | M21: 99 | N21: Xuất sắc
A22: 9 | B22: 114723005 | C22: Nguyễn Đăng Khoa | E22: Nam | F22: 30/04/2005 | H22: 20 | I22: 25 | J22: 0 | K22: 11 | L22: 1 | M22: 57 | N22: Trung bình
A23: 10 | B23: 114723008 | C23: Lê Hải Âu | E23: Nam | F23: 01/06/2005 | H23: 20 | I23: 25 | J23: 15 | K23: 25 | L23: 10 | M23: 95 | N23: Xuất sắc
A24: 11 | B24: 114723007 | C24: Phạm Lê Thảo Vy | E24: Nữ | F24: 23/05/2005 | H24: 20 | I24: 25 | J24: 9 | K24: 13 | L24: 0 | M24: 67 | N24: Khá
A25: 12 | B25: 114723004 | C25: Lê Võ Gia Hạo | E25: Nam | F25: 04/02/2005 | H25: 20 | I25: 25 | J25: 15 | K25: 20 | L25: 3 | M25: 83 | N25: Tốt
... A33: 20 | B33: 114723028 | C33: Kiên Thị Chane Đa Ra | E33: Nữ | F33: 13/03/2005 | H33: 20 | I33: 25 | J33: 2 | K33: 19 | L33: 10 | M33: 76 | N33: Khá
A36: Danh sách trên có: 20 sinh viên | J36: TM. HỘI ĐỒNG XÉT ĐIỂM RÈN LUYỆN
J37: CHỦ TỊCH HỘI ĐỒNG
H47: xs | I47: tốt | J47: khá | K47: tb | L47: yếu | M47: kém
G48: =SUM(H48:M48) -> 20 | H48: =COUNTIF(N14:O33,"xuất sắc") -> 8 | I48: =COUNTIF(N14:O33,"tốt") -> 5 | J48: =COUNTIF(N14:O33,"khá") -> 6 | K48: =COUNTIF(N14:O33,"trung bình") -> 1 | L48: =COUNTIF(N14:O33,"yếu") -> 0 | M48: =COUNTIF(N14:O33,"kém") -> 0

Sheet DA23CNTP
J1: QT7.5/CTSV1-BM18
A2: ĐẠI HỌC TRÀ VINH | J2: CỘNG HOÀ XÃ HỘI CHỦ NGHĨA VIỆT NAM
A3: KHOA NÔNG NGHIỆP THỦY SẢN | J3: Độc lập - Tự do - Hạnh phúc
J5: Vĩnh Long, ngày 26 tháng 8 năm 2026
A7: BẢNG ĐÁNH GIÁ KẾT QUẢ RÈN LUYỆN CỦA SINH VIÊN, HỌC SINH
D8: Học kỳ: 2 Năm học: 2025 - 2026
D9: Tên lớp: ĐH Công nghệ thực phẩm 2023 , Bậc đào tạo: Đại học (DA23CNTP)
D10: Khoá: 2023 ; Hệ đào tạo: Chính qui
A12: STT | B12: MSSV | C12: HỌ VÀ TÊN | E12: PHÁI | F12: N.SINH | G12: D.TỘC | H12: ĐÁNH GIÁ ĐIỂM RÈN LUYỆN | M12: TỔNG | N12: X.LOẠI | P12: GHI CHÚ
H13: TC1 | I13: TC2 | J13: TC3 | K13: TC4 | L13: TC5
A14: 1 | B14: 116223045 | C14: Nguyễn Thanh Hằng | E14: Nữ | F14: 02/10/2004 | M14: 0 | N14: Kém
A15: 2 | B15: 116223043 | C15: Chau Sóc Khum | E15: Nam | F15: 11/12/2003 | M15: 0 | N15: Kém
A16: 3 | B16: 116223003 | C16: Châu Thế Hiển | E16: Nam | F16: 22/07/2005 | M16: 0 | N16: Kém
A17: 4 | B17: 116223017 | C17: Cao Thị Mỹ Duyên | E17: Nữ | F17: 26/09/2005 | H17: 20 | I17: 25 | J17: 20 | K17: 25 | L17: 5 | M17: 95 | N17: Xuất sắc
A18: 5 | B18: 116223034 | C18: Lâm Thị Hồng Thắm | E18: Nữ | F18: 22/04/2005 | H18: 20 | I18: 25 | J18: 20 | K18: 20 | L18: 10 | M18: 95 | N18: Xuất sắc
A19: 6 | B19: 116223032 | C19: Phan Thị Hồng Phượng | E19: Nữ | F19: 06/12/2005 | H19: 20 | I19: 25 | J19: 20 | K19: 25 | L19: 7 | M19: 97 | N19: Xuất sắc
A20: 7 | B20: 116223009 | C20: Kim Sơn Nồng | E20: Nam | F20: 11/08/2005 | H20: 20 | I20: 25 | J20: 20 | K20: 20 | L20: 5 | M20: 90 | N20: Xuất sắc
A21: 8 | B21: 116223006 | C21: Đặng Kim Ngân | E21: Nữ | F21: 01/01/2005 | H21: 20 | I21: 25 | J21: 20 | K21: 20 | L21: 10 | M21: 95 | N21: Xuất sắc
A22: 9 | B22: 116223026 | C22: Lê Thị Thảo Nguyên | E22: Nữ | F22: 31/01/2005 | H22: 20 | I22: 25 | J22: 10 | K22: 16 | L22: 4 | M22: 75 | N22: Khá
A23: 10 | B23: 116223021 | C23: Châu Đăng Khoa | E23: Nam | F23: 16/02/2005 | H23: 20 | I23: 25 | J23: 17 | K23: 25 | L23: 7 | M23: 94 | N23: Xuất sắc
A24: 11 | B24: 116223007 | C24: Trương Mỹ Ngọc | E24: Nữ | F24: 23/06/2005 | H24: 20 | I24: 25 | J24: 15 | K24: 15 | L24: 5 | M24: 80 | N24: Tốt
A25: 12 | B25: 116223033 | C25: Huỳnh Nhật Tân | E25: Nam | F25: 30/03/2005 | H25: 16 | I25: 22 | J25: 2 | K25: 6 | L25: 0 | M25: 46 | N25: Yếu
A26: 13 | B26: 116223012 | C26: Nguyễn Ngọc Mai Thy | E26: Nữ | F26: 06/03/2005 | H26: 20 | I26: 25 | J26: 15 | K26: 16 | L26: 10 | M26: 86 | N26: Tốt
A27: 14 | B27: 116223005 | C27: Lâm Thị Khánh Ly | E27: Nữ | F27: 10/12/2005 | H27: 20 | I27: 25 | J27: 20 | K27: 18 | L27: 10 | M27: 93 | N27: Xuất sắc
A28: 15 | B28: 116223001 | C28: Lâm Nguyễn Thùy Dương | E28: Nữ | F28: 07/05/2005 | H28: 20 | I28: 25 | J28: 17 | K28: 20 | L28: 9 | M28: 91 | N28: Xuất sắc
... A35: 22 | B35: 116223035 | C35: Lê Văn Thuận | E35: Nam | F35: 17/09/2005 | H35: 18 | I35: 25 | J35: 10 | K35: 5 | L35: 3 | M35: 61 | N35: Trung bình
A36: 23 | B36: 116223037 | C36: Lê Anh Thư | E36: Nữ | F36: 25/10/2005 | M36: 0 | N36: Kém
A37: 24 | B37: 116223022 | C37: Lê Thị Phương Lan | E37: Nữ | F37: 11/01/2005 | H37: 20 | I37: 25 | J37: 0 | K37: 12 | L37: 0 | M37: 57 | N37: Trung bình
A38: 25 | B38: 116223040 | C38: Nguyễn Thùy Trân | E38: Nữ | F38: 10/11/2005 | H38: 20 | I38: 25 | J38: 17 | K38: 16 | L38: 10 | M38: 88 | N38: Tốt
A39: 26 | B39: 116223036 | C39: Đào Thị Anh Thư | E39: Nữ | F39: 08/09/2005 | H39: 20 | I39: 25 | J39: 15 | K39: 20 | L39: 10 | M39: 90 | N39: Xuất sắc
A40: 27 | B40: 116223046 | C40: Thạch Thị Thanh Ngân | E40: Nữ | F40: 15/03/2005 | H40: 20 | I40: 25 | J40: 15 | K40: 20 | L40: 7 | M40: 87 | N40: Tốt
A41: 28 | B41: 116223028 | C41: Trần Thị Thảo Nguyên | E41: Nữ | F41: 27/06/2005 | H41: 18 | I41: 25 | J41: 10 | K41: 14 | L41: 2 | M41: 69 | N41: Khá
A42: 29 | B42: 116223016 | C42: Sơn Thị Diểm | E42: Nữ | F42: 13/02/2005 | H42: 20 | I42: 25 | J42: 20 | K42: 20 | L42: 3 | M42: 88 | N42: Tốt
A43: 30 | B43: 116223020 | C43: Nguyễn Thị Ngọc Hân | E43: Nữ | F43: 14/04/2005 | H43: 16 | I43: 22 | J43: 0 | K43: 3 | L43: 2 | M43: 43 | N43: Yếu
A44: 31 | B44: 116223044 | C44: Nguyễn Hoàng Tuấn | E44: Nam | F44: 02/12/2005 | H44: 20 | I44: 25 | J44: 12 | K44: 24 | L44: 7 | M44: 88 | N44: Tốt
A45: 32 | B45: 116222037 | C45: Lương Ngọc Minh | E45: Nam | F45: 25/02/2004 | M45: 0 | N45: Kém
A48: Danh sách trên có: 32 sinh viên | J48: TM. HỘI ĐỒNG XÉT ĐIỂM RÈN LUYỆN
J49: CHỦ TỊCH HỘI ĐỒNG
I55: xs | J55: tốt | K55: khá | L55: tb | M55: yếu | N55: kém
H56: =SUM(I56:N56) -> 32 | I56: =COUNTIF(N14:O45,"xuất sắc") -> 10 | J56: =COUNTIF(N14:O45,"tốt") -> 6 | K56: =COUNTIF(N14:O45,"khá") -> 4 | L56: =COUNTIF(N14:O45,"trung bình") -> 2 | M56: =COUNTIF(N14:O45,"yếu") -> 5 | N56: =COUNTIF(N14:O45,"kém") -> 5

Sheet DA24TYA
J1: QT7.5/CTSV1-BM18
A2: ĐẠI HỌC TRÀ VINH | J2: CỘNG HOÀ XÃ HỘI CHỦ NGHĨA VIỆT NAM
A3: KHOA NÔNG NGHIỆP THỦY SẢN | J3: Độc lập - Tự do - Hạnh phúc
J5: Vĩnh Long, ngày 26 tháng 8 năm 2026
A7: BẢNG ĐÁNH GIÁ KẾT QUẢ RÈN LUYỆN CỦA SINH VIÊN, HỌC SINH
D8: Học kỳ: 2 Năm học: 2025 - 2026
D9: Tên lớp: ĐH Thú Y A 2024 , Bậc đào tạo: Đại học (DA24TYA)
D10: Khoá: 2024 ; Hệ đào tạo: Chính qui
A12: STT | B12: MSSV | C12: HỌ VÀ TÊN | E12: PHÁI | F12: N.SINH | G12: D.TỘC | H12: ĐÁNH GIÁ ĐIỂM RÈN LUYỆN | M12: TỔNG | N12: X.LOẠI | P12: GHI CHÚ
H13: TC1 | I13: TC2 | J13: TC3 | K13: TC4 | L13: TC5
A14: 1 | B14: 111324155 | C14: Nguyễn Quốc Đạt | E14: Nam | F14: 25/08/2005 | H14: 9 | I14: 25 | J14: 4 | K14: 18 | L14: 0 | M14: 56 | N14: Trung bình
A15: 2 | B15: 111324124 | C15: Nguyễn Ngọc Bảo Trâm | E15: Nữ | F15: 11/04/2006 | H15: 20 | I15: 25 | J15: 8 | K15: 20 | L15: 2 | M15: 75 | N15: Khá
A16: 3 | B16: 111324027 | C16: Nguyễn Thái Trường Duy | E16: Nam | F16: 22/06/2006 | H16: 20 | I16: 25 | J16: 0 | K16: 10 | L16: 0 | M16: 55 | N16: Trung bình
A17: 4 | B17: 111324018 | C17: Trần Thị Minh Châu | E17: Nữ | F17: 28/01/2006 | H17: 20 | I17: 25 | J17: 17 | K17: 20 | L17: 2 | M17: 84 | N17: Tốt
A18: 5 | B18: 111324154 | C18: Huỳnh Thảo Duy | E18: Nữ | F18: 14/01/2006 | H18: 16 | I18: 25 | J18: 10 | K18: 12 | L18: 0 | M18: 63 | N18: Trung bình
A19: 6 | B19: 111324066 | C19: Huỳnh Minh Bảo Lộc | E19: Nam | F19: 03/12/2006 | H19: 20 | I19: 25 | J19: 15 | K19: 20 | L19: 0 | M19: 80 | N19: Tốt
A20: 7 | B20: 111324147 | C20: Khúc Ngọc Ái Vy | E20: Nữ | F20: 03/07/2006 | H20: 20 | I20: 25 | J20: 12 | K20: 20 | L20: 4 | M20: 81 | N20: Tốt
A21: 8 | B21: 111324065 | C21: Trương Ái Linh | E21: Nữ | F21: 24/07/2006 | H21: 20 | I21: 25 | J21: 20 | K21: 24 | L21: 7 | M21: 96 | N21: Xuất sắc
A22: 9 | B22: 111324026 | C22: Thạch Thị Hồng Diễm | E22: Nữ | F22: 18/04/2006 | H22: 20 | I22: 25 | J22: 10 | K22: 20 | L22: 7 | M22: 82 | N22: Tốt
A23: 10 | B23: 111324002 | C23: Bùi Thiên Ân | E23: Nữ | F23: 11/02/2006 | H23: 20 | I23: 25 | J23: 6 | K23: 25 | L23: 10 | M23: 86 | N23: Tốt
A24: 11 | B24: 111324074 | C24: Nguyễn Trúc Nghi | E24: Nữ | F24: 24/05/2006 | H24: 20 | I24: 25 | J24: 20 | K24: 25 | L24: 10 | M24: 100 | N24: Xuất sắc
A25: 12 | B25: 111324017 | C25: Diệp Lộc Khang Châu | E25: Nam | F25: 18/06/2006 | H25: 16 | I25: 25 | J25: 15 | K25: 20 | L25: 7 | M25: 83 | N25: Tốt
... A54: 41 | B54: 111324078 | C54: Nguyễn Hoàng Nguyên | E54: Nam | F54: 24/04/2006 | H54: 16 | I54: 25 | J54: 7 | K54: 15 | L54: 1 | M54: 64 | N54: Trung bình
A57: Danh sách trên có: 41 sinh viên | J57: TM. HỘI ĐỒNG XÉT ĐIỂM RÈN LUYỆN
J58: CHỦ TỊCH HỘI ĐỒNG
H64: xs | I64: tốt | J64: khá | K64: tb | L64: yếu | M64: kém
G65: =SUM(H65:M65) -> 41 | H65: =COUNTIF(N14:O54,"xuất sắc") -> 6 | I65: =COUNTIF(N14:O54,"tốt") -> 16 | J65: =COUNTIF(N14:O54,"khá") -> 12 | K65: =COUNTIF(N14:O54,"trung bình") -> 7 | L65: =COUNTIF(N14:O54,"yếu") -> 0 | M65: =COUNTIF(N14:O54,"kém") -> 0

Sheet DA24TYB
J1: QT7.5/CTSV1-BM18
A2: ĐẠI HỌC TRÀ VINH | J2: CỘNG HOÀ XÃ HỘI CHỦ NGHĨA VIỆT NAM
A3: KHOA NÔNG NGHIỆP THỦY SẢN | J3: Độc lập - Tự do - Hạnh phúc
J5: Vĩnh Long, ngày 26 tháng 8 năm 2026
A7: BẢNG ĐÁNH GIÁ KẾT QUẢ RÈN LUYỆN CỦA SINH VIÊN, HỌC SINH
D8: Học kỳ: 2 Năm học: 2025 - 2026
D9: Tên lớp: ĐH Thú Y B 2024 , Bậc đào tạo: Đại học (DA24TYB)
D10: Khoá: 2024 ; Hệ đào tạo: Chính qui
A12: STT | B12: MSSV | C12: HỌ VÀ TÊN | E12: PHÁI | F12: N.SINH | G12: D.TỘC | H12: ĐÁNH GIÁ ĐIỂM RÈN LUYỆN | M12: TỔNG | N12: X.LOẠI | P12: GHI CHÚ
H13: TC1 | I13: TC2 | J13: TC3 | K13: TC4 | L13: TC5
A14: 1 | B14: 111324081 | C14: Quách Trọng Nguyễn | E14: Nam | F14: 15/02/2006 | M14: 0 | N14: Kém
A15: 2 | B15: 111324041 | C15: Trương Thanh Hoài | E15: Nam | F15: 16/10/2006 | M15: 0 | N15: Kém
A16: 3 | B16: 111324168 | C16: Huỳnh Thị Thu Ngân | E16: Nữ | F16: 19/09/2006 | H16: 20 | I16: 25 | J16: 20 | K16: 24 | L16: 10 | M16: 99 | N16: Xuất sắc
A17: 4 | B17: 111324028 | C17: Bùi Nguyễn Nhật Duy | E17: Nam | F17: 30/12/2006 | H17: 20 | I17: 25 | J17: 20 | K17: 25 | L17: 10 | M17: 100 | N17: Xuất sắc
A18: 5 | B18: 111324024 | C18: Tải Thành Đạt | E18: Nam | F18: 03/12/2006 | H18: 20 | I18: 25 | J18: 0 | K18: 24 | L18: 2 | M18: 71 | N18: Khá
A19: 6 | B19: 111324077 | C19: Thạch Thị Như Ngọc | E19: Nữ | F19: 02/04/2006 | H19: 20 | I19: 25 | J19: 20 | K19: 24 | L19: 7 | M19: 96 | N19: Xuất sắc
A20: 7 | B20: 111324061 | C20: Trần Ngọc Phượng Kim | E20: Nữ | F20: 08/04/2006 | H20: 18 | I20: 25 | J20: 20 | K20: 25 | L20: 10 | M20: 98 | N20: Xuất sắc
A21: 8 | B21: 111324012 | C21: Đặng Trần Thanh Bình | E21: Nam | F21: 19/05/2006 | H21: 20 | I21: 25 | J21: 4 | K21: 19 | L21: 0 | M21: 68 | N21: Khá
A22: 9 | B22: 111324160 | C22: Trương Thị Ngọc Hoa | E22: Nữ | F22: 09/12/2006 | H22: 18 | I22: 25 | J22: 0 | K22: 9 | L22: 0 | M22: 52 | N22: Trung bình
A23: 10 | B23: 111324083 | C23: Bùi Văn Nhất | E23: Nam | F23: 26/12/2006 | H23: 20 | I23: 25 | J23: 15 | K23: 17 | L23: 7 | M23: 84 | N23: Tốt
A24: 11 | B24: 111324032 | C24: Lâm Hoàng Gia | E24: Nam | F24: 21/09/2006 | H24: 20 | I24: 25 | J24: 8 | K24: 14 | L24: 2 | M24: 69 | N24: Khá
A25: 12 | B25: 111324051 | C25: Nguyễn Duy Khang | E25: Nam | F25: 06/01/2006 | H25: 20 | I25: 25 | J25: 20 | K25: 20 | L25: 2 | M25: 87 | N25: Tốt
A26: 13 | B26: 111324056 | C26: Lê Duy Khánh | E26: Nam | F26: 11/02/2006 | H26: 20 | I26: 25 | J26: 7 | K26: 25 | L26: 3 | M26: 80 | N26: Tốt
A27: 14 | B27: 111324030 | C27: Thái Phong Dũy | E27: Nam | F27: 05/02/2006 | H27: 20 | I27: 25 | J27: 2 | K27: 9 | L27: 10 | M27: 66 | N27: Khá
... A51: 38 | B51: 111324071 | C51: Nguyễn Trần Kiều My | E51: Nữ | F51: 18/11/2006 | H51: 20 | I51: 20 | J51: 11 | K51: 22 | L51: 4 | M51: 77 | N51: Khá
A52: 39 | B52: 111324011 | C52: Tạ Gia Bảo | E52: Nam | F52: 01/09/2006 | M52: 0 | N52: Kém
A53: 40 | B53: 111324013 | C53: Lê Nhật Bình | E53: Nam | F53: 02/06/2003 | M53: 0 | N53: Kém
A54: 41 | B54: 111324080 | C54: Nguyễn Trung Nguyên | E54: Nam | F54: 30/04/2006 | H54: 20 | I54: 25 | J54: 0 | K54: 23 | L54: 5 | M54: 73 | N54: Khá
A55: 42 | B55: 111324050 | C55: Trần Nhật Huy | E55: Nam | F55: 17/05/2006 | H55: 12 | I55: 25 | J55: 8 | K55: 11 | L55: 10 | M55: 66 | N55: Khá
A56: 43 | B56: 111324036 | C56: Lê Hoàng Hiển | E56: Nam | F56: 20/02/2006 | H56: 18 | I56: 25 | J56: 0 | K56: 9 | L56: 0 | M56: 52 | N56: Trung bình
A57: 44 | B57: 111324092 | C57: Kim Thanh Phong | E57: Nam | F57: 07/01/2006 | M57: 0 | N57: Kém
A60: Danh sách trên có: 44 sinh viên | J60: TM. HỘI ĐỒNG XÉT ĐIỂM RÈN LUYỆN
J61: CHỦ TỊCH HỘI ĐỒNG
H71: xs | I71: tốt | J71: khá | K71: tb | L71: yếu | M71: kém
G72: =SUM(H72:M72) -> 44 | H72: =COUNTIF(N14:O57,"xuất sắc") -> 9 | I72: =COUNTIF(N14:O57,"tốt") -> 11 | J72: =COUNTIF(N14:O57,"khá") -> 15 | K72: =COUNTIF(N14:O57,"trung bình") -> 4 | L72: =COUNTIF(N14:O57,"yếu") -> 0 | M72: =COUNTIF(N14:O57,"kém") -> 5

Sheet DA24TYC
J1: QT7.5/CTSV1-BM18
A2: ĐẠI HỌC TRÀ VINH | J2: CỘNG HOÀ XÃ HỘI CHỦ NGHĨA VIỆT NAM
A3: KHOA NÔNG NGHIỆP THỦY SẢN | J3: Độc lập - Tự do - Hạnh phúc
J5: Vĩnh Long, ngày 26 tháng 8 năm 2026
A7: BẢNG ĐÁNH GIÁ KẾT QUẢ RÈN LUYỆN CỦA SINH VIÊN, HỌC SINH
D8: Học kỳ: 2 Năm học: 2025 - 2026
D9: Tên lớp: ĐH Thú Y C 2024 , Bậc đào tạo: Đại học (DA24TYC)
D10: Khoá: 2024 ; Hệ đào tạo: Chính qui
A12: STT | B12: MSSV | C12: HỌ VÀ TÊN | E12: PHÁI | F12: N.SINH | G12: D.TỘC | H12: ĐÁNH GIÁ ĐIỂM RÈN LUYỆN | M12: TỔNG | N12: X.LOẠI | P12: GHI CHÚ
H13: TC1 | I13: TC2 | J13: TC3 | K13: TC4 | L13: TC5
A14: 1 | B14: 111324178 | C14: Nguyễn Thuỷ Tiên | E14: Nữ | F14: 15/05/2005 | M14: =SUM(H14:K14) -> 0 | N14: Kém
A15: 2 | B15: 111324094 | C15: Đoàn Nguyên Phúc | E15: Nam | F15: 01/11/2005 | M15: =SUM(H15:L15) -> 0 | N15: Kém
A16: 3 | B16: 111324169 | C16: Diệp Trúc Ngân | E16: Nữ | F16: 06/09/2006 | M16: =SUM(H16:L16) -> 0 | N16: Kém
A17: 4 | B17: 111324099 | C17: Lê Vũ Duy Phương | E17: Nam | F17: 10/06/2005 | M17: =SUM(H17:L17) -> 0 | N17: Kém
A18: 5 | B18: 111324146 | C18: Võ Tường Vy | E18: Nữ | F18: 27/10/2006 | H18: 18 | I18: 25 | J18: 9 | K18: 25 | L18: 5 | M18: 82 | N18: Tốt
A19: 6 | B19: 111324135 | C19: Nguyễn Thị Thanh Trúc | E19: Nữ | F19: 15/07/2005 | H19: 20 | I19: 25 | J19: 20 | K19: 20 | L19: 3 | M19: 88 | N19: Tốt
A20: 7 | B20: 111324142 | C20: Thạch Chane Viras | E20: Nam | F20: 26/01/2006 | H20: 0 | I20: 0 | J20: 0 | K20: 0 | L20: 0 | M20: 0 | N20: Kém
A21: 8 | B21: 111324129 | C21: Trần Thị Thùy Trang | E21: Nữ | F21: 11/10/2006 | H21: 16 | I21: 25 | J21: 15 | K21: 24 | L21: 10 | M21: 90 | N21: Xuất sắc
A22: 9 | B22: 111324126 | C22: Dương Ngọc Trân | E22: Nữ | F22: 11/09/2006 | H22: 20 | I22: 25 | J22: 20 | K22: 20 | L22: 10 | M22: 95 | N22: Xuất sắc
A23: 10 | B23: 111324097 | C23: Lê Hữu Phước | E23: Nam | F23: 15/09/2006 | H23: 18 | I23: 25 | J23: 0 | K23: 24 | L23: 2 | M23: 69 | N23: Khá
A24: 11 | B24: 111324145 | C24: Tạ Huỳnh Thúy Vy | E24: Nữ | F24: 07/12/2006 | H24: 18 | I24: 25 | J24: 4 | K24: 24 | L24: 4 | M24: 75 | N24: Khá
A25: 12 | B25: 111324171 | C25: Nguyễn Thị Như Ngọc | E25: Nữ | F25: 05/02/2005 | H25: 20 | I25: 25 | J25: 15 | K25: 20 | L25: 7 | M25: 87 | N25: Tốt
A26: 13 | B26: 111324007 | C26: Thương Kim Quốc Anh | E26: Nam | F26: 21/09/2006 | H26: 20 | I26: 25 | J26: 13 | K26: 20 | L26: 8 | M26: 86 | N26: Tốt
A27: 14 | B27: 111324177 | C27: Thạch Chane Sa Rinh | E27: Nam | F27: 24/08/2006 | H27: 20 | I27: 25 | J27: 20 | K27: 25 | L27: 7 | M27: 97 | N27: Xuất sắc
A28: 15 | B28: 111324134 | C28: Bùi Chí Trọng | E28: Nam | F28: 05/11/2006 | H28: 20 | I28: 25 | J28: 17 | K28: 20 | L28: 10 | M28: 92 | N28: Xuất sắc
A29: 16 | B29: 111324170 | C29: Lê Bảo Nghi | E29: Nữ | F29: 15/01/2006 | H29: 16 | I29: 25 | J29: 10 | K29: 18 | L29: 7 | M29: 76 | N29: Khá
A30: 17 | B30: 111324101 | C30: Lương Minh Quang | E30: Nam | F30: 02/03/2006 | M30: =SUM(H30:L30) -> 0 | N30: Kém
A31: 18 | B31: 111324132 | C31: Trần Hoàn Triều | E31: Nam | F31: 19/12/2006 | H31: 20 | I31: 25 | J31: 15 | K31: 25 | L31: 10 | M31: 95 | N31: Xuất sắc
A32: 19 | B32: 111324131 | C32: Nguyễn Hoàng Trí | E32: Nam | F32: 14/06/2006 | H32: 18 | I32: 25 | J32: 15 | K32: 25 | L32: 7 | M32: 90 | N32: Xuất sắc
A33: 20 | B33: 111324122 | C33: Trần Thanh Toàn | E33: Nam | F33: 22/02/2006 | M33: =SUM(H33:L33) -> 0 | N33: Kém
A34: 21 | B34: 111324118 | C34: Chung Nhựt Tiến | E34: Nam | F34: 23/08/2005 | H34: 20 | I34: 25 | J34: 10 | K34: 16 | L34: 0 | M34: 71 | N34: Khá
A35: 22 | B35: 111324172 | C35: Lê Nguyễn Ái Nhi | E35: Nữ | F35: 12/05/2006 | H35: 0 | I35: 0 | J35: 0 | K35: 0 | L35: 0 | M35: 0 | N35: Kém
A36: 23 | B36: 111324182 | C36: Trần Nguyễn Thão Nguyên | E36: Nữ | F36: 21/10/2006 | H36: 20 | I36: 25 | J36: 10 | K36: 20 | L36: 10 | M36: 85 | N36: Tốt
A37: 24 | B37: 111324005 | C37: Nguyễn Vũ Duy Anh | E37: Nam | F37: 30/09/2006 | M37: =SUM(H37:L37) -> 0 | N37: Kém
A38: 25 | B38: 111324103 | C38: Danh Thị Đa Ri | E38: Nữ | F38: 28/06/2006 | H38: 18 | I38: 24 | J38: 13 | K38: 18 | L38: 10 | M38: 83 | N38: Tốt
A39: 26 | B39: 111324175 | C39: Võ Hồng Phúc | E39: Nam | F39: 01/01/2005 | M39: =SUM(H39:L39) -> 0 | N39: Kém
A40: 27 | B40: 111324107 | C40: Nguyễn Hữu Thắng | E40: Nam | F40: 28/08/2003 | H40: 20 | I40: 25 | J40: 20 | K40: 20 | L40: 10 | M40: 95 | N40: Xuất sắc
A41: 28 | B41: 111324037 | C41: Lê Ngọc Hiển | E41: Nam | F41: 18/11/2005 | H41: 20 | I41: 24 | J41: 10 | K41: 25 | L41: 7 | M41: 86 | N41: Tốt
A42: 29 | B42: 111324133 | C42: Phạm Ngọc Lan Trinh | E42: Nữ | F42: 23/01/2006 | M42: =SUM(H42:L42) -> 0 | N42: Kém
A43: 30 | B43: 111324174 | C43: Nguyễn Yến Như | E43: Nữ | F43: 23/09/2006 | M43: =SUM(H43:L43) -> 0 | N43: Kém
A44: 31 | B44: 111324111 | C44: Kim Phúc Thịnh | E44: Nam | F44: 15/08/2006 | H44: 0 | I44: 0 | J44: 0 | K44: 0 | L44: 0 | M44: =SUM(H44:L44) -> 0 | N44: Kém
A45: 32 | B45: 111324112 | C45: Nguyễn Quốc Thịnh | E45: Nam | F45: 26/11/2006 | H45: 16 | I45: 25 | J45: 10 | K45: 16 | L45: 0 | M45: 67 | N45: Khá
A46: 33 | B46: 111324116 | C46: Thị Kim Thuyền | E46: Nữ | F46: 10/02/2006 | H46: 20 | I46: 25 | J46: 10 | K46: 20 | L46: 5 | M46: =SUM(H45:L46) -> 80 | N46: Kém
A47: 34 | B47: 111324140 | C47: Dương Nguyễn Thái Vinh | E47: Nam | F47: 01/06/2006 | H47: 20 | I47: 25 | J47: 10 | K47: 20 | L47: 10 | M47: 85 | N47: Tốt
A48: 35 | B48: 111324098 | C48: Nguyễn Lê Lam Phương | E48: Nữ | F48: 22/11/2006 | H48: 16 | I48: 25 | J48: 0 | K48: 20 | L48: 10 | M48: 71 | N48: Khá
A49: 36 | B49: 111324137 | C49: Nguyễn Quốc Trung | E49: Nam | F49: 01/01/2004 | H49: 20 | I49: 24 | J49: 13 | K49: 22 | L49: 10 | M49: 89 | N49: Tốt
A50: 37 | B50: 111324114 | C50: Phạm Thị Kiều Thư | E50: Nữ | F50: 26/06/2006 | H50: 18 | I50: 25 | J50: 10 | K50: 12 | L50: 10 | M50: 75 | N50: Khá
A51: 38 | B51: 111324139 | C51: Triệu Nguyễn Trà Vi | E51: Nữ | F51: 22/07/2006 | M51: =SUM(H50:L51) -> 0 | N51: Kém
A52: 39 | B52: 111324113 | C52: Phùng Tấn Thịnh | E52: Nam | F52: 24/01/2006 | M52: =SUM(H51:L52) -> 0 | N52: Kém
A53: 40 | B53: 111324130 | C53: Nguyễn Đình Trí | E53: Nam | F53: 17/08/2006 | M53: =SUM(H52:L53) -> 0 | N53: Kém
A54: 41 | B54: 111324176 | C54: Néang Đa Ra | E54: Nữ | F54: 02/10/2006 | M54: =SUM(H53:L54) -> 0 | N54: Kém
A55: 42 | B55: 111324029 | C55: Trần Duy | E55: Nam | F55: 21/05/1996 | M55: =SUM(H54:L55) -> 0 | N55: Kém
A56: 43 | B56: 111324115 | C56: Trần Văn Thuận | E56: Nam | F56: 24/02/2006 | M56: =SUM(H55:L56) -> 0 | N56: Kém
A57: 44 | B57: 111324119 | C57: Kiên Nhật Tiến | E57: Nam | F57: 04/05/2006 | M57: =SUM(H56:L57) -> 0 | N57: Kém
A58: 45 | B58: 111324105 | C58: Lý Phạm Minh Tân | E58: Nam | F58: 22/10/2006 | M58: =SUM(H57:L58) -> 0 | N58: Kém
A59: 46 | B59: 111324144 | C59: Hồ Ngọc Lan Vy | E59: Nữ | F59: 19/10/2006 | M59: =SUM(H58:L59) -> 0 | N59: Kém
A62: Danh sách trên có: 46 sinh viên | J62: TM. HỘI ĐỒNG XÉT ĐIỂM RÈN LUYỆN
J63: CHỦ TỊCH HỘI ĐỒNG
H71: xs | I71: tốt | J71: khá | K71: tb | L71: yếu | M71: kém
G72: =SUM(H72:M72) -> 46 | H72: =COUNTIF(N14:O59,"xuất sắc") -> 7 | I72: =COUNTIF(N14:O59,"tốt") -> 9 | J72: =COUNTIF(N14:O59,"khá") -> 7 | K72: =COUNTIF(N14:O59,"trung bình") -> 0 | L72: =COUNTIF(N14:O59,"yếu") -> 0 | M72: =COUNTIF(N14:O59,"kém") -> 23

Sheet DA24CNSH
J1: QT7.5/CTSV1-BM18
A2: ĐẠI HỌC TRÀ VINH | J2: CỘNG HOÀ XÃ HỘI CHỦ NGHĨA VIỆT NAM
A3: KHOA NÔNG NGHIỆP THỦY SẢN | J3: Độc lập - Tự do - Hạnh phúc
J5: Vĩnh Long, ngày 26 tháng 8 năm 2026
A7: BẢNG ĐÁNH GIÁ KẾT QUẢ RÈN LUYỆN CỦA SINH VIÊN, HỌC SINH
D8: Học kỳ: 2 Năm học: 2025 - 2026
D9: Tên lớp: ĐH Công nghệ Sinh học 2024 , Bậc đào tạo: Đại học (DA24CNSH)
D10: Khoá: 2024 ; Hệ đào tạo: Chính qui
A12: STT | B12: MSSV | C12: HỌ VÀ TÊN | E12: PHÁI | F12: N.SINH | G12: D.TỘC | H12: ĐÁNH GIÁ ĐIỂM RÈN LUYỆN | M12: TỔNG | N12: X.LOẠI | P12: GHI CHÚ
H13: TC1 | I13: TC2 | J13: TC3 | K13: TC4 | L13: TC5
A14: 1 | B14: 117724007 | C14: Lê Trọng Nghĩa | E14: Nam | F14: 23/06/2006 | M14: =SUM(H14:L14) -> 0 | N14: Kém
A15: 2 | B15: 117724012 | C15: Nguyễn Lý Khánh Vân | E15: Nữ | F15: 26/05/2006 | H15: 18 | I15: 25 | J15: 18 | K15: 20 | L15: 10 | M15: 91 | N15: Xuất sắc
A16: 3 | B16: 117724011 | C16: Đặng Gia Thuận | E16: Nam | F16: 02/02/2006 | H16: 18 | I16: 25 | J16: 13 | K16: 16 | L16: 10 | M16: 82 | N16: Tốt
A17: 4 | B17: 117724010 | C17: Phạm Thị Minh Thư | E17: Nữ | F17: 25/07/2006 | H17: 20 | I17: 25 | J17: 18 | K17: 14 | L17: 5 | M17: 82 | N17: Tốt
A18: 5 | B18: 117724013 | C18: Nguyễn Thị Bích Chăm | E18: Nữ | F18: 07/04/2006 | H18: 18 | I18: 25 | J18: 18 | K18: 20 | L18: 10 | M18: 91 | N18: Xuất sắc
A19: 6 | B19: 117724004 | C19: Nghiêm Ngọc Hân | E19: Nữ | F19: 20/11/2006 | H19: 16 | I19: 25 | J19: 17 | K19: 18 | L19: 10 | M19: 86 | N19: Tốt
A20: 7 | B20: 117724006 | C20: Từ Anh Kiệt | E20: Nam | F20: 01/02/2002 | H20: 20 | I20: 25 | J20: 20 | K20: 25 | L20: 10 | M20: 100 | N20: Xuất sắc
A21: 8 | B21: 117724001 | C21: Phạm Phương Anh | E21: Nữ | F21: 01/01/2006 | M21: =SUM(H21:L21) -> 0 | N21: Kém
A22: 9 | B22: 117724015 | C22: Nguyễn Thị Mỹ Linh | E22: Nữ | F22: 25/02/2006 | H22: 18 | I22: 25 | J22: 20 | K22: 17 | L22: 10 | M22: 90 | N22: Xuất sắc
A23: 10 | B23: 117724005 | C23: Lê Thị Thúy Huỳnh | E23: Nữ | F23: 15/01/2006 | H23: 20 | I23: 25 | J23: 14 | K23: 18 | L23: 7 | M23: 84 | N23: Tốt
A24: 11 | B24: 117724009 | C24: Lê Thị Minh Thư | E24: Nữ | F24: 30/11/2006 | H24: 20 | I24: 25 | J24: 20 | K24: 14 | L24: 5 | M24: 84 | N24: Tốt
A25: 12 | B25: 117724016 | C25: Kim Hoàng Tuấn | E25: Nam | F25: 07/03/2005 | H25: 12 | I25: 25 | J25: 4 | K25: 9 | L25: 0 | M25: 50 | N25: Trung bình
A28: Danh sách trên có: 12 sinh viên | J28: TM. HỘI ĐỒNG XÉT ĐIỂM RÈN LUYỆN
J29: CHỦ TỊCH HỘI ĐỒNG
G36: xs | H36: tốt | I36: khá | J36: tb | K36: yếu | L36: kém
F37: =SUM(G37:L37) -> 12 | G37: =COUNTIF(N14:O25,"xuất sắc") -> 4 | H37: =COUNTIF(N14:O25,"tốt") -> 5 | I37: =COUNTIF(N14:O25,"khá") -> 0 | J37: =COUNTIF(N14:O25,"trung bình") -> 1 | K37: =COUNTIF(N14:O25,"yếu") -> 0 | L37: =COUNTIF(N14:O25,"kém") -> 2

Sheet DA24TS
J1: QT7.5/CTSV1-BM18
A2: ĐẠI HỌC TRÀ VINH | J2: CỘNG HOÀ XÃ HỘI CHỦ NGHĨA VIỆT NAM
A3: KHOA NÔNG NGHIỆP THỦY SẢN | J3: Độc lập - Tự do - Hạnh phúc
J5: Vĩnh Long, ngày 26 tháng 8 năm 2026
A7: BẢNG ĐÁNH GIÁ KẾT QUẢ RÈN LUYỆN CỦA SINH VIÊN, HỌC SINH
D8: Học kỳ: 2 Năm học: 2025 - 2026
D9: Tên lớp: ĐH Nuôi trồng Thủy sản 2024 , Bậc đào tạo: Đại học (DA24TS)
D10: Khoá: 2024 ; Hệ đào tạo: Chính qui
A12: STT | B12: MSSV | C12: HỌ VÀ TÊN | E12: PHÁI | F12: N.SINH | G12: D.TỘC | H12: ĐÁNH GIÁ ĐIỂM RÈN LUYỆN | M12: TỔNG | N12: X.LOẠI | P12: GHI CHÚ
H13: TC1 | I13: TC2 | J13: TC3 | K13: TC4 | L13: TC5
A14: 1 | B14: 110324052 | C14: Huỳnh Hoài Nhân | E14: Nam | F14: 28/02/2004 | M14: 0 | N14: Kém
A15: 2 | B15: 110324044 | C15: Lê Thanh Hạo Văn | E15: Nam | F15: 10/09/2005 | H15: 20 | I15: 20 | J15: 0 | K15: 13 | L15: 1 | M15: 54 | N15: Trung bình
A16: 3 | B16: 110324026 | C16: Thạch Thị Bé Như | E16: Nữ | F16: 27/11/2006 | H16: 20 | I16: 25 | J16: 12 | K16: 14 | L16: 10 | M16: 81 | N16: Tốt
A17: 4 | B17: 110324054 | C17: Huỳnh Ngọc Trân | E17: Nữ | F17: 21/04/2006 | H17: 20 | I17: 25 | J17: 14 | K17: 14 | L17: 10 | M17: 83 | N17: Tốt
A18: 5 | B18: 110324012 | C18: Trần Thị Diễm Hằng | E18: Nữ | F18: 22/09/2006 | H18: 20 | I18: 25 | J18: 15 | K18: 14 | L18: 2 | M18: 76 | N18: Khá
A19: 6 | B19: 110324036 | C19: Nguyễn Thị Nhả Thi | E19: Nữ | F19: 10/09/2006 | H19: 18 | I19: 25 | J19: 10 | K19: 14 | L19: 5 | M19: 72 | N19: Khá
A20: 7 | B20: 110324028 | C20: Phạm Hoàng Phúc | E20: Nam | F20: 02/02/2006 | H20: 20 | I20: 25 | J20: 20 | K20: 24 | L20: 10 | M20: 99 | N20: Xuất sắc
A21: 8 | B21: 110324010 | C21: Châu Ngọc Hải | E21: Nam | F21: 03/02/2005 | H21: 20 | I21: 25 | J21: 15 | K21: 14 | L21: 7 | M21: 81 | N21: Tốt
A22: 9 | B22: 110324001 | C22: Tô Hoài Ân | E22: Nam | F22: 25/05/2006 | H22: 20 | I22: 25 | J22: 18 | K22: 25 | L22: 10 | M22: 98 | N22: Xuất sắc
A23: 10 | B23: 110324024 | C23: Nguyễn Trương Luân | E23: Nam | F23: 23/05/2006 | H23: 20 | I23: 25 | J23: 17 | K23: 20 | L23: 10 | M23: 92 | N23: Xuất sắc
A24: 11 | B24: 110324013 | C24: Nguyễn Đức Huy | E24: Nam | F24: 19/06/2006 | H24: 20 | I24: 25 | J24: 14 | K24: 11 | L24: 7 | M24: 77 | N24: Khá
A25: 12 | B25: 110324021 | C25: Châu Gia Kiệt | E25: Nam | F25: 19/11/2006 | H25: 20 | I25: 25 | J25: 20 | K25: 14 | L25: 10 | M25: 89 | N25: Tốt
A26: 13 | B26: 110324025 | C26: Nguyễn Thị Bảo Ngọc | E26: Nữ | F26: 13/02/2006 | H26: 20 | I26: 25 | J26: 17 | K26: 25 | L26: 10 | M26: 97 | N26: Xuất sắc
... A49: 36 | B49: 110324047 | C49: Nguyễn Tiến Đạt | E49: Nam | F49: 02/11/2006 | H49: 20 | I49: 25 | J49: 10 | K49: 17 | L49: 5 | M49: 77 | N49: Khá
A50: 37 | B50: 110324040 | C50: Lư Minh Thuận | E50: Nam | F50: 31/08/2006 | M50: 0 | N50: Kém
A51: 38 | B51: 110324005 | C51: Trầm Phước Đại | E51: Nam | F51: 28/04/2006 | M51: 0 | N51: Kém
A54: Danh sách trên có: 38 sinh viên | J54: TM. HỘI ĐỒNG XÉT ĐIỂM RÈN LUYỆN
J55: CHỦ TỊCH HỘI ĐỒNG
I61: xs | J61: tốt | K61: khá | L61: tb | M61: yếu | N61: kém
H62: =SUM(I62:N62) -> 38 | I62: =COUNTIF(N14:O51,"xuất sắc") -> 4 | J62: =COUNTIF(N14:O51,"tốt") -> 9 | K62: =COUNTIF(N14:O51,"khá") -> 21 | L62: =COUNTIF(N14:O51,"trung bình") -> 1 | M62: =COUNTIF(N14:O51,"yếu") -> 0 | N62: =COUNTIF(N14:O51,"kém") -> 3

Sheet DA24NN
J1: QT7.5/CTSV1-BM18
A2: ĐẠI HỌC TRÀ VINH | J2: CỘNG HOÀ XÃ HỘI CHỦ NGHĨA VIỆT NAM
A3: KHOA NÔNG NGHIỆP THỦY SẢN | J3: Độc lập - Tự do - Hạnh phúc
J5: Vĩnh Long, ngày 27 tháng 5 năm 2026
A6: BẢNG ĐÁNH GIÁ KẾT QUẢ RÈN LUYỆN CỦA SINH VIÊN, HỌC SINH
D7: Học kỳ: 1 Năm học: 2025 - 2026
D8: Tên lớp: ĐH Nông nghiệp 2024 , Bậc đào tạo: Đại học (DA24NN)
D9: Khoá: 2024 ; Hệ đào tạo: Chính qui
A11: STT | B11: MSSV | C11: HỌ VÀ TÊN | E11: PHÁI | F11: N.SINH | G11: D.TỘC | H11: ĐÁNH GIÁ ĐIỂM RÈN LUYỆN | M11: TỔNG | N11: X.LOẠI | P11: GHI CHÚ
H12: TC1 | I12: TC2 | J12: TC3 | K12: TC4 | L12: TC5
A13: 1
A14: 2
A15: 3
A16: 4
A17: 5
A18: 6
A19: 7
A20: 8
A21: 9
A22: 10
A23: 11
A24: 12
... A35: 23
A37: Danh sách trên có: 23 sinh viên | J37: TM. HỘI ĐỒNG XÉT ĐIỂM RÈN LUYỆN
J38: CHỦ TỊCH HỘI ĐỒNG
K39: P. TRƯỞNG KHOA
I44: xs | J44: tốt | K44: khá | L44: tb | M44: yếu | N44: kém
H45: =SUM(I45:N45) -> 0 | I45: =COUNTIF(N13:O35,"xuất sắc") -> 0 | J45: =COUNTIF(N13:O35,"tốt") -> 0 | K45: =COUNTIF(N13:O35,"khá") -> 0 | L45: =COUNTIF(N13:O35,"trung bình") -> 0 | M45: =COUNTIF(N13:O35,"yếu") -> 0 | N45: =COUNTIF(N13:O35,"kém") -> 0

Sheet DA24BVTV
J1: QT7.5/CTSV1-BM18
A2: ĐẠI HỌC TRÀ VINH | J2: CỘNG HOÀ XÃ HỘI CHỦ NGHĨA VIỆT NAM
A3: KHOA NÔNG NGHIỆP THỦY SẢN | J3: Độc lập - Tự do - Hạnh phúc
J5: Vĩnh Long, ngày 26 tháng 8 năm 2026
A7: BẢNG ĐÁNH GIÁ KẾT QUẢ RÈN LUYỆN CỦA SINH VIÊN, HỌC SINH
D8: Học kỳ: 2 Năm học: 2025 - 2026
D9: Tên lớp: ĐH Bảo vệ thực vật 2024 , Bậc đào tạo: Đại học (DA24BVTV)
D10: Khoá: 2024 ; Hệ đào tạo: Chính qui
A12: STT | B12: MSSV | C12: HỌ VÀ TÊN | E12: PHÁI | F12: N.SINH | G12: D.TỘC | H12: ĐÁNH GIÁ ĐIỂM RÈN LUYỆN | M12: TỔNG | N12: X.LOẠI | P12: GHI CHÚ
H13: TC1 | I13: TC2 | J13: TC3 | K13: TC4 | L13: TC5
A14: 1 | B14: 111524003 | C14: Thạch Huỳnh Nhân | E14: Nam | F14: 16/08/2006 | M14: 0 | N14: Kém
A15: 2 | B15: 111524002 | C15: Trung Văn Nghĩa | E15: Nam | F15: 20/07/2006 | H15: 20 | I15: 25 | J15: 12 | K15: 6 | L15: 10 | M15: 73 | N15: Khá
A16: 3 | B16: 111524004 | C16: Thạch Chanh Sa Rây | E16: Nam | F16: 21/12/2006 | H16: 20 | I16: 25 | J16: 12 | K16: 12 | L16: 10 | M16: 79 | N16: Khá
A17: 4 | B17: 111524008 | C17: Trần Trạng Trình | E17: Nam | F17: 25/07/2005 | H17: 20 | I17: 25 | J17: 12 | K17: 14 | L17: 10 | M17: 81 | N17: Tốt
A18: 5 | B18: 111524001 | C18: Trịnh Trung Hiếu | E18: Nam | F18: 14/10/2006 | H18: 16 | I18: 25 | J18: 10 | K18: 9 | L18: 10 | M18: 70 | N18: Khá
A19: 6 | B19: 111524007 | C19: Huỳnh Thị Thanh Tuyền | E19: Nữ | F19: 08/10/2006 | H19: 18 | I19: 25 | J19: 0 | K19: 25 | L19: 10 | M19: 78 | N19: Khá
A22: Danh sách trên có: 06 sinh viên | J22: TM. HỘI ĐỒNG XÉT ĐIỂM RÈN LUYỆN
J23: CHỦ TỊCH HỘI ĐỒNG
J34: xs | K34: tốt | L34: khá | M34: tb | N34: yếu | O34: kém
I35: =SUM(J35:O35) -> 6 | J35: =COUNTIF(N14:O19,"xuất sắc") -> 0 | K35: =COUNTIF(N14:O19,"tốt") -> 1 | L35: =COUNTIF(N14:O19,"khá") -> 4 | M35: =COUNTIF(N14:O19,"trung bình") -> 0 | N35: =COUNTIF(N14:O19,"yếu") -> 0 | O35: =COUNTIF(N14:O19,"kém") -> 1

Sheet DA24CNTP
J1: QT7.5/CTSV1-BM18
A2: ĐẠI HỌC TRÀ VINH | J2: CỘNG HOÀ XÃ HỘI CHỦ NGHĨA VIỆT NAM
A3: KHOA NÔNG NGHIỆP THỦY SẢN | J3: Độc lập - Tự do - Hạnh phúc
J5: Vĩnh Long, ngày 26 tháng 8 năm 2026
A7: BẢNG ĐÁNH GIÁ KẾT QUẢ RÈN LUYỆN CỦA SINH VIÊN, HỌC SINH
D8: Học kỳ: 2 Năm học: 2025 - 2026
D9: Tên lớp: ĐH Công nghệ thực phẩm 2024 , Bậc đào tạo: Đại học (DA24CNTP)
D10: Khoá: 2024 ; Hệ đào tạo: Chính qui
A12: STT | B12: MSSV | C12: HỌ VÀ TÊN | E12: PHÁI | F12: N.SINH | G12: D.TỘC | H12: ĐÁNH GIÁ ĐIỂM RÈN LUYỆN | M12: TỔNG | N12: X.LOẠI | P12: GHI CHÚ
H13: TC1 | I13: TC2 | J13: TC3 | K13: TC4 | L13: TC5
A14: 1 | B14: 116224014 | C14: Lâm Thị Hương Giang | E14: Nữ | F14: 30/05/2006 | H14: 20 | I14: 25 | J14: 17 | K14: 25 | L14: 9 | M14: 96 | N14: Xuất sắc
A15: 2 | B15: 116224046 | C15: Nguyễn Thị Tường Vi | E15: Nữ | F15: 16/11/2006 | H15: 20 | I15: 20 | J15: 17 | K15: 12 | L15: 10 | M15: 79 | N15: Khá
A16: 3 | B16: 116224003 | C16: Lê Thị Khánh Băng | E16: Nữ | F16: 28/08/2006 | H16: 12 | I16: 25 | J16: 0 | K16: 5 | L16: 10 | M16: 52 | N16: Trung bình
A17: 4 | B17: 116224053 | C17: Nguyễn Thị Tuyết Mai | E17: Nữ | F17: 17/12/2006 | H17: 16 | I17: 25 | J17: 10 | K17: 13 | L17: 3 | M17: 67 | N17: Khá
A18: 5 | B18: 116224034 | C18: Trần Minh Phương | E18: Nữ | F18: 20/07/2006 | H18: 20 | I18: 25 | J18: 0 | K18: 11 | L18: 4 | M18: 60 | N18: Trung bình
A19: 6 | B19: 116224041 | C19: Lê Thị Mỹ Tiên | E19: Nữ | F19: 24/07/2006 | H19: 18 | I19: 25 | J19: 15 | K19: 20 | L19: 7 | M19: 85 | N19: Tốt
A20: 7 | B20: 116224036 | C20: Lê Võ Tấn Tài | E20: Nam | F20: 03/12/2006 | H20: 0 | I20: 0 | J20: 0 | K20: 0 | L20: 0 | M20: 0 | N20: Kém
A21: 8 | B21: 116224016 | C21: Nguyễn Trần Gia Hân | E21: Nữ | F21: 03/06/2006 | H21: 18 | I21: 25 | J21: 15 | K21: 20 | L21: 7 | M21: 85 | N21: Tốt
A22: 9 | B22: 116224001 | C22: Huỳnh Lâm Khả Ái | E22: Nữ | F22: 11/03/2006 | H22: 20 | I22: 25 | J22: 2 | K22: 9 | L22: 10 | M22: 66 | N22: Khá
A23: 10 | B23: 116224008 | C23: Trần Thị Minh Châu | E23: Nữ | F23: 15/09/2006 | H23: 20 | I23: 25 | J23: 20 | K23: 17 | L23: 5 | M23: 87 | N23: Tốt
A24: 11 | B24: 116224031 | C24: Nguyễn Thị Tuyết Nhi | E24: Nữ | F24: 24/04/2006 | H24: 20 | I24: 25 | J24: 16 | K24: 20 | L24: 7 | M24: 88 | N24: Tốt
A25: 12 | B25: 116224035 | C25: Trần Nhật Quỳnh | E25: Nữ | F25: 19/08/2006 | H25: 18 | I25: 25 | J25: 0 | K25: 25 | L25: 0 | M25: 68 | N25: Khá
... A38: 25 | B38: 116224019 | C38: Đặng Diệu Hiền | E38: Nữ | F38: 10/09/2006 | H38: 20 | I38: 20 | J38: 16 | K38: 25 | L38: 7 | M38: 88 | N38: Tốt
A39: 26 | B39: 116224010 | C39: Hem Thị Cương | E39: Nữ | F39: 30/08/2006 | M39: 0 | N39: Kém
A42: Danh sách trên có: 26 sinh viên | J42: TM. HỘI ĐỒNG XÉT ĐIỂM RÈN LUYỆN
J43: CHỦ TỊCH HỘI ĐỒNG
I48: xs | J48: tốt | K48: khá | L48: tb | M48: yếu | N48: kém
H49: =SUM(I49:N49) -> 26 | I49: =COUNTIF(N14:O39,"xuất sắc") -> 3 | J49: =COUNTIF(N14:O39,"tốt") -> 10 | K49: =COUNTIF(N14:O39,"khá") -> 8 | L49: =COUNTIF(N14:O39,"trung bình") -> 2 | M49: =COUNTIF(N14:O39,"yếu") -> 0 | N49: =COUNTIF(N14:O39,"kém") -> 3

Sheet DA25TYA
J1: QT7.5/CTSV1-BM18
A2: ĐẠI HỌC TRÀ VINH | J2: CỘNG HOÀ XÃ HỘI CHỦ NGHĨA VIỆT NAM
A3: KHOA NÔNG NGHIỆP THỦY SẢN | J3: Độc lập - Tự do - Hạnh phúc
J5: Vĩnh Long, ngày 27 tháng 8 năm 2026
A7: BẢNG ĐÁNH GIÁ KẾT QUẢ RÈN LUYỆN CỦA SINH VIÊN, HỌC SINH
D8: Học kỳ: 2 Năm học: 2025 - 2026
D9: Tên lớp: ĐH Thú Y A 2025 , Bậc đào tạo: Đại học (DA25TYA)
D10: Khoá: 2025 ; Hệ đào tạo: Chính qui
A12: STT | B12: MSSV | C12: HỌ VÀ TÊN | E12: PHÁI | F12: N.SINH | G12: D.TỘC | H12: ĐÁNH GIÁ ĐIỂM RÈN LUYỆN | M12: TỔNG | N12: X.LOẠI | P12: GHI CHÚ
H13: TC1 | I13: TC2 | J13: TC3 | K13: TC4 | L13: TC5
A14: 1 | B14: 111325002 | C14: Thạch Hữu An | E14: Nam | F14: 06/11/2007 | M14: 0 | N14: Kém
A15: 2 | B15: 111325003 | C15: Trần Trường An | E15: Nam | F15: 05/05/2007 | H15: 0 | I15: 0 | J15: 0 | K15: 0 | L15: 0 | M15: 0 | N15: Kém
A16: 3 | B16: 111325004 | C16: Trang Hoàng An | E16: Nam | F16: 11/05/2007 | H16: 20 | I16: 25 | J16: 15 | K16: 20 | L16: 10 | M16: 90 | N16: Xuất sắc
A17: 4 | B17: 111325006 | C17: Chung Nam Anh | E17: Nam | F17: 02/10/2007 | H17: 20 | I17: 25 | J17: 2 | K17: 16 | L17: 7 | M17: 70 | N17: Khá
A18: 5 | B18: 111325007 | C18: Dương Loan Anh | E18: Nữ | F18: 01/12/2007 | H18: 20 | I18: 25 | J18: 19 | K18: 24 | L18: 10 | M18: 98 | N18: Xuất sắc
A19: 6 | B19: 111325008 | C19: Nguyễn Thị Tuyết Anh | E19: Nữ | F19: 19/12/2007 | H19: 20 | I19: 20 | J19: 20 | K19: 18 | L19: 9 | M19: 87 | N19: Tốt
A20: 7 | B20: 111325009 | C20: Thạch Lê Tuấn Anh | E20: Nam | F20: 28/07/2007 | H20: 20 | I20: 25 | J20: 0 | K20: 24 | L20: 7 | M20: 76 | N20: Khá
A21: 8 | B21: 111325011 | C21: Châu Phùng Khánh Băng | E21: Nữ | F21: 15/09/2007 | H21: 20 | I21: 25 | J21: 15 | K21: 24 | L21: 3 | M21: 87 | N21: Tốt
A22: 9 | B22: 111325012 | C22: Đặng Khánh Băng | E22: Nam | F22: 09/01/2007 | H22: 20 | I22: 25 | J22: 8 | K22: 25 | L22: 8 | M22: 86 | N22: Tốt
A23: 10 | B23: 111325013 | C23: Lê Quốc Bảo | E23: Nam | F23: 01/01/2007 | H23: 20 | I23: 25 | J23: 8 | K23: 21 | L23: 7 | M23: 81 | N23: Tốt
A24: 11 | B24: 111325015 | C24: Nguyễn Thị Kim Chi | E24: Nữ | F24: 17/02/2007 | H24: 20 | I24: 25 | J24: 20 | K24: 25 | L24: 10 | M24: 100 | N24: Xuất sắc
A25: 12 | B25: 111325016 | C25: Hứa Hồng Đào | E25: Nữ | F25: 21/11/2007 | H25: 20 | I25: 25 | J25: 20 | K25: 24 | L25: 7 | M25: 96 | N25: Xuất sắc
A26: 13 | B26: 111325017 | C26: Lê Thị Trúc Đào | E26: Nữ | F26: 06/11/2007 | H26: 20 | I26: 25 | J26: 15 | K26: 20 | L26: 7 | M26: 87 | N26: Tốt
... A33: 20 | B33: 111325028 | C33: Nguyễn Đức Duy | E33: Nam | F33: 03/05/2007 | H33: 20 | I33: 25 | J33: 15 | K33: 20 | L33: 9 | M33: 89 | N33: Tốt
A34: 21 | B34: 111325029 | C34: Nguyễn Minh Duy | E34: Nam | F34: 05/06/2007 | M34: 0 | N34: Kém
A35: 22 | B35: 111325030 | C35: Nguyễn Thanh Duy | E35: Nam | F35: 08/05/2001 | M35: 0 | N35: Kém
A36: 23 | B36: 111325031 | C36: Lưu Thảo Duyên | E36: Nữ | F36: 11/07/2007 | H36: 20 | I36: 25 | J36: 9 | K36: 14 | L36: 5 | M36: 73 | N36: Khá
A37: 24 | B37: 111325032 | C37: Nguyễn Thị Thanh Duyên | E37: Nữ | F37: 15/06/2007 | H37: 18 | I37: 25 | J37: 6 | K37: 22 | L37: 10 | M37: 81 | N37: Tốt
A38: 25 | B38: 111325038 | C38: Mai Quân Hạo | E38: Nam | F38: 13/01/2007 | H38: 20 | I38: 25 | J38: 0 | K38: 6 | L38: 8 | M38: 59 | N38: Trung bình
A39: 26 | B39: 111325041 | C39: Sơn Hiếu | E39: Nam | F39: 31/12/2007 | H39: 20 | I39: 25 | J39: 20 | K39: 14 | L39: 8 | M39: 87 | N39: Tốt
A40: 27 | B40: 111325042 | C40: Nguyễn Hiền Vĩnh Hiệu | E40: Nam | F40: 29/10/2007 | H40: 18 | I40: 25 | J40: 0 | K40: 18 | L40: 4 | M40: 65 | N40: Khá
A41: 28 | B41: 111325043 | C41: Bùi Thị Phương Hoa | E41: Nữ | F41: 24/10/1996 | H41: 20 | I41: 25 | J41: 20 | K41: 24 | L41: 7 | M41: 96 | N41: Xuất sắc
A42: 29 | B42: 111325044 | C42: Trần Lâm Ngọc Huân | E42: Nữ | F42: 09/05/2007 | H42: 20 | I42: 25 | J42: 20 | K42: 20 | L42: 7 | M42: 92 | N42: Xuất sắc
A43: 30 | B43: 111325045 | C43: Kim Ngọc Hưng | E43: Nam | F43: 02/02/2007 | H43: 20 | I43: 20 | J43: 20 | K43: 22 | L43: 8 | M43: 90 | N43: Xuất sắc
A44: 31 | B44: 111325047 | C44: Trần Thị Khánh Hương | E44: Nữ | F44: 10/02/2007 | H44: 20 | I44: 25 | J44: 20 | K44: 18 | L44: 10 | M44: 93 | N44: Xuất sắc
A45: 32 | B45: 111325048 | C45: Đặng Minh Huy | E45: Nam | F45: 22/03/2007 | H45: 20 | I45: 25 | J45: 20 | K45: 16 | L45: 8 | M45: 89 | N45: Tốt
A46: 33 | B46: 111325049 | C46: Hồ Nguyễn Gia Huy | E46: Nam | F46: 02/05/2007 | H46: 0 | I46: 0 | J46: 0 | K46: 0 | L46: 0 | M46: 0 | N46: Kém
A47: 34 | B47: 111325050 | C47: Lê Nguyễn Hoàng Huy | E47: Nam | F47: 08/06/2007 | H47: 20 | I47: 25 | J47: 6 | K47: 16 | L47: 7 | M47: 74 | N47: Khá
... A52: 39 | B52: 111325056 | C52: Trần Đại Hỷ | E52: Nam | F52: 27/01/2007 | H52: 0 | I52: 0 | J52: 0 | K52: 0 | L52: 0 | M52: 0 | N52: Kém
A53: 40 | B53: 111325057 | C53: Hồ Duy Khang | E53: Nam | F53: 19/01/2004 | M53: 0 | N53: Kém
A54: 41 | B54: 111325058 | C54: Thái Minh Khang | E54: Nam | F54: 16/08/2007 | H54: 20 | I54: 25 | J54: 20 | K54: 25 | L54: 4 | M54: 94 | N54: Xuất sắc
A55: 42 | B55: 111325059 | C55: Trần Minh Khang | E55: Nam | F55: 16/02/2007 | H55: 16 | I55: 25 | J55: 2 | K55: 22 | L55: 0 | M55: 65 | N55: Khá
A56: 43 | B56: 111325061 | C56: Nguyễn Dương Đăng Khoa | E56: Nam | F56: 25/07/2007 | H56: 20 | I56: 25 | J56: 4 | K56: 16 | L56: 7 | M56: 72 | N56: Khá
A57: 44 | B57: 111325062 | C57: Nguyễn Minh Khoa | E57: Nam | F57: 27/11/2007 | H57: 20 | I57: 25 | J57: 2 | K57: 16 | L57: 7 | M57: 70 | N57: Khá
A58: 45 | B58: 111325063 | C58: Võ Anh Khoa | E58: Nam | F58: 05/06/2007 | H58: 18 | I58: 25 | J58: 0 | K58: 7 | L58: 10 | M58: 60 | N58: Trung bình
A59: 46 | B59: 111325064 | C59: Trương Gia Khôi | E59: Nam | F59: 18/06/2007 | H59: 12 | I59: 25 | J59: 10 | K59: 19 | L59: 2 | M59: 68 | N59: Khá
A60: 47 | B60: 111325065 | C60: Châu Gia Kiệt | E60: Nam | F60: 26/04/2007 | H60: 20 | I60: 25 | J60: 20 | K60: 25 | L60: 10 | M60: 100 | N60: Xuất sắc
A61: 48 | B61: 111325069 | C61: Trần Viết Lãm | E61: Nam | F61: 21/12/2007 | H61: 18 | I61: 25 | J61: 5 | K61: 6 | L61: 10 | M61: 64 | N61: Trung bình
A62: 49 | B62: 111325101 | C62: Nguyễn Hữu Nghi | E62: Nam | F62: 17/07/2007 | H62: 20 | I62: 25 | J62: 10 | K62: 24 | L62: 0 | M62: 79 | N62: Khá
A63: 50 | B63: 111325118 | C63: Trần Thị Thuý Nhi | E63: Nữ | F63: 20/07/2007 | H63: 20 | I63: 25 | J63: 15 | K63: 24 | L63: 0 | M63: 84 | N63: Tốt
A64: 51 | B64: 111325164 | C64: Trương Hạnh Tiên | E64: Nữ | F64: 06/10/2007 | H64: 20 | I64: 25 | J64: 12 | K64: 22 | L64: 7 | M64: 86 | N64: Tốt
A65: 52 | B65: 111325189 | C65: Ngô Hoàng Mỹ Uyên | E65: Nữ | F65: 05/07/2007 | H65: 20 | I65: 25 | J65: 20 | K65: 25 | L65: 10 | M65: 100 | N65: Xuất sắc
A66: 53 | B66: 111325196 | C66: Nguyễn Thị Yến Vy | E66: Nữ | F66: 02/07/2007 | H66: 20 | I66: 25 | J66: 17 | K66: 24 | L66: 5 | M66: 91 | N66: Xuất sắc
A67: 54 | B67: 111325202 | C67: Trần Thị Khả Ái | E67: Nữ | F67: 14/06/2007 | M67: 0 | N67: Kém
A68: 55 | B68: 111325203 | C68: Đỗ Khánh Ân | E68: Nam | F68: 05/08/2007 | M68: 0 | N68: Kém
A69: 56 | B69: 111325204 | C69: Nguyễn Hoàng Ân | E69: Nam | F69: 28/01/2007 | H69: 20 | I69: 25 | J69: 10 | K69: 24 | L69: 10 | M69: 89 | N69: Tốt
A70: 57 | B70: 111325206 | C70: Kiên Minh Duy | E70: Nam | F70: 24/07/2007 | H70: 20 | I70: 25 | J70: 18 | K70: 14 | L70: 8 | M70: 85 | N70: Tốt
A71: 58 | B71: 111325206 | C71: Kiên Minh Duy | E71: Nam | F71: 24/07/2007 | H71: 20 | I71: 25 | J71: 18 | K71: 14 | L71: 8 | M71: 85 | N71: Tốt
A72: 59 | B72: 111325208 | C72: Trần Thị Ngọc Hân | E72: Nữ | F72: 05/05/2007 | H72: 20 | I72: 25 | J72: 20 | K72: 24 | L72: 10 | M72: 99 | N72: Xuất sắc
A75: Danh sách trên có: 59 sinh viên | J75: TM. HỘI ĐỒNG XÉT ĐIỂM RÈN LUYỆN
J76: CHỦ TỊCH HỘI ĐỒNG
I85: xs | J85: tốt | K85: khá | L85: tb | M85: yếu | N85: kém
H86: =SUM(I86:N86) -> 59 | I86: =COUNTIF(N14:O72,"xuất sắc") -> 14 | J86: =COUNTIF(N14:O72,"tốt") -> 20 | K86: =COUNTIF(N14:O72,"khá") -> 12 | L86: =COUNTIF(N14:O72,"trung bình") -> 4 | M86: =COUNTIF(N14:O72,"yếu") -> 0 | N86: =COUNTIF(N14:O72,"kém") -> 9

Sheet DA25TYB
J1: QT7.5/CTSV1-BM18
A2: ĐẠI HỌC TRÀ VINH | J2: CỘNG HOÀ XÃ HỘI CHỦ NGHĨA VIỆT NAM
A3: KHOA NÔNG NGHIỆP THỦY SẢN | J3: Độc lập - Tự do - Hạnh phúc
J5: Vĩnh Long, ngày 27 tháng 8 năm 2026
A7: BẢNG ĐÁNH GIÁ KẾT QUẢ RÈN LUYỆN CỦA SINH VIÊN, HỌC SINH
D8: Học kỳ: 2 Năm học: 2025 - 2026
D9: Tên lớp: ĐH Thú Y B 2025 , Bậc đào tạo: Đại học (DA25TYB)
D10: Khoá: 2025 ; Hệ đào tạo: Chính qui
A12: STT | B12: MSSV | C12: HỌ VÀ TÊN | E12: PHÁI | F12: N.SINH | G12: D.TỘC | H12: ĐÁNH GIÁ ĐIỂM RÈN LUYỆN | M12: TỔNG | N12: X.LOẠI | P12: GHI CHÚ
H13: TC1 | I13: TC2 | J13: TC3 | K13: TC4 | L13: TC5
A14: 1 | B14: 111325005 | C14: Hứa Nhật Ân | E14: Nam | F14: 19/01/2007 | H14: 18 | I14: 25 | J14: 11 | K14: 25 | L14: 0 | M14: 79 | N14: Khá
A15: 2 | B15: 111325067 | C15: Trương Anh Kiệt | E15: Nam | F15: 25/04/2006 | M15: 0 | N15: Kém
A16: 3 | B16: 111325068 | C16: Lê Hoàng Lam | E16: Nam | F16: 15/07/2007 | H16: 20 | I16: 25 | J16: 20 | K16: 24 | L16: 7 | M16: 96 | N16: Xuất sắc
A17: 4 | B17: 111325070 | C17: Hoàng Văn Liêm | E17: Nam | F17: 29/10/2007 | H17: 20 | I17: 16 | J17: 15 | K17: 18 | L17: 7 | M17: 76 | N17: Khá
A18: 5 | B18: 111325071 | C18: Nguyễn Thị Mỹ Linh | E18: Nữ | F18: 10/08/2007 | H18: 18 | I18: 14 | J18: 10 | K18: 25 | L18: 0 | M18: 67 | N18: Khá
A19: 6 | B19: 111325072 | C19: Nguyễn Thị Trúc Linh | E19: Nữ | F19: 14/01/2007 | H19: 18 | I19: 20 | J19: 15 | K19: 24 | L19: 7 | M19: 84 | N19: Tốt
A20: 7 | B20: 111325078 | C20: Tô Thị Hồng Loan | E20: Nữ | F20: 15/10/2007 | H20: 20 | I20: 25 | J20: 8 | K20: 24 | L20: 7 | M20: 84 | N20: Tốt
A21: 8 | B21: 111325079 | C21: Đặng Hữu Lộc | E21: Nam | F21: 02/09/2007 | H21: 20 | I21: 25 | J21: 8 | K21: 22 | L21: 0 | M21: 75 | N21: Khá
A22: 9 | B22: 111325080 | C22: Lê Tấn Lộc | E22: Nam | F22: 06/07/2007 | H22: 16 | I22: 25 | J22: 20 | K22: 24 | L22: 0 | M22: 85 | N22: Tốt
A23: 10 | B23: 111325082 | C23: Trần Nguyễn Phước Lộc | E23: Nam | F23: 22/04/2007 | H23: 18 | I23: 25 | J23: 10 | K23: 24 | L23: 0 | M23: 77 | N23: Khá
A24: 11 | B24: 111325083 | C24: Thạch Ngọc Lợi | E24: Nam | F24: 19/10/2007 | H24: 18 | I24: 25 | J24: 0 | K24: 24 | L24: 0 | M24: 67 | N24: Khá
A25: 12 | B25: 111325086 | C25: Lê Thế Lực | E25: Nam | F25: 01/12/2007 | H25: 18 | I25: 14 | J25: 11 | K25: 25 | L25: 0 | M25: 68 | N25: Khá
A26: 13 | B26: 111325089 | C26: Nguyễn Đặng Công Minh | E26: Nam | F26: 01/10/2007 | H26: 18 | I26: 25 | J26: 4 | K26: 24 | L26: 0 | M26: 71 | N26: Khá
A27: 14 | B27: 111325090 | C27: Nguyễn Phạm Diễm My | E27: Nữ | F27: 02/08/2007 | H27: 20 | I27: 20 | J27: 20 | K27: 24 | L27: 7 | M27: 91 | N27: Xuất sắc
... A53: 40 | B53: 111325131 | C53: Nguyễn Ngọc Phụng | E53: Nữ | F53: 07/03/2007 | H53: 16 | I53: 16 | J53: 13 | K53: 22 | L53: 4 | M53: 71 | N53: Khá
A54: 41 | B54: 111325132 | C54: Huỳnh Hữu Phước | E54: Nam | F54: 22/06/2007 | M54: 0 | N54: Kém
A55: 42 | B55: 111325135 | C55: Phan Thanh Quang | E55: Nam | F55: 25/09/2007 | H55: 19 | I55: 20 | J55: 13 | K55: 24 | L55: 10 | M55: 86 | N55: Tốt
A56: 43 | B56: 111325170 | C56: Lê Nhi Kiều Trang | E56: Nữ | F56: 03/12/2007 | H56: 20 | I56: 25 | J56: 8 | K56: 18 | L56: 0 | M56: 71 | N56: Khá
A57: 44 | B57: 111325178 | C57: Phạm Thị Ngọc Trinh | E57: Nữ | F57: 29/05/2007 | H57: 18 | I57: 25 | J57: 10 | K57: 21 | L57: 3 | M57: 77 | N57: Khá
A58: 45 | B58: 111325192 | C58: Nguyễn Đặng Quốc Vương | E58: Nam | F58: 25/02/2007 | H58: 18 | I58: 20 | J58: 15 | K58: 24 | L58: 7 | M58: 84 | N58: Tốt
A59: 46 | B59: 111325207 | C59: Đoàn In Đô | E59: Nam | F59: 05/05/2007 | H59: 18 | I59: 22 | J59: 6 | K59: 20 | L59: 0 | M59: 66 | N59: Khá
A60: 47 | B60: 111325210 | C60: Trần Quốc Hửu | E60: Nam | F60: 25/08/2007 | H60: 18 | I60: 25 | J60: 14 | K60: 14 | L60: 3 | M60: 74 | N60: Khá
A61: 48 | B61: 111325212 | C61: Lê Văn Kiệt | E61: Nam | F61: 07/10/2007 | H61: 18 | I61: 20 | J61: 2 | K61: 23 | L61: 2 | M61: 65 | N61: Khá
A62: 49 | B62: 111325214 | C62: Phan Văn Nguyễn Kha | E62: Nam | F62: 23/12/2007 | H62: 20 | I62: 25 | J62: 10 | K62: 21 | L62: 0 | M62: 76 | N62: Khá
A63: 50 | B63: 111325216 | C63: Âu Nhã Linh | E63: Nữ | F63: 07/08/2007 | H63: 18 | I63: 25 | J63: 10 | K63: 19 | L63: 0 | M63: 72 | N63: Khá
A64: 51 | B64: 111325217 | C64: Nguyễn Thị Kiều Linh | E64: Nữ | F64: 01/04/2006 | H64: 20 | I64: 20 | J64: 20 | K64: 24 | L64: 7 | M64: 91 | N64: Xuất sắc
A65: 52 | B65: 111325217 | C65: Nguyễn Thị Kiều Linh | E65: Nữ | F65: 01/04/2006 | H65: 20 | I65: 20 | J65: 20 | K65: 24 | L65: 7 | M65: 91 | N65: Xuất sắc
A66: 53 | B66: 111325218 | C66: Lê Hữu Lợi | E66: Nam | F66: 30/09/2005 | H66: 16 | I66: 14 | J66: 19 | K66: 19 | L66: 0 | M66: 68 | N66: Khá
A67: 54 | B67: 111325222 | C67: Nguyễn Tấn Nghiệp | E67: Nam | F67: 05/06/2007 | M67: 0 | N67: Kém
A68: 55 | B68: 111325223 | C68: Phạm Thị Như Ngọc | E68: Nữ | F68: 08/05/2005 | H68: 20 | I68: 20 | J68: 18 | K68: 24 | L68: 7 | M68: 89 | N68: Tốt
A71: Danh sách trên có: 55 sinh viên | J71: TM. HỘI ĐỒNG XÉT ĐIỂM RÈN LUYỆN
J72: CHỦ TỊCH HỘI ĐỒNG
I81: xs | J81: tốt | K81: khá | L81: tb | M81: yếu | N81: kém
H82: =SUM(I82:N82) -> 55 | I82: =COUNTIF(N14:O68,"xuất sắc") -> 11 | J82: =COUNTIF(N14:O68,"tốt") -> 11 | K82: =COUNTIF(N14:O68,"khá") -> 30 | L82: =COUNTIF(N14:O68,"trung bình") -> 0 | M82: =COUNTIF(N14:O68,"yếu") -> 0 | N82: =COUNTIF(N14:O68,"kém") -> 3

Sheet DA25TYC
J1: QT7.5/CTSV1-BM18
A2: ĐẠI HỌC TRÀ VINH | J2: CỘNG HOÀ XÃ HỘI CHỦ NGHĨA VIỆT NAM
A3: KHOA NÔNG NGHIỆP THỦY SẢN | J3: Độc lập - Tự do - Hạnh phúc
J4: QT7.5/CTSV1-BM18
A5: ĐẠI HỌC TRÀ VINH | J5: CỘNG HOÀ XÃ HỘI CHỦ NGHĨA VIỆT NAM
A6: KHOA NÔNG NGHIỆP THỦY SẢN | J6: Độc lập - Tự do - Hạnh phúc
J8: Vĩnh Long, ngày 27 tháng 8 năm 2026
A10: BẢNG ĐÁNH GIÁ KẾT QUẢ RÈN LUYỆN CỦA SINH VIÊN, HỌC SINH
D11: Học kỳ: 2 Năm học: 2025 - 2026
D12: Tên lớp: ĐH Thú Y C 2025 , Bậc đào tạo: Đại học (DA25TYC)
D13: Khoá: 2025 ; Hệ đào tạo: Chính qui
A15: STT | B15: MSSV | C15: HỌ VÀ TÊN | E15: PHÁI | F15: N.SINH | G15: D.TỘC | H15: ĐÁNH GIÁ ĐIỂM RÈN LUYỆN | M15: TỔNG | N15: X.LOẠI | P15: GHI CHÚ
H16: TC1 | I16: TC2 | J16: TC3 | K16: TC4 | L16: TC5
A17: 1 | B17: 111325133 | C17: Lê Ngọc Trúc Phương | E17: Nữ | F17: 09/11/2007 | H17: 20 | I17: 25 | J17: 16 | K17: 20 | L17: 0 | M17: 81 | N17: Tốt
A18: 2 | B18: 111325134 | C18: Nguyễn Minh Quân | E18: Nam | F18: 08/01/2007 | H18: 20 | I18: 25 | J18: 20 | K18: 20 | L18: 2 | M18: 87 | N18: Tốt
A19: 3 | B19: 111325136 | C19: Thạch Thanh Quang | E19: Nam | F19: 14/07/2007 | H19: 20 | I19: 25 | J19: 10 | K19: 16 | L19: 10 | M19: 81 | N19: Tốt
A20: 4 | B20: 111325137 | C20: Thạch Thị Thúy Quỳnh | E20: Nữ | F20: 07/04/2007 | H20: 18 | I20: 14 | J20: 10 | K20: 21 | L20: 0 | M20: 63 | N20: Trung bình
A21: 5 | B21: 111325140 | C21: Nguyễn Tấn Tài | E21: Nam | F21: 03/02/2007 | H21: 16 | I21: 25 | J21: 6 | K21: 9 | L21: 5 | M21: 61 | N21: Trung bình
A22: 6 | B22: 111325141 | C22: Danh Nguyễn Thanh Thanh | E22: Nữ | F22: 29/03/2007 | H22: 18 | I22: 25 | J22: 4 | K22: 20 | L22: 2 | M22: 69 | N22: Khá
A23: 7 | B23: 111325143 | C23: Nguyễn Văn Thanh | E23: Nam | F23: 02/08/2007 | H23: 19 | I23: 25 | J23: 4 | K23: 14 | L23: 6 | M23: 68 | N23: Khá
A24: 8 | B24: 111325144 | C24: Trần Quốc Thanh | E24: Nam | F24: 11/06/2007 | H24: 10 | I24: 25 | J24: 4 | K24: 20 | L24: 5 | M24: 64 | N24: Trung bình
A25: 9 | B25: 111325146 | C25: Nguyễn Trung Thành | E25: Nam | F25: 27/09/2007 | H25: 20 | I25: 25 | J25: 20 | K25: 23 | L25: 10 | M25: 98 | N25: Xuất sắc
A26: 10 | B26: 111325148 | C26: Ngô Thanh Thảo | E26: Nữ | F26: 05/07/2007 | H26: 20 | I26: 25 | J26: 20 | K26: 20 | L26: 5 | M26: 90 | N26: Xuất sắc
A27: 11 | B27: 111325150 | C27: Danh Lý Gia Thịnh | E27: Nam | F27: 27/11/2007 | H27: 16 | I27: 25 | J27: 10 | K27: 6 | L27: 8 | M27: 65 | N27: Khá
A28: 12 | B28: 111325151 | C28: Trần Quốc Thịnh | E28: Nam | F28: 26/08/2007 | H28: 20 | I28: 25 | J28: 19 | K28: 18 | L28: 5 | M28: 87 | N28: Tốt
A29: 13 | B29: 111325155 | C29: Võ Văn Minh Thoại | E29: Nam | F29: 11/07/2007 | H29: 18 | I29: 25 | J29: 20 | K29: 20 | L29: 0 | M29: 83 | N29: Tốt
A30: 14 | B30: 111325156 | C30: Nguyễn Nhựt Thông | E30: Nam | F30: 29/07/2007 | M30: 0 | N30: Kém
A31: 15 | B31: 111325158 | C31: Đặng Thị Anh Thư | E31: Nữ | F31: 27/08/2007 | H31: 20 | I31: 25 | J31: 19 | K31: 20 | L31: 10 | M31: 94 | N31: Xuất sắc
A32: 16 | B32: 111325161 | C32: Lê Trí Thức | E32: Nam | F32: 20/04/2007 | H32: 18 | I32: 25 | J32: 20 | K32: 20 | L32: 10 | M32: 93 | N32: Xuất sắc
A33: 17 | B33: 111325162 | C33: Mai Phương Thúy | E33: Nữ | F33: 14/05/2007 | H33: 20 | I33: 25 | J33: 13 | K33: 17 | L33: 10 | M33: 85 | N33: Tốt
A34: 18 | B34: 111325165 | C34: Lâm Dương Minh Tiến | E34: Nam | F34: 10/09/2007 | H34: 18 | I34: 25 | J34: 12 | K34: 20 | L34: 0 | M34: 75 | N34: Khá
A35: 19 | B35: 111325166 | C35: Phạm Hùng Tính | E35: Nam | F35: 11/03/2007 | H35: 20 | I35: 25 | J35: 9 | K35: 20 | L35: 3 | M35: 77 | N35: Khá
A36: 20 | B36: 111325167 | C36: Trương Thanh Toàn | E36: Nam | F36: 03/08/2007 | M36: 0 | N36: Kém
A37: 21 | B37: 111325169 | C37: Sơn Thị Huyền Trân | E37: Nữ | F37: 21/10/2007 | H37: 20 | I37: 25 | J37: 20 | K37: 17 | L37: 10 | M37: 92 | N37: Xuất sắc
A38: 22 | B38: 111325172 | C38: Thạch Thị Thanh Trang | E38: Nữ | F38: 24/05/2006 | H38: 20 | I38: 25 | J38: 8 | K38: 20 | L38: 10 | M38: 83 | N38: Tốt
A39: 23 | B39: 111325173 | C39: Kim Ngọc Trí | E39: Nam | F39: 25/03/2007 | H39: 20 | I39: 25 | J39: 12 | K39: 20 | L39: 7 | M39: 84 | N39: Tốt
A40: 24 | B40: 111325175 | C40: Thạch Minh Trí | E40: Nam | F40: 22/04/2007 | H40: 20 | I40: 25 | J40: 4 | K40: 9 | L40: 2 | M40: 60 | N40: Trung bình
A41: 25 | B41: 111325176 | C41: Nguyễn Thái Triều | E41: Nam | F41: 19/02/2007 | H41: 8 | I41: 14 | J41: 13 | K41: 24 | L41: 2 | M41: 61 | N41: Trung bình
A42: 26 | B42: 111325177 | C42: Nguyễn Thanh Triều | E42: Nam | F42: 25/01/2007 | H42: 18 | I42: 25 | J42: 20 | K42: 14 | L42: 9 | M42: 86 | N42: Tốt
A43: 27 | B43: 111325179 | C43: Nguyễn Phú Trọng | E43: Nam | F43: 14/12/2007 | H43: 20 | I43: 25 | J43: 0 | K43: 9 | L43: 0 | M43: 54 | N43: Trung bình
A44: 28 | B44: 111325180 | C44: Nguyễn Thái Trọng | E44: Nam | F44: 20/11/2007 | H44: 20 | I44: 20 | J44: 2 | K44: 9 | L44: 2 | M44: 53 | N44: Trung bình
A45: 29 | B45: 111325182 | C45: Võ Thị Mỹ Trúc | E45: Nữ | F45: 15/10/2007 | M45: 0 | N45: Kém
A46: 30 | B46: 111325183 | C46: Ngô Nhật Trường | E46: Nam | F46: 02/09/2007 | H46: 20 | I46: 25 | J46: 11 | K46: 12 | L46: 4 | M46: 72 | N46: Khá
A47: 31 | B47: 111325184 | C47: Thạch Minh Trường | E47: Nam | F47: 02/09/2007 | H47: 20 | I47: 25 | J47: 20 | K47: 11 | L47: 3 | M47: 79 | N47: Khá
A48: 32 | B48: 111325185 | C48: Thạch Thị Diệu Tú | E48: Nữ | F48: 26/01/2007 | H48: 18 | I48: 25 | J48: 2 | K48: 20 | L48: 0 | M48: 65 | N48: Khá
A49: 33 | B49: 111325186 | C49: Dương Minh Tùng | E49: Nam | F49: 28/05/2007 | H49: 20 | I49: 25 | J49: 20 | K49: 20 | L49: 10 | M49: 95 | N49: Xuất sắc
A50: 34 | B50: 111325187 | C50: Đặng Huy Tường | E50: Nam | F50: 18/01/2007 | H50: 18 | I50: 25 | J50: 8 | K50: 20 | L50: 10 | M50: 81 | N50: Tốt
A51: 35 | B51: 111325188 | C51: Dương Khánh Tường | E51: Nam | F51: 17/03/2007 | H51: 20 | I51: 25 | J51: 12 | K51: 9 | L51: 2 | M51: 68 | N51: Khá
A52: 36 | B52: 111325191 | C52: Dư Chí Vỉ | E52: Nam | F52: 05/09/2007 | H52: 20 | I52: 25 | J52: 0 | K52: 17 | L52: 4 | M52: 66 | N52: Khá
A53: 37 | B53: 111325193 | C53: Hồng Nguyễn Đăng Vy | E53: Nữ | F53: 20/01/2007 | H53: 18 | I53: 25 | J53: 20 | K53: 20 | L53: 10 | M53: 93 | N53: Xuất sắc
A54: 38 | B54: 111325198 | C54: Nguyễn Hồ Như Ý | E54: Nữ | F54: 28/03/2007 | H54: 18 | I54: 25 | J54: 20 | K54: 20 | L54: 7 | M54: 90 | N54: Xuất sắc
A55: 39 | B55: 111325224 | C55: Nguyễn Minh Nhựt | E55: Nam | F55: 03/02/2007 | H55: 20 | I55: 25 | J55: 2 | K55: 11 | L55: 5 | M55: 63 | N55: Trung bình
A56: 40 | B56: 111325226 | C56: Nguyễn Thanh Phục | E56: Nam | F56: 27/01/2006 | H56: 18 | I56: 25 | J56: 4 | K56: 11 | L56: 3 | M56: 61 | N56: Trung bình
A57: 41 | B57: 111325228 | C57: Lê Nguyễn Tú Quyên | E57: Nữ | F57: 05/12/2007 | H57: 16 | I57: 25 | J57: 20 | K57: 18 | L57: 7 | M57: 86 | N57: Tốt
... A63: 47 | B63: 111325235 | C63: Thạch Minh Trí | E63: Nam | F63: 04/07/2007 | H63: 20 | I63: 25 | J63: 9 | K63: 20 | L63: 10 | M63: 84 | N63: Tốt
A64: 48 | B64: 111325236 | C64: Thạch Nhất Trường | E64: Nam | F64: 25/06/2006 | M64: 0 | N64: Kém
A67: Danh sách trên có: 48 sinh viên | J67: TM. HỘI ĐỒNG XÉT ĐIỂM RÈN LUYỆN
J68: CHỦ TỊCH HỘI ĐỒNG
I77: xs | J77: tốt | K77: khá | L77: tb | M77: yếu | N77: kém
H78: =SUM(I78:N78) -> 48 | I78: =COUNTIF(N14:O64,"xuất sắc") -> 10 | J78: =COUNTIF(N14:O64,"tốt") -> 13 | K78: =COUNTIF(N14:O64,"khá") -> 11 | L78: =COUNTIF(N14:O64,"trung bình") -> 9 | M78: =COUNTIF(N14:O64,"yếu") -> 0 | N78: =COUNTIF(N14:O64,"kém") -> 5

Sheet DA25CNSH
J1: QT7.5/CTSV1-BM18
A2: ĐẠI HỌC TRÀ VINH | J2: CỘNG HOÀ XÃ HỘI CHỦ NGHĨA VIỆT NAM
A3: KHOA NÔNG NGHIỆP THỦY SẢN | J3: Độc lập - Tự do - Hạnh phúc
J5: Vĩnh Long, ngày 27 tháng 8 năm 2026
A7: BẢNG ĐÁNH GIÁ KẾT QUẢ RÈN LUYỆN CỦA SINH VIÊN, HỌC SINH
D8: Học kỳ: 2 Năm học: 2025 - 2026
D9: Tên lớp: ĐH Công nghệ Sinh học 2025 , Bậc đào tạo: Đại học (DA25CNSH)
D10: Khoá: 2025 ; Hệ đào tạo: Chính qui
A12: STT | B12: MSSV | C12: HỌ VÀ TÊN | E12: PHÁI | F12: N.SINH | G12: D.TỘC | H12: ĐÁNH GIÁ ĐIỂM RÈN LUYỆN | M12: TỔNG | N12: X.LOẠI | P12: GHI CHÚ
H13: TC1 | I13: TC2 | J13: TC3 | K13: TC4 | L13: TC5
A14: 1 | B14: 117725002 | C14: Nguyễn Gia Bảo | E14: Nam | F14: 19/10/2007 | H14: 16 | I14: 14 | J14: 0 | K14: 13 | L14: 0 | M14: 43 | N14: Yếu
A15: 2 | B15: 117725003 | C15: Từ Quang Đăng | E15: Nam | F15: 15/04/2007 | H15: 20 | I15: 20 | J15: 19 | K15: 14 | L15: 10 | M15: 83 | N15: Tốt
A16: 3 | B16: 117725004 | C16: Nguyễn Phúc Hậu | E16: Nam | F16: 17/09/2005 | H16: 20 | I16: 25 | J16: 17 | K16: 25 | L16: 10 | M16: 97 | N16: Xuất sắc
A17: 4 | B17: 117725005 | C17: Trương Nhật Lam | E17: Nữ | F17: 24/04/2007 | H17: 12 | I17: 20 | J17: 20 | K17: 22 | L17: 10 | M17: 84 | N17: Tốt
A18: 5 | B18: 117725007 | C18: Trần Thúy Linh | E18: Nữ | F18: 22/10/2007 | H18: 20 | I18: 25 | J18: 19 | K18: 24 | L18: 10 | M18: 98 | N18: Xuất sắc
A19: 6 | B19: 117725009 | C19: Lâm Thị Hồng Minh | E19: Nữ | F19: 27/11/2007 | H19: 6 | I19: 10 | J19: 0 | K19: 13 | L19: 0 | M19: 29 | N19: Kém
A20: 7 | B20: 117725010 | C20: Thạch Trương Diễm My | E20: Nữ | F20: 25/09/2006 | H20: 14 | I20: 14 | J20: 0 | K20: 10 | L20: 0 | M20: 38 | N20: Yếu
A21: 8 | B21: 117725011 | C21: Phan Thị Kim Ngân | E21: Nữ | F21: 04/10/2007 | H21: 16 | I21: 25 | J21: 15 | K21: 13 | L21: 10 | M21: 79 | N21: Khá
A22: 9 | B22: 117725012 | C22: Nguyễn Trọng Nghĩa | E22: Nam | F22: 01/01/2007 | H22: 18 | I22: 25 | J22: 15 | K22: 19 | L22: 0 | M22: 77 | N22: Khá
A23: 10 | B23: 117725013 | C23: Nguyễn Thúy Ngọc | E23: Nữ | F23: 20/12/2007 | H23: 20 | I23: 25 | J23: 13 | K23: 24 | L23: 10 | M23: 92 | N23: Xuất sắc
A24: 11 | B24: 117725014 | C24: Triệu Ngọc Nguyên | E24: Nữ | F24: 02/03/2007 | H24: 20 | I24: 25 | J24: 20 | K24: 25 | L24: 10 | M24: 100 | N24: Xuất sắc
A25: 12 | B25: 117725015 | C25: Nguyễn Thái Tuệ Nhi | E25: Nữ | F25: 16/04/2007 | M25: 0 | N25: Kém
A26: 13 | B26: 117725016 | C26: Triệu Thị Trúc Như | E26: Nữ | F26: 11/07/2007 | H26: 20 | I26: 25 | J26: 20 | K26: 24 | L26: 10 | M26: 99 | N26: Xuất sắc
A27: 14 | B27: 117725017 | C27: Nguyễn Kiều Oanh | E27: Nữ | F27: 02/01/2007 | H27: 12 | I27: 14 | J27: 0 | K27: 13 | L27: 1 | M27: 40 | N27: Yếu
A28: 15 | B28: 117725018 | C28: Lê Hoàng Phúc | E28: Nam | F28: 23/03/2007 | H28: 16 | I28: 25 | J28: 10 | K28: 13 | L28: 2 | M28: 66 | N28: Khá
A29: 16 | B29: 117725022 | C29: Nguyễn Khả Thiên | E29: Nữ | F29: 07/07/2007 | H29: 16 | I29: 25 | J29: 19 | K29: 21 | L29: 7 | M29: 88 | N29: Tốt
A30: 17 | B30: 117725026 | C30: Thạch Quốc Văn | E30: Nam | F30: 12/11/2007 | H30: 14 | I30: 25 | J30: 15 | K30: 22 | L30: 10 | M30: 86 | N30: Tốt
A31: 18 | B31: 117725027 | C31: Lê Thị Thiên Yến | E31: Nữ | F31: 30/12/2007 | H31: 18 | I31: 25 | J31: 20 | K31: 24 | L31: 7 | M31: 94 | N31: Xuất sắc
A32: 19 | B32: 117725028 | C32: Lê Thị Ngọc Diệp | E32: Nữ | F32: 03/05/2007 | M32: 0 | N32: Kém
A33: 20 | B33: 117725029 | C33: Huỳnh Trung Hưng | E33: Nam | F33: 28/08/2007 | H33: 20 | I33: 25 | J33: 18 | K33: 21 | L33: 2 | M33: 86 | N33: Tốt
A34: 21 | B34: 117725030 | C34: Lâm Tấn Lợi | E34: Nam | F34: 08/04/2007 | H34: 16 | I34: 25 | J34: 15 | K34: 16 | L34: 5 | M34: 77 | N34: Khá
A35: 22 | B35: 117725031 | C35: Võ Quỳnh Như | E35: Nữ | F35: 04/02/2007 | H35: 14 | I35: 25 | J35: 20 | K35: 15 | L35: 2 | M35: 76 | N35: Khá
A36: 23 | B36: 117725032 | C36: Nguyễn Huỳnh Thanh Trà | E36: Nam | F36: 25/09/2007 | H36: 20 | I36: 25 | J36: 2 | K36: 14 | L36: 2 | M36: 63 | N36: Trung bình
A37: 24 | B37: 117725033 | C37: Nguyễn Thanh Vấn | E37: Nam | F37: 13/03/2007 | H37: 20 | I37: 20 | J37: 4 | K37: 15 | L37: 2 | M37: 61 | N37: Trung bình
A38: 25 | B38: 117725034 | C38: Nguyễn Văn Vinh | E38: Nam | F38: 30/10/2007 | H38: 20 | I38: 25 | J38: 15 | K38: 21 | L38: 7 | M38: 88 | N38: Tốt
A39: 26 | B39: 117725035 | C39: Phạm Ngọc Khánh Vy | E39: Nữ | F39: 11/06/2007 | M39: 0 | N39: Kém
A42: Danh sách trên có: 26 sinh viên | J42: TM. HỘI ĐỒNG XÉT ĐIỂM RÈN LUYỆN
J43: CHỦ TỊCH HỘI ĐỒNG
I51: xs | J51: tốt | K51: khá | L51: tb | M51: yếu | N51: kém
H52: =SUM(I52:N52) -> 26 | I52: =COUNTIF(N14:O39,"xuất sắc") -> 6 | J52: =COUNTIF(N14:O39,"tốt") -> 6 | K52: =COUNTIF(N14:O39,"khá") -> 5 | L52: =COUNTIF(N14:O39,"trung bình") -> 2 | M52: =COUNTIF(N14:O39,"yếu") -> 3 | N52: =COUNTIF(N14:O39,"kém") -> 4

Sheet DA25TS
J1: QT7.5/CTSV1-BM18
A2: ĐẠI HỌC TRÀ VINH | J2: CỘNG HOÀ XÃ HỘI CHỦ NGHĨA VIỆT NAM
A3: KHOA NÔNG NGHIỆP THỦY SẢN | J3: Độc lập - Tự do - Hạnh phúc
J5: Vĩnh Long, ngày 27 tháng 8 năm 2026
A7: BẢNG ĐÁNH GIÁ KẾT QUẢ RÈN LUYỆN CỦA SINH VIÊN, HỌC SINH
D8: Học kỳ: 2 Năm học: 2025 - 2026
D9: Tên lớp: ĐH Nuôi trồng Thủy sản 2025 , Bậc đào tạo: Đại học (DA25TS)
D10: Khoá: 2025 ; Hệ đào tạo: Chính qui
A12: STT | B12: MSSV | C12: HỌ VÀ TÊN | E12: PHÁI | F12: N.SINH | G12: D.TỘC | H12: ĐÁNH GIÁ ĐIỂM RÈN LUYỆN | M12: TỔNG | N12: X.LOẠI | P12: GHI CHÚ
H13: TC1 | I13: TC2 | J13: TC3 | K13: TC4 | L13: TC5
A14: 1 | B14: 110325001 | C14: Hồ Nhật Tinh Anh | E14: Nữ | F14: 19/10/2006 | H14: 20 | I14: 25 | J14: 20 | K14: 25 | L14: 7 | M14: 97 | N14: Xuất sắc
A15: 2 | B15: 110325002 | C15: Phạm Đình Duy Đan | E15: Nam | F15: 19/01/2001 | H15: 20 | I15: 25 | J15: 17 | K15: 24 | L15: 7 | M15: 93 | N15: Xuất sắc
A16: 3 | B16: 110325003 | C16: Võ Thị Xuân Đào | E16: Nữ | F16: 17/03/2007 | H16: 20 | I16: 20 | J16: 10 | K16: 21 | L16: 10 | M16: 81 | N16: Tốt
A17: 4 | B17: 110325004 | C17: Nguyễn Tiến Đạt | E17: Nam | F17: 18/05/2007 | M17: 0 | N17: Kém
A18: 5 | B18: 110325005 | C18: Nguyễn Văn Đạt | E18: Nam | F18: 15/09/2007 | H18: 10 | I18: 25 | J18: 10 | K18: 18 | L18: 5 | M18: 68 | N18: Khá
A19: 6 | B19: 110325007 | C19: Tăng Chí Dũng | E19: Nam | F19: 21/02/2007 | H19: 20 | I19: 20 | J19: 20 | K19: 20 | L19: 10 | M19: 90 | N19: Xuất sắc
A20: 7 | B20: 110325009 | C20: Lâm Nhật Hào | E20: Nam | F20: 22/04/2007 | H20: 18 | I20: 20 | J20: 2 | K20: 11 | L20: 2 | M20: 53 | N20: Trung bình
A21: 8 | B21: 110325010 | C21: Huỳnh Gia Hạo | E21: Nam | F21: 18/11/2007 | H21: 18 | I21: 25 | J21: 6 | K21: 16 | L21: 0 | M21: 65 | N21: Khá
A22: 9 | B22: 110325011 | C22: Kim Sóc Hêne | E22: Nam | F22: 11/08/2007 | H22: 18 | I22: 25 | J22: 4 | K22: 16 | L22: 2 | M22: 65 | N22: Khá
A23: 10 | B23: 110325012 | C23: Huỳnh Trung Hiếu | E23: Nam | F23: 05/11/2007 | H23: 20 | I23: 20 | J23: 8 | K23: 13 | L23: 5 | M23: 66 | N23: Khá
A24: 11 | B24: 110325013 | C24: Lê Chí Kha | E24: Nam | F24: 16/04/2007 | H24: 18 | I24: 25 | J24: 9 | K24: 21 | L24: 0 | M24: 73 | N24: Khá
A25: 12 | B25: 110325016 | C25: Nguyễn Minh Luân | E25: Nam | F25: 28/10/2007 | H25: 20 | I25: 25 | J25: 15 | K25: 18 | L25: 7 | M25: 85 | N25: Tốt
A26: 13 | B26: 110325017 | C26: Võ Thị Như Luyến | E26: Nữ | F26: 12/02/2007 | H26: 18 | I26: 20 | J26: 10 | K26: 10 | L26: 7 | M26: 65 | N26: Khá
A27: 14 | B27: 110325021 | C27: Nguyễn Thái Ngọc | E27: Nam | F27: 23/06/2005 | H27: 20 | I27: 20 | J27: 10 | K27: 9 | L27: 7 | M27: 66 | N27: Khá
A28: 15 | B28: 110325022 | C28: Đồ Võ Thiện Nhân | E28: Nam | F28: 12/01/2007 | M28: 0 | N28: Kém
A29: 16 | B29: 110325023 | C29: Cô Thị Tâm Như | E29: Nữ | F29: 18/08/2007 | H29: 18 | I29: 25 | J29: 5 | K29: 14 | L29: 5 | M29: 67 | N29: Khá
A30: 17 | B30: 110325024 | C30: Nguyễn Quỳnh Như | E30: Nữ | F30: 12/06/2007 | H30: 20 | I30: 25 | J30: 15 | K30: 24 | L30: 10 | M30: 94 | N30: Xuất sắc
A31: 18 | B31: 110325025 | C31: Lê Cẩm Nhung | E31: Nữ | F31: 27/03/2007 | H31: 18 | I31: 20 | J31: 10 | K31: 17 | L31: 2 | M31: 67 | N31: Khá
A32: 19 | B32: 110325026 | C32: Phan Trường Phi | E32: Nam | F32: 13/04/2007 | H32: 16 | I32: 25 | J32: 10 | K32: 16 | L32: 5 | M32: 72 | N32: Khá
A33: 20 | B33: 110325028 | C33: Nguyễn Văn Quý | E33: Nam | F33: 12/02/2007 | H33: 18 | I33: 25 | J33: 6 | K33: 21 | L33: 5 | M33: 75 | N33: Khá
A34: 21 | B34: 110325029 | C34: Nguyễn Văn Quý | E34: Nam | F34: 31/08/2007 | H34: 20 | I34: 25 | J34: 20 | K34: 24 | L34: 10 | M34: 99 | N34: Xuất sắc
A35: 22 | B35: 110325030 | C35: Nguyễn Phát Tài | E35: Nam | F35: 16/01/2006 | H35: 16 | I35: 14 | J35: 8 | K35: 9 | L35: 0 | M35: 47 | N35: Yếu
A36: 23 | B36: 110325031 | C36: Võ Thế Tạo | E36: Nam | F36: 23/01/2007 | M36: 0 | N36: Kém
A37: 24 | B37: 110325032 | C37: Huỳnh Thị Diễm Thi | E37: Nữ | F37: 11/04/2007 | H37: 18 | I37: 25 | J37: 10 | K37: 24 | L37: 7 | M37: 84 | N37: Tốt
A38: 25 | B38: 110325033 | C38: Thạch Lê Thượng | E38: Nam | F38: 04/12/2007 | H38: 20 | I38: 25 | J38: 0 | K38: 11 | L38: 10 | M38: 66 | N38: Khá
A39: 26 | B39: 110325035 | C39: Huỳnh Hửu Tín | E39: Nam | F39: 29/04/2007 | H39: 20 | I39: 25 | J39: 15 | K39: 24 | L39: 10 | M39: 94 | N39: Xuất sắc
A40: 27 | B40: 110325036 | C40: Bùi Thị Ngọc Trâm | E40: Nữ | F40: 29/06/2007 | M40: 0 | N40: Kém
A41: 28 | B41: 110325038 | C41: Huỳnh Ngọc Quang Trình | E41: Nam | F41: 07/10/2006 | H41: 16 | I41: 20 | J41: 15 | K41: 11 | L41: 5 | M41: 67 | N41: Khá
A42: 29 | B42: 110325039 | C42: Nguyễn Ngọc Thanh Trúc | E42: Nữ | F42: 14/10/2007 | H42: 16 | I42: 25 | J42: 16 | K42: 24 | L42: 10 | M42: 91 | N42: Xuất sắc
A43: 30 | B43: 110325040 | C43: Bùi Anh Tuấn | E43: Nam | F43: 05/05/2006 | M43: 0 | N43: Kém
A44: 31 | B44: 110325041 | C44: Lê Quốc Tỷ | E44: Nam | F44: 18/04/2007 | H44: 18 | I44: 20 | J44: 4 | K44: 16 | L44: 2 | M44: 60 | N44: Trung bình
A45: 32 | B45: 110325042 | C45: Phan Hoàng Vũ | E45: Nam | F45: 09/12/2007 | H45: 20 | I45: 25 | J45: 2 | K45: 22 | L45: 5 | M45: 74 | N45: Khá
A46: 33 | B46: 110325043 | C46: Mai Khánh Vy | E46: Nữ | F46: 23/06/2007 | H46: 20 | I46: 25 | J46: 20 | K46: 25 | L46: 10 | M46: 100 | N46: Xuất sắc
A47: 34 | B47: 110325044 | C47: Võ Như Ý | E47: Nữ | F47: 07/01/2007 | H47: 20 | I47: 25 | J47: 15 | K47: 24 | L47: 7 | M47: 91 | N47: Xuất sắc
A48: 35 | B48: 110325045 | C48: Diệp Lâm Gia Bảo | E48: Nam | F48: 11/01/2006 | M48: 0 | N48: Kém
A49: 36 | B49: 110325046 | C49: Nguyễn Anh Duy | E49: Nam | F49: 15/10/2007 | H49: 18 | I49: 25 | J49: 4 | K49: 17 | L49: 2 | M49: 66 | N49: Khá
A50: 37 | B50: 110325047 | C50: Nguỵ Hoàng Huy | E50: Nam | F50: 15/09/2004 | H50: 18 | I50: 25 | J50: 4 | K50: 16 | L50: 2 | M50: 65 | N50: Khá
A51: 38 | B51: 110325048 | C51: Lê Mạnh Huỳnh | E51: Nam | F51: 28/10/2003 | H51: 20 | I51: 25 | J51: 4 | K51: 12 | L51: 4 | M51: 65 | N51: Khá
A52: 39 | B52: 110325049 | C52: Nguyễn Quan Khải | E52: Nam | F52: 01/01/2004 | M52: 0 | N52: Kém
A53: 40 | B53: 110325050 | C53: Thạch Thị Ngọc Mẫn | E53: Nữ | F53: 18/06/2007 | M53: 0 | N53: Kém
A54: 41 | B54: 110325051 | C54: Lê Trọng Nghĩa | E54: Nam | F54: 23/06/2006 | H54: 20 | I54: 25 | J54: 17 | K54: 16 | L54: 3 | M54: 81 | N54: Tốt
A55: 42 | B55: 110325052 | C55: Võ Hoàng Phúc | E55: Nam | F55: 14/01/2006 | H55: 20 | I55: 22 | J55: 10 | K55: 15 | L55: 4 | M55: 71 | N55: Khá
A58: Danh sách trên có: 42 sinh viên | J58: TM. HỘI ĐỒNG XÉT ĐIỂM RÈN LUYỆN
J59: CHỦ TỊCH HỘI ĐỒNG
I66: xs | J66: tốt | K66: khá | L66: tb | M66: yếu | N66: kém
H67: =SUM(I67:N67) -> 42 | I67: =COUNTIF(N14:O55,"xuất sắc") -> 9 | J67: =COUNTIF(N14:O55,"tốt") -> 4 | K67: =COUNTIF(N14:O55,"khá") -> 18 | L67: =COUNTIF(N14:O55,"trung bình") -> 2 | M67: =COUNTIF(N14:O55,"yếu") -> 1 | N67: =COUNTIF(N14:O55,"kém") -> 8

Sheet DA25NN
J1: QT7.5/CTSV1-BM18
A2: ĐẠI HỌC TRÀ VINH | J2: CỘNG HOÀ XÃ HỘI CHỦ NGHĨA VIỆT NAM
A3: KHOA NÔNG NGHIỆP THỦY SẢN | J3: Độc lập - Tự do - Hạnh phúc
J5: Vĩnh Long, ngày 27 tháng 8 năm 2026
A7: BẢNG ĐÁNH GIÁ KẾT QUẢ RÈN LUYỆN CỦA SINH VIÊN, HỌC SINH
D8: Học kỳ: 2 Năm học: 2025 - 2026
D9: Tên lớp: ĐH Nông nghiệp 2025 , Bậc đào tạo: Đại học (DA25NN)
D10: Khoá: 2025 ; Hệ đào tạo: Chính qui
A12: STT | B12: MSSV | C12: HỌ VÀ TÊN | E12: PHÁI | F12: N.SINH | G12: D.TỘC | H12: ĐÁNH GIÁ ĐIỂM RÈN LUYỆN | M12: TỔNG | N12: X.LOẠI | P12: GHI CHÚ
H13: TC1 | I13: TC2 | J13: TC3 | K13: TC4 | L13: TC5
A14: 1 | B14: 114725001 | C14: Lê Mạnh Duy | E14: Nam | F14: 08/12/2007 | H14: 20 | I14: 25 | J14: 20 | K14: 13 | L14: 4 | M14: 82 | N14: Tốt
A15: 2 | B15: 114725002 | C15: Phạm Văn Giàu | E15: Nam | F15: 26/05/2007 | H15: 18 | I15: 25 | J15: 18 | K15: 24 | L15: 7 | M15: 92 | N15: Xuất sắc
A16: 3 | B16: 114725003 | C16: Nguyễn Chánh Hào | E16: Nam | F16: 13/11/2007 | H16: 20 | I16: 25 | J16: 15 | K16: 25 | L16: 6 | M16: 91 | N16: Xuất sắc
A17: 4 | B17: 114725004 | C17: Phan Minh Hào | E17: Nam | F17: 26/02/2007 | H17: 12 | I17: 14 | J17: 15 | K17: 18 | L17: 2 | M17: 61 | N17: Trung bình
A18: 5 | B18: 114725005 | C18: Thạch Hoàn Hảo | E18: Nam | F18: 28/08/2007 | M18: 0 | N18: Kém
A19: 6 | B19: 114725007 | C19: Thi Hoàng Khang | E19: Nam | F19: 05/03/2007 | M19: 0 | N19: Kém
A20: 7 | B20: 114725008 | C20: Trần Thị Thanh Lam | E20: Nữ | F20: 23/03/2007 | H20: 20 | I20: 25 | J20: 9 | K20: 25 | L20: 10 | M20: 89 | N20: Tốt
A21: 8 | B21: 114725011 | C21: Nguyễn Hữu Lợi | E21: Nam | F21: 16/01/2007 | M21: 0 | N21: Kém
A22: 9 | B22: 114725012 | C22: Nguyễn Tăng Minh Nguyên | E22: Nam | F22: 11/03/2007 | H22: 20 | I22: 25 | J22: 16 | K22: 25 | L22: 10 | M22: 96 | N22: Xuất sắc
A23: 10 | B23: 114725013 | C23: Trần Tâm Như | E23: Nữ | F23: 29/01/2007 | H23: 20 | I23: 25 | J23: 5 | K23: 24 | L23: 10 | M23: 84 | N23: Tốt
A24: 11 | B24: 114725014 | C24: Cao Hoài Phong | E24: Nam | F24: 19/05/2005 | H24: 20 | I24: 25 | J24: 20 | K24: 24 | L24: 10 | M24: 99 | N24: Xuất sắc
A25: 12 | B25: 114725015 | C25: Dương Thanh Quý | E25: Nam | F25: 12/08/2007 | H25: 20 | I25: 25 | J25: 16 | K25: 24 | L25: 2 | M25: 87 | N25: Tốt
A26: 13 | B26: 114725016 | C26: Kim Trần Vĩnh Thụy | E26: Nam | F26: 23/05/2007 | H26: 20 | I26: 25 | J26: 15 | K26: 21 | L26: 10 | M26: 91 | N26: Xuất sắc
A27: 14 | B27: 114725018 | C27: Đinh Quốc Tuấn | E27: Nam | F27: 21/01/2007 | H27: 20 | I27: 20 | J27: 14 | K27: 22 | L27: 0 | M27: 76 | N27: Khá
A28: 15 | B28: 114725019 | C28: Trần Thạch Hoàng Việt | E28: Nam | F28: 29/06/2007 | H28: 20 | I28: 25 | J28: 14 | K28: 9 | L28: 10 | M28: 78 | N28: Khá
A29: 16 | B29: 114725020 | C29: Trần Quang Vinh | E29: Nam | F29: 18/07/2007 | M29: 0 | N29: Kém
A30: 17 | B30: 114725021 | C30: Huỳnh Chí Tài | E30: Nam | F30: 23/07/2007 | M30: 0 | N30: Kém
A31: 18 | B31: 114725022 | C31: Kim Võ Duy Khang | E31: Nam | F31: 23/12/2007 | M31: 0 | N31: Kém
A34: Danh sách trên có: 18 sinh viên | J34: TM. HỘI ĐỒNG XÉT ĐIỂM RÈN LUYỆN
J35: CHỦ TỊCH HỘI ĐỒNG
I42: xs | J42: tốt | K42: khá | L42: tb | M42: yếu | N42: kém
H43: =SUM(I43:N43) -> 18 | I43: =COUNTIF(N14:O31,"xuất sắc") -> 5 | J43: =COUNTIF(N14:O31,"tốt") -> 4 | K43: =COUNTIF(N14:O31,"khá") -> 2 | L43: =COUNTIF(N14:O31,"trung bình") -> 1 | M43: =COUNTIF(N14:O31,"yếu") -> 0 | N43: =COUNTIF(N14:O31,"kém") -> 6

Sheet DA25BVTV
J1: QT7.5/CTSV1-BM18
A2: ĐẠI HỌC TRÀ VINH | J2: CỘNG HOÀ XÃ HỘI CHỦ NGHĨA VIỆT NAM
A3: KHOA NÔNG NGHIỆP THỦY SẢN | J3: Độc lập - Tự do - Hạnh phúc
J5: Vĩnh Long, ngày 27 tháng 8 năm 2026
A7: BẢNG ĐÁNH GIÁ KẾT QUẢ RÈN LUYỆN CỦA SINH VIÊN, HỌC SINH
D8: Học kỳ: 2 Năm học: 2025 - 2026
D9: Tên lớp: ĐH Bảo vệ thực vật 2025 , Bậc đào tạo: Đại học (DA25BVTV)
D10: Khoá: 2025 ; Hệ đào tạo: Chính qui
A12: STT | B12: MSSV | C12: HỌ VÀ TÊN | E12: PHÁI | F12: N.SINH | G12: D.TỘC | H12: ĐÁNH GIÁ ĐIỂM RÈN LUYỆN | M12: TỔNG | N12: X.LOẠI | P12: GHI CHÚ
H13: TC1 | I13: TC2 | J13: TC3 | K13: TC4 | L13: TC5
A14: 1 | B14: 111525001 | C14: Nguyễn Hoàng Ân | E14: Nam | F14: 09/02/2007 | H14: 20 | I14: 25 | J14: 13 | K14: 24 | L14: 10 | M14: 92 | N14: Xuất sắc
A15: 2 | B15: 111525003 | C15: Nguyễn Phạm Đăng Khôi | E15: Nam | F15: 22/02/2007 | H15: 20 | I15: 25 | J15: 10 | K15: 18 | L15: 7 | M15: 80 | N15: Tốt
A16: 3 | B16: 111525006 | C16: Chau Sốc Som Nang | E16: Nam | F16: 17/09/2007 | M16: 0 | N16: Kém
A17: 4 | B17: 111525007 | C17: Ngô Trần Thu Ngân | E17: Nữ | F17: 25/10/2007 | H17: 20 | I17: 25 | J17: 10 | K17: 3 | L17: 10 | M17: 68 | N17: Khá
A18: 5 | B18: 111525008 | C18: Nguyễn Thị Thúy Ngân | E18: Nữ | F18: 12/04/2007 | H18: 20 | I18: 25 | J18: 19 | K18: 24 | L18: 6 | M18: 94 | N18: Xuất sắc
A19: 6 | B19: 111525009 | C19: Lâm Gia Nghi | E19: Nữ | F19: 25/10/2007 | H19: 20 | I19: 25 | J19: 15 | K19: 18 | L19: 2 | M19: 80 | N19: Tốt
A20: 7 | B20: 111525010 | C20: Lê Chí Nguyên | E20: Nam | F20: 16/05/2007 | H20: 18 | I20: 25 | J20: 0 | K20: 15 | L20: 9 | M20: 67 | N20: Khá
A21: 8 | B21: 111525011 | C21: Võ Hiếu Nhân | E21: Nam | F21: 05/08/2005 | H21: 18 | I21: 25 | J21: 12 | K21: 3 | L21: 10 | M21: 68 | N21: Khá
A22: 9 | B22: 111525015 | C22: Thạch Vinh Quang | E22: Nam | F22: 27/08/2007 | H22: 20 | I22: 25 | J22: 10 | K22: 15 | L22: 2 | M22: 72 | N22: Khá
A23: 10 | B23: 111525016 | C23: Nguyễn Thị Hoàng Quyên | E23: Nữ | F23: 30/05/2007 | H23: 0 | I23: 0 | J23: 0 | K23: 0 | L23: 0 | M23: 0 | N23: Kém
A24: 11 | B24: 111525017 | C24: Néang Ô Ra | E24: Nữ | F24: 24/12/2007 | H24: 20 | I24: 20 | J24: 10 | K24: 25 | L24: 0 | M24: 75 | N24: Khá
A25: 12 | B25: 111525018 | C25: Chau Nấp Sô Quanh Na Rốth | E25: Nam | F25: 14/01/2007 | H25: 0 | I25: 0 | J25: 0 | K25: 0 | L25: 0 | M25: 0 | N25: Kém
A26: 13 | B26: 111525019 | C26: Trương Thị Hồng Thắm | E26: Nữ | F26: 30/09/2007 | H26: 18 | I26: 25 | J26: 20 | K26: 20 | L26: 2 | M26: 85 | N26: Tốt
A27: 14 | B27: 111525021 | C27: Lê Đình Hoàng Vy | E27: Nữ | F27: 09/10/2007 | H27: 20 | I27: 20 | J27: 20 | K27: 15 | L27: 10 | M27: 85 | N27: Tốt
A28: 15 | B28: 111525022 | C28: Thạch Thị Hồng Thắm | E28: Nữ | F28: 02/03/2007 | H28: 20 | I28: 25 | J28: 15 | K28: 21 | L28: 2 | M28: 83 | N28: Tốt
A29: 16 | B29: 111525023 | C29: Huỳnh Thanh Thức | E29: Nam | F29: 12/11/2006 | H29: 20 | I29: 25 | J29: 10 | K29: 25 | L29: 7 | M29: 87 | N29: Tốt
A32: Danh sách trên có: 16 sinh viên | J32: TM. HỘI ĐỒNG XÉT ĐIỂM RÈN LUYỆN
J33: CHỦ TỊCH HỘI ĐỒNG
I39: xs | J39: tốt | K39: khá | L39: tb | M39: yếu | N39: kém
H40: =SUM(I40:N40) -> 16 | I40: =COUNTIF(N14:O29,"xuất sắc") -> 2 | J40: =COUNTIF(N14:O29,"tốt") -> 6 | K40: =COUNTIF(N14:O29,"khá") -> 5 | L40: =COUNTIF(N14:O29,"trung bình") -> 0 | M40: =COUNTIF(N14:O29,"yếu") -> 0 | N40: =COUNTIF(N14:O29,"kém") -> 3

Sheet DA25CNTP
J1: QT7.5/CTSV1-BM18
A2: ĐẠI HỌC TRÀ VINH | J2: CỘNG HOÀ XÃ HỘI CHỦ NGHĨA VIỆT NAM
A3: KHOA NÔNG NGHIỆP THỦY SẢN | J3: Độc lập - Tự do - Hạnh phúc
J5: Vĩnh Long, ngày 27 tháng 5 năm 2026
A6: BẢNG ĐÁNH GIÁ KẾT QUẢ RÈN LUYỆN CỦA SINH VIÊN, HỌC SINH
D7: Học kỳ: 1 Năm học: 2025 - 2026
D8: Tên lớp: ĐH Công nghệ thực phẩm 2025 , Bậc đào tạo: Đại học (DA25CNTP)
D9: Khoá: 2025 ; Hệ đào tạo: Chính qui
A11: STT | B11: MSSV | C11: HỌ VÀ TÊN | E11: PHÁI | F11: N.SINH | G11: D.TỘC | H11: ĐÁNH GIÁ ĐIỂM RÈN LUYỆN | M11: TỔNG | N11: X.LOẠI | P11: GHI CHÚ
H12: TC1 | I12: TC2 | J12: TC3 | K12: TC4 | L12: TC5
A13: 1
A14: 2
A15: 3
A16: 4
A17: 5
A18: 6
A19: 7
A20: 8
A21: 9
A22: 10
A23: 11
A24: 12
... A60: 48
A62: Danh sách trên có: 48 sinh viên | J62: TM. HỘI ĐỒNG XÉT ĐIỂM RÈN LUYỆN
J63: CHỦ TỊCH HỘI ĐỒNG
I74: xs | J74: tốt | K74: khá | L74: tb | M74: yếu | N74: kém
H75: =SUM(I75:N75) -> 0 | I75: =COUNTIF(N13:O60,"xuất sắc") -> 0 | J75: =COUNTIF(N13:O60,"tốt") -> 0 | K75: =COUNTIF(N13:O60,"khá") -> 0 | L75: =COUNTIF(N13:O60,"trung bình") -> 0 | M75: =COUNTIF(N13:O60,"yếu") -> 0 | N75: =COUNTIF(N13:O60,"kém") -> 0

Sheet TY LE
O1: Phụ lục 3
A2: TRƯỜNG ĐẠI HỌC TRÀ VINH | F2: CỘNG HÒA XÃ HỘI CHỦ NGHĨA VIỆT NAM
A3: KHOA NÔNG NGHIỆP - THỦY SẢN | F3: Độc lập - Tự do - Hạnh phúc
G5: Vĩnh Long, ngày tháng 10 năm 2025
A6: DANH SÁCH CÁC LỚP THUỘC KHOA NÔNG NGHIỆP - THỦY SẢN
A7: ĐƯỢC XÉT CÔNG NHẬN KẾT QUẢ RÈN LUYỆN HỌC KỲ II, NĂM HỌC 2024-2025
A9: Đính kèm Quyết định số:……../QĐ-NNTS, ngày tháng 10 năm 2025 của Trưởng Khoa Nông nghiệp - Thủy sản
A11: TT | B11: DANH SÁCH LỚP | C11: SĨ SỐ | D11: XUẤT SẮC | F11: TỐT | H11: KHÁ | J11: TRUNG BÌNH | L11: YẾU | N11: KÉM | P11: GHI CHÚ nghỉ/bảo lưu
D12: SL | E12: Tỉ lệ % | F12: SL | G12: Tỉ lệ % | H12: SL | I12: Tỉ lệ % | J12: SL | K12: Tỉ lệ % | L12: SL | M12: Tỉ lệ % | N12: SL | O12: Tỉ lệ %
A13: 1 | B13: DA21TYA | C13: =D13+F13+H13+J13+L13+N13 -> #REF! | D13: ='THONG KE'!#REF! -> #REF! | E13: =D13/C13*100 -> #REF! | F13: ='THONG KE'!#REF! -> #REF! | G13: =F13/C13*100 -> #REF! | H13: ='THONG KE'!#REF! -> #REF! | I13: =H13/C13*100 -> #REF! | J13: ='THONG KE'!#REF! -> #REF! | K13: =J13/C13*100 -> #REF! | L13: ='THONG KE'!#REF! -> #REF! | M13: =L13/C13*100 -> #REF! | N13: ='THONG KE'!#REF! -> #REF! | O13: =N13/C13*100 -> #REF! | P13: =N13 -> #REF! | R13: =E13+G13+I13+K13+M13+O13 -> #REF!
A14: 2 | B14: DA21TYB | C14: =D14+F14+H14+J14+L14+N14 -> #REF! | D14: ='THONG KE'!#REF! -> #REF! | E14: =D14/C14*100 -> #REF! | F14: ='THONG KE'!#REF! -> #REF! | G14: =F14/C14*100 -> #REF! | H14: ='THONG KE'!#REF! -> #REF! | I14: =H14/C14*100 -> #REF! | J14: ='THONG KE'!#REF! -> #REF! | K14: =J14/C14*100 -> #REF! | L14: ='THONG KE'!#REF! -> #REF! | M14: =L14/C14*100 -> #REF! | N14: ='THONG KE'!#REF! -> #REF! | O14: =N14/C14*100 -> #REF! | P14: =N14 -> #REF! | R14: =E14+G14+I14+K14+M14+O14 -> #REF!
A15: 3 | B15: DA21TYC | C15: =D15+F15+H15+J15+L15+N15 -> #REF! | D15: ='THONG KE'!#REF! -> #REF! | E15: =D15/C15*100 -> #REF! | F15: ='THONG KE'!#REF! -> #REF! | G15: =F15/C15*100 -> #REF! | H15: ='THONG KE'!#REF! -> #REF! | I15: =H15/C15*100 -> #REF! | J15: ='THONG KE'!#REF! -> #REF! | K15: =J15/C15*100 -> #REF! | L15: ='THONG KE'!#REF! -> #REF! | M15: =L15/C15*100 -> #REF! | N15: ='THONG KE'!#REF! -> #REF! | O15: =N15/C15*100 -> #REF! | P15: =N15 -> #REF! | R15: =E15+G15+I15+K15+M15+O15 -> #REF!
A16: 4 | B16: DA22TYA | C16: =D16+F16+H16+J16+L16+N16 -> 38 | D16: ='THONG KE'!E3 -> 0 | E16: =D16/C16*100 -> 0 | F16: ='THONG KE'!F3 -> 0 | G16: =F16/C16*100 -> 0 | H16: ='THONG KE'!G3 -> 27 | I16: =H16/C16*100 -> 71.052632 | J16: ='THONG KE'!H3 -> 10 | K16: =J16/C16*100 -> 26.315789 | L16: ='THONG KE'!I3 -> 0 | M16: =L16/C16*100 -> 0 | N16: ='THONG KE'!J3 -> 1 | O16: =N16/C16*100 -> 2.6315789 | P16: =N16 -> 1 | R16: =E16+G16+I16+K16+M16+O16 -> 100
A17: 5 | B17: DA22TYB | C17: =D17+F17+H17+J17+L17+N17 -> 53 | D17: ='THONG KE'!E4 -> 10 | E17: =D17/C17*100 -> 18.867925 | F17: ='THONG KE'!F4 -> 18 | G17: =F17/C17*100 -> 33.962264 | H17: ='THONG KE'!G4 -> 14 | I17: =H17/C17*100 -> 26.415094 | J17: ='THONG KE'!H4 -> 3 | K17: =J17/C17*100 -> 5.6603774 | L17: ='THONG KE'!I4 -> 1 | M17: =L17/C17*100 -> 1.8867925 | N17: ='THONG KE'!J4 -> 7 | O17: =N17/C17*100 -> 13.207547 | P17: =N17 -> 7 | R17: =E17+G17+I17+K17+M17+O17 -> 100
A18: 6 | B18: DA23TYA | C18: =D18+F18+H18+J18+L18+N18 -> 35 | D18: ='THONG KE'!E5 -> 20 | E18: =D18/C18*100 -> 57.142857 | F18: ='THONG KE'!F5 -> 6 | G18: =F18/C18*100 -> 17.142857 | H18: ='THONG KE'!G5 -> 8 | I18: =H18/C18*100 -> 22.857143 | J18: ='THONG KE'!H5 -> 1 | K18: =J18/C18*100 -> 2.8571429 | L18: ='THONG KE'!I5 -> 0 | M18: =L18/C18*100 -> 0 | N18: ='THONG KE'!J5 -> 0 | O18: =N18/C18*100 -> 0 | P18: =N18 -> 0 | R18: =E18+G18+I18+K18+M18+O18 -> 100
A19: 7 | B19: DA23TYB | C19: =D19+F19+H19+J19+L19+N19 -> 41 | D19: ='THONG KE'!E6 -> 8 | E19: =D19/C19*100 -> 19.512195 | F19: ='THONG KE'!F6 -> 24 | G19: =F19/C19*100 -> 58.536585 | H19: ='THONG KE'!G6 -> 4 | I19: =H19/C19*100 -> 9.7560976 | J19: ='THONG KE'!H6 -> 0 | K19: =J19/C19*100 -> 0 | L19: ='THONG KE'!I6 -> 0 | M19: =L19/C19*100 -> 0 | N19: ='THONG KE'!J6 -> 5 | O19: =N19/C19*100 -> 12.195122 | P19: =N19 -> 5 | R19: =E19+G19+I19+K19+M19+O19 -> 100
A20: 8 | B20: DA23TYC | C20: =D20+F20+H20+J20+L20+N20 -> 35 | D20: ='THONG KE'!E7 -> 3 | E20: =D20/C20*100 -> 8.5714286 | F20: ='THONG KE'!F7 -> 21 | G20: =F20/C20*100 -> 60 | H20: ='THONG KE'!G7 -> 10 | I20: =H20/C20*100 -> 28.571429 | J20: ='THONG KE'!H7 -> 0 | K20: =J20/C20*100 -> 0 | L20: ='THONG KE'!I7 -> 0 | M20: =L20/C20*100 -> 0 | N20: ='THONG KE'!J7 -> 1 | O20: =N20/C20*100 -> 2.8571429 | P20: =N20 -> 1 | R20: =E20+G20+I20+K20+M20+O20 -> 100
A21: 9 | B21: DA24TYA | C21: =D21+F21+H21+J21+L21+N21 -> 41 | D21: ='THONG KE'!E8 -> 6 | E21: =D21/C21*100 -> 14.634146 | F21: ='THONG KE'!F8 -> 16 | G21: =F21/C21*100 -> 39.02439 | H21: ='THONG KE'!G8 -> 12 | I21: =H21/C21*100 -> 29.268293 | J21: ='THONG KE'!H8 -> 7 | K21: =J21/C21*100 -> 17.073171 | L21: ='THONG KE'!I8 -> 0 | M21: =L21/C21*100 -> 0 | N21: ='THONG KE'!J8 -> 0 | O21: =N21/C21*100 -> 0 | P21: =N21 -> 0 | R21: =E21+G21+I21+K21+M21+O21 -> 100
A22: 10 | B22: DA24TYB | C22: =D22+F22+H22+J22+L22+N22 -> 44 | D22: ='THONG KE'!E9 -> 9 | E22: =D22/C22*100 -> 20.454545 | F22: ='THONG KE'!F9 -> 11 | G22: =F22/C22*100 -> 25 | H22: ='THONG KE'!G9 -> 15 | I22: =H22/C22*100 -> 34.090909 | J22: ='THONG KE'!H9 -> 4 | K22: =J22/C22*100 -> 9.0909091 | L22: ='THONG KE'!I9 -> 0 | M22: =L22/C22*100 -> 0 | N22: ='THONG KE'!J9 -> 5 | O22: =N22/C22*100 -> 11.363636 | P22: =N22 -> 5 | R22: =E22+G22+I22+K22+M22+O22 -> 100
A23: 11 | B23: DA24TYC | C23: =D23+F23+H23+J23+L23+N23 -> 46 | D23: ='THONG KE'!E10 -> 7 | E23: =D23/C23*100 -> 15.217391 | F23: ='THONG KE'!F10 -> 9 | G23: =F23/C23*100 -> 19.565217 | H23: ='THONG KE'!G10 -> 7 | I23: =H23/C23*100 -> 15.217391 | J23: ='THONG KE'!H10 -> 0 | K23: =J23/C23*100 -> 0 | L23: ='THONG KE'!I10 -> 0 | M23: =L23/C23*100 -> 0 | N23: ='THONG KE'!J10 -> 23 | O23: =N23/C23*100 -> 50 | P23: =N23 -> 23 | R23: =E23+G23+I23+K23+M23+O23 -> 100
A24: 12 | B24: DA25TYA | C24: =D24+F24+H24+J24+L24+N24 -> 59 | D24: ='THONG KE'!E11 -> 14 | E24: =D24/C24*100 -> 23.728814 | F24: ='THONG KE'!F11 -> 20 | G24: =F24/C24*100 -> 33.898305 | H24: ='THONG KE'!G11 -> 12 | I24: =H24/C24*100 -> 20.338983 | J24: ='THONG KE'!H11 -> 4 | K24: =J24/C24*100 -> 6.779661 | L24: ='THONG KE'!I11 -> 0 | M24: =L24/C24*100 -> 0 | N24: ='THONG KE'!J11 -> 9 | O24: =N24/C24*100 -> 15.254237 | P24: =N24 -> 9 | R24: =E24+G24+I24+K24+M24+O24 -> 100
A25: 13 | B25: DA25TYB | C25: =D25+F25+H25+J25+L25+N25 -> 55 | D25: ='THONG KE'!E12 -> 11 | E25: =D25/C25*100 -> 20 | F25: ='THONG KE'!F12 -> 11 | G25: =F25/C25*100 -> 20 | H25: ='THONG KE'!G12 -> 30 | I25: =H25/C25*100 -> 54.545455 | J25: ='THONG KE'!H12 -> 0 | K25: =J25/C25*100 -> 0 | L25: ='THONG KE'!I12 -> 0 | M25: =L25/C25*100 -> 0 | N25: ='THONG KE'!J12 -> 3 | O25: =N25/C25*100 -> 5.4545455 | P25: =N25 -> 3 | R25: =E25+G25+I25+K25+M25+O25 -> 100
A26: 14 | B26: DA25TYC | C26: =D26+F26+H26+J26+L26+N26 -> 48 | D26: ='THONG KE'!E13 -> 10 | E26: =D26/C26*100 -> 20.833333 | F26: ='THONG KE'!F13 -> 13 | G26: =F26/C26*100 -> 27.083333 | H26: ='THONG KE'!G13 -> 11 | I26: =H26/C26*100 -> 22.916667 | J26: ='THONG KE'!H13 -> 9 | K26: =J26/C26*100 -> 18.75 | L26: ='THONG KE'!I13 -> 0 | M26: =L26/C26*100 -> 0 | N26: ='THONG KE'!J13 -> 5 | O26: =N26/C26*100 -> 10.416667 | P26: =N26 -> 5 | R26: =E26+G26+I26+K26+M26+O26 -> 100
A27: 15 | B27: DA22CNSH | C27: =D27+F27+H27+J27+L27+N27 -> 9 | D27: ='THONG KE'!E14 -> 0 | E27: =D27/C27*100 -> 0 | F27: ='THONG KE'!F14 -> 2 | G27: =F27/C27*100 -> 22.222222 | H27: ='THONG KE'!G14 -> 2 | I27: =H27/C27*100 -> 22.222222 | J27: ='THONG KE'!H14 -> 0 | K27: =J27/C27*100 -> 0 | L27: ='THONG KE'!I14 -> 0 | M27: =L27/C27*100 -> 0 | N27: ='THONG KE'!J14 -> 5 | O27: =N27/C27*100 -> 55.555556 | P27: =N27 -> 5 | R27: =E27+G27+I27+K27+M27+O27 -> 100
... A40: 28 | B40: DA25CNTP | C40: =D40+F40+H40+J40+L40+N40 -> 0 | D40: ='THONG KE'!E27 -> 0 | E40: =D40/C40*100 -> #DIV/0! | F40: ='THONG KE'!F27 -> 0 | G40: =F40/C40*100 -> #DIV/0! | H40: ='THONG KE'!G27 -> 0 | I40: =H40/C40*100 -> #DIV/0! | J40: ='THONG KE'!H27 -> 0 | K40: =J40/C40*100 -> #DIV/0! | L40: ='THONG KE'!I27 -> 0 | M40: =L40/C40*100 -> #DIV/0! | N40: ='THONG KE'!J27 -> 0 | O40: =N40/C40*100 -> #DIV/0! | P40: =N40 -> 0 | R40: =E40+G40+I40+K40+M40+O40 -> #DIV/0!
A41: 30 | B41: DA23TSA | C41: =D41+F41+H41+J41+L41+N41 -> 30 | D41: ='THONG KE'!E30 -> 2 | E41: =D41/C41*100 -> 6.6666667 | F41: ='THONG KE'!F30 -> 3 | G41: =F41/C41*100 -> 10 | H41: ='THONG KE'!G30 -> 17 | I41: =H41/C41*100 -> 56.666667 | J41: ='THONG KE'!H30 -> 4 | K41: =J41/C41*100 -> 13.333333 | L41: ='THONG KE'!I30 -> 0 | M41: =L41/C41*100 -> 0 | N41: ='THONG KE'!J30 -> 4 | O41: =N41/C41*100 -> 13.333333 | P41: =N41 -> 4 | R41: =E41+G41+I41+K41+M41+O41 -> 100
A42: 31 | B42: DA23TSB | C42: =D42+F42+H42+J42+L42+N42 -> 26 | D42: ='THONG KE'!E31 -> 2 | E42: =D42/C42*100 -> 7.6923077 | F42: ='THONG KE'!F31 -> 2 | G42: =F42/C42*100 -> 7.6923077 | H42: ='THONG KE'!G31 -> 16 | I42: =H42/C42*100 -> 61.538462 | J42: ='THONG KE'!H31 -> 5 | K42: =J42/C42*100 -> 19.230769 | L42: ='THONG KE'!I31 -> 0 | M42: =L42/C42*100 -> 0 | N42: ='THONG KE'!J31 -> 1 | O42: =N42/C42*100 -> 3.8461538 | P42: =N42 -> 1 | R42: =E42+G42+I42+K42+M42+O42 -> 100
A43: 32 | B43: DA24TS | C43: =D43+F43+H43+J43+L43+N43 -> 38 | D43: ='THONG KE'!E32 -> 4 | E43: =D43/C43*100 -> 10.526316 | F43: ='THONG KE'!F32 -> 9 | G43: =F43/C43*100 -> 23.684211 | H43: ='THONG KE'!G32 -> 21 | I43: =H43/C43*100 -> 55.263158 | J43: ='THONG KE'!H32 -> 1 | K43: =J43/C43*100 -> 2.6315789 | L43: ='THONG KE'!I32 -> 0 | M43: =L43/C43*100 -> 0 | N43: ='THONG KE'!J32 -> 3 | O43: =N43/C43*100 -> 7.8947368 | P43: =N43 -> 3 | R43: =E43+G43+I43+K43+M43+O43 -> 100
A44: 33 | B44: DA25TS | C44: =D44+F44+H44+J44+L44+N44 -> 42 | D44: ='THONG KE'!E33 -> 9 | E44: =D44/C44*100 -> 21.428571 | F44: ='THONG KE'!F33 -> 4 | G44: =F44/C44*100 -> 9.5238095 | H44: ='THONG KE'!G33 -> 18 | I44: =H44/C44*100 -> 42.857143 | J44: ='THONG KE'!H33 -> 2 | K44: =J44/C44*100 -> 4.7619048 | L44: ='THONG KE'!I33 -> 1 | M44: =L44/C44*100 -> 2.3809524 | N44: ='THONG KE'!J33 -> 8 | O44: =N44/C44*100 -> 19.047619 | P44: =N44 -> 8 | R44: =E44+G44+I44+K44+M44+O44 -> 100
B45: Tổng | C45: =SUM(C13:C44) -> #REF! | D45: =SUM(D13:D44) -> #REF! | E45: =D45/C45*100 -> #REF! | F45: =SUM(F13:F44) -> #REF! | G45: =F45/C45*100 -> #REF! | H45: =SUM(H13:H44) -> #REF! | I45: =H45/C45*100 -> #REF! | J45: =SUM(J13:J44) -> #REF! | K45: =J45/C45*100 -> #REF! | L45: =SUM(L13:L44) -> #REF! | M45: =L45/C45*100 -> #REF! | N45: =SUM(N13:N44) -> #REF! | O45: =N45/C45*100 -> #REF! | P45: =SUM(P13:P44) -> #REF! | R45: =E45+G45+I45+K45+M45+O45 -> #REF!
Q46: =SUM(D45,F45,H45,J45,L45,N45) -> #REF! | S46: =SUM(D45,F45,H45,J45,L45,N45) -> #REF!
B47: P. TRƯỞNG KHOA | K47: LẬP BẢNG | S47: =SUM(S46-P45) -> #REF!
K52: Ngô Văn Nin
